BEGIN:VCALENDAR
VERSION:2.0
PRODID:-//SNETP - ECPv6.15.12.1//NONSGML v1.0//EN
CALSCALE:GREGORIAN
METHOD:PUBLISH
X-WR-CALNAME:SNETP
X-ORIGINAL-URL:https://snetp.eu
X-WR-CALDESC:Events for SNETP
REFRESH-INTERVAL;VALUE=DURATION:PT1H
X-Robots-Tag:noindex
X-PUBLISHED-TTL:PT1H
BEGIN:VTIMEZONE
TZID:Europe/Paris
BEGIN:DAYLIGHT
TZOFFSETFROM:+0100
TZOFFSETTO:+0200
TZNAME:CEST
DTSTART:20240331T010000
END:DAYLIGHT
BEGIN:STANDARD
TZOFFSETFROM:+0200
TZOFFSETTO:+0100
TZNAME:CET
DTSTART:20241027T010000
END:STANDARD
BEGIN:DAYLIGHT
TZOFFSETFROM:+0100
TZOFFSETTO:+0200
TZNAME:CEST
DTSTART:20250330T010000
END:DAYLIGHT
BEGIN:STANDARD
TZOFFSETFROM:+0200
TZOFFSETTO:+0100
TZNAME:CET
DTSTART:20251026T010000
END:STANDARD
BEGIN:DAYLIGHT
TZOFFSETFROM:+0100
TZOFFSETTO:+0200
TZNAME:CEST
DTSTART:20260329T010000
END:DAYLIGHT
BEGIN:STANDARD
TZOFFSETFROM:+0200
TZOFFSETTO:+0100
TZNAME:CET
DTSTART:20261025T010000
END:STANDARD
END:VTIMEZONE
BEGIN:VEVENT
DTSTART;VALUE=DATE:20250630
DTEND;VALUE=DATE:20250705
DTSTAMP:20260419T185846
CREATED:20250129T193927Z
LAST-MODIFIED:20250129T193927Z
UID:9194-1751241600-1751673599@snetp.eu
SUMMARY:Severe Accident Summer Camp (SASCamp2025)
DESCRIPTION:This edition of the Short Course on Severe Accident Phenomenology (SAP2025) will take place from Monday 23 to Friday 27 June 2025 at FZJ Jülich (Germany) and followed by the first edition of the Severe Accident Summer Camp (SASCAMP2025) in June 30 – July 4\, 2025. Both events are organized in the framework ofthe SEAKNOT Euratom project on “Severe accident research and knowledge management for LWRs”. \nThe Severe Accident Phenomelogy (SAP) short course is based on the knowledge gained on Severe Accident in the last three decades. The main purpose is to transfer it to M.Sc.‐Ph.D. students\, engineers and researchers recently involved in the study of severe accidents.\nThis SAP 2025 edition follows the 2023 SAP Course held in Madrid\, which was the first public event under the EURATOM SEAKNOT project. It also continues the tradition of the previous NUGENIA TA2 editions held in Bologna (2021\, online)\, Cadarache (2019)\, and Ljubljana (2017). In this edition\, updated and extended contents will be presented again face‐to‐face. The program will cover severe accident phenomenology\, progression and mitigation in current and future advance water reactors (Generation 2\, 3\, 3+\, SMRs). Severe accident codes and their uncertainties will be also addressed. A special focus will be done on the Fukishima-Daiichi severely damaged reactors and their decommissioning. \nAs in the specific objectives of the SEAKNOT project\, reputed scientists and engineers will be lecturing beyond what’s written in books\, papers and reports\, so that not just their knowledge but also their expertise\, is passed to young generation of students\, engineers and researchers in the severe accident field. What’s even as important\, enough time will be planned for questions-and-answers and networking during the course. \nThe course and summer camp will be open to University students with special fees (few scholarships will be made available upon request) \nLatest updates\n\nENEN is kindly supporting 10 participants with a lumped sum of 900€ each. You can apply here via ‘Individuals applying for group applications’ and select ‘Severe Accident Phenomenology short course’. This application is complementary to a (existing) registration and subject to the funding rules of ENEN.\nRegistration is now open\, please register until January 31st 2025 for early bird discount\n(in total 52 seats remaining for SAP and 12 seats for SASCAMP. Registrations are handled on a first come\, first serve basis)
URL:https://snetp.eu/event/severe-accident-summer-camp-sascamp2025/
LOCATION:Jülich\, Germany
CATEGORIES:Project events
END:VEVENT
BEGIN:VEVENT
DTSTART;VALUE=DATE:20250702
DTEND;VALUE=DATE:20250703
DTSTAMP:20260419T185846
CREATED:20250506T101209Z
LAST-MODIFIED:20250506T101311Z
UID:9624-1751414400-1751500799@snetp.eu
SUMMARY:TANDEM project final conference
DESCRIPTION:TANDEM partners are delighted to invite you to the project’s final conference\, which will take place on 2 July 2025 in Brussels. \nThe three-year TANDEM project\, which aims to develop methodologies and tools to facilitate the safe and efficient integration of Small Modular Reactors (SMRs) into smart low-carbon hybrid energy systems\, will come to an end in August 2025. This conference aims to present the main outcomes of the project. \nOverview \nThe morning sessions will cover high-level policy messages on the role of SMRs in the EU energy system\, and the conditions for their development in the EU. It will tackle issues related to skills\, workforce needs\, and stakeholder engagement. The TANDEM policy briefs will also be presented \nThe afternoon will focus on the technical results of the project\, through the presentation of its modelling approach and techno-economics analyses. It will also cover the extension of the conventional safety approach to assess nuclear hybridisation and cogeneration. \nRead more \nThis conference is open to all stakeholders interested in the integration of SMRs within hybrid energy systems and the production of heat\, electricity and hydrogen. It has been designed to share the main outomes of the project and to engage in a constructive dialogue with EU & national policy makers and regulators\, as well as representatives from the broader energy sector\, energy intensive industries\, R&D community and NGOs. \nRegister now
URL:https://snetp.eu/event/tandem-project-final-conference/
LOCATION:Brussels\, Belgium
CATEGORIES:Conferences,Project events
END:VEVENT
BEGIN:VEVENT
DTSTART;VALUE=DATE:20250709
DTEND;VALUE=DATE:20250711
DTSTAMP:20260419T185846
CREATED:20250702T095746Z
LAST-MODIFIED:20250702T141834Z
UID:9868-1752019200-1752191999@snetp.eu
SUMMARY:NUGENIA Meeting
DESCRIPTION:For NUGENIA members. \nThe next NUGENIA meeting will be held in Madrid and online for a two-day event on 9–10 July\, focused on collaborative discussions and presentations across all Technical Areas (TAs) of the NUGENIA community. \nThe agenda includes round-table exchanges\, in-depth TA updates\, project showcases\, and strategic brainstorming on upcoming EURATOM calls. Highlights include lab visits\, a tour of the TJ-II fusion device\, and dedicated sessions on cross-cutting innovation topics. Attendance at the meeting is restricted to members of Nugenia within SNETP.
URL:https://snetp.eu/event/nugenia-meeting/
LOCATION:Madrid\, Spain
CATEGORIES:SNETP events
END:VEVENT
END:VCALENDAR