BEGIN:VCALENDAR
VERSION:2.0
PRODID:-//SNETP - ECPv6.15.12.1//NONSGML v1.0//EN
CALSCALE:GREGORIAN
METHOD:PUBLISH
X-ORIGINAL-URL:https://snetp.eu
X-WR-CALDESC:Events for SNETP
REFRESH-INTERVAL;VALUE=DURATION:PT1H
X-Robots-Tag:noindex
X-PUBLISHED-TTL:PT1H
BEGIN:VTIMEZONE
TZID:Europe/Paris
BEGIN:DAYLIGHT
TZOFFSETFROM:+0100
TZOFFSETTO:+0200
TZNAME:CEST
DTSTART:20240331T010000
END:DAYLIGHT
BEGIN:STANDARD
TZOFFSETFROM:+0200
TZOFFSETTO:+0100
TZNAME:CET
DTSTART:20241027T010000
END:STANDARD
BEGIN:DAYLIGHT
TZOFFSETFROM:+0100
TZOFFSETTO:+0200
TZNAME:CEST
DTSTART:20250330T010000
END:DAYLIGHT
BEGIN:STANDARD
TZOFFSETFROM:+0200
TZOFFSETTO:+0100
TZNAME:CET
DTSTART:20251026T010000
END:STANDARD
BEGIN:DAYLIGHT
TZOFFSETFROM:+0100
TZOFFSETTO:+0200
TZNAME:CEST
DTSTART:20260329T010000
END:DAYLIGHT
BEGIN:STANDARD
TZOFFSETFROM:+0200
TZOFFSETTO:+0100
TZNAME:CET
DTSTART:20261025T010000
END:STANDARD
END:VTIMEZONE
BEGIN:VEVENT
DTSTART;VALUE=DATE:20250331
DTEND;VALUE=DATE:20250404
DTSTAMP:20260419T235414
CREATED:20250124T164735Z
LAST-MODIFIED:20250124T164735Z
UID:9175-1743379200-1743724799@snetp.eu
SUMMARY:GO-VIKING: Lecture Series “Fluid-Structure Interaction for Nuclear Applications”
DESCRIPTION:Fluid-structure interaction (FSI) is essential in many industrial applications and is actively studied in the nuclear sector. Knowledge and understanding of FSI and Fluid-Induced Vibration (FIV) are critical to estimating the lifetime of the different components (pipelines\, heat exchangers\, turbines\, etc.) concerning fatigue\, cracking\, possible failure modes\, and mechanical wear. Recently\, the use of numerical tools to simulate FIV has received large interest due to the availability of more computational resources and the necessity to analyze complex configurations with more details. This Lecture Series aims to provide a detailed background to welcome novices in the field and a comprehensive overview of recent developments of computational FSI in various industrial applications. \n  \nOver the course of four days\, several well-known experts from around the world\, most of them involved in the EU-funded GO-VIKING project\, will explore important topics related to FSI in order to understand and study FIV in different applications. Additionally\, an interactive panel discussion will offer insight into the perspectives of industry leaders on the challenges and solutions related to FIV in nuclear applications. \n  \nThis Lecture Series has been organized in the context of the GO-VIKING project\, which has received funding from the European Union’s Euratom research and innovation programme under grant agreement No 101059603. \n  \nAgenda: VKI Lecture Series\n31 March-03 April 2025\nDay 1 – Monday\, 31/03/25 \n08:30-09:00 Registration \n09:00-09:15 Welcome Address\nVKI Director The von Karman Institute for Fluid Dynamics (VKI)\, Belgium \n09:15-10:45 Introduction to Fluid-Structure Interaction (FSI)/Flow-Induced Vibration (FIV)\nProf. Joris Degroote\, University of Ghent\, Belgium \n10:45-11:15 Break \n11:15-12:45 FIV in Nuclear Reactor Components / Facilities Dr Pascal Veber Vattenfall\, Sweden \n12:45-14:00 Lunch \n14:00-15:30 The Importance of Understanding FIV in Nuclear Reactor Components Dr Daniele Vivaldi Institut de Radioprotection et de Sûreté Nucléaire (IRSN)\, France \n15:30-16:00 Break \n16:00-17:30 The View of Industries on FIV in Nuclear Applications\nPaulus Smeekes (TVO\, Finland) Dr Hidajet Hadzic (Framatome GmbH\, Germany) Dr Pascal Veber (Vattenfall\, Sweden) Pierre Moussou (EDF\, France) \n17:30 – 19:00 Reception\, break of the ice \n  \nDay 2 – Tuesday\, 01/04/25 \n09:00-10:30 Analytical Methods for the Evaluation of FIV\nDr Angel Papukchiev Gesellschaft Fuer Anlagen-Und Reaktorsicherheit (GRS)\, Germany \n10:30-11:00 Break \n11:00-12:30 Measurement techniques for FSI/FIV in single-phase flows\nDr Mostafa Nabawy\nUniversity of Manchester\, UK \n12:30-14:00 Lunch \n14:00-15:30 Best practices to investigate single-phase FIV in bundle geometries through laboratory experiments Philippe Planquart The von Karman Institute for Fluid Dynamics (VKI)\, Belgium \n15:30-16:00 Break \n16:00-17:30 Visit of the GOKSTAD experimental facility \n  \nDay 3 – Wednesday\, 02/04/25 \n09:00-10:30 Computational Methods for single-phase FSI/FIV Dr Sofiane Benhamadouche Électricité de France (EdF)\, France \n10:30-11:00 Break \n11:00-12:30 Best practices to investigate single-phase FIV in bundle geometries by CFD Dr Salim Elbouzidi Canadian Nuclear Lab\, Canada \n12:30-14:00 Lunch \n14:00-15:30 Reduced-order Models for FSI/FIV Ir. Kevin Zwijsen Nuclear Research and Consultancy Group (NRG)\, The Netherlands \n15:30-16:00 Break \n16:00-17:30 Uncertainty Quantification of FIV in bundle-type flows for fast turnover Dr Matilde Fiore The von Karman Institute for Fluid Dynamics (VKI)\, Belgium \n  \nDay 4 – Thursday\, 03/04/25 \n09:00-10:30 Numerical Analysis of two-phase flows relevant to FIV Dr Edo Frederix Nuclear Research and Consultancy Group (NRG)\, The Netherlands \n10:30-11:00 Break \n11:00-12:30 Simulation strategies to analyze FIV in multiphase flows Dr William Benguigui Électricité de France (EdF)\, France \n12:30-14:00 Lunch \n14:00-15:30 Experimental techniques to characterize FIV in multiphase flows Dr Vincent Fichet Framatome\, France \n15:30-16:00 Break \n16:00-17:30 Best practices for experimental characterization of FIV in multiphase flows in bundle geometries Prof. Marwan Hassan University of Guelph\, Canada
URL:https://snetp.eu/event/go-viking-lecture-series-fluid-structure-interaction-for-nuclear-applications/
LOCATION:Sint-Genesius-Rode\, Belgium
CATEGORIES:Project events
END:VEVENT
BEGIN:VEVENT
DTSTART;VALUE=DATE:20250401
DTEND;VALUE=DATE:20250402
DTSTAMP:20260419T235414
CREATED:20241128T082605Z
LAST-MODIFIED:20241128T082605Z
UID:9008-1743465600-1743551999@snetp.eu
SUMMARY:International Nuclear Innovation Award
DESCRIPTION:Mark your calendars for the first International Nuclear Innovation Award! Hosted by the Interdisciplinary Research Center for Industrial Nuclear Energy (IRC-INE) at King Fahd University of Petroleum & Minerals (KFUPM)\, Saudi Arabia\, this prestigious award aims to inspire innovative ideas that can significantly enhance the nuclear energy industry. \nThe award is open to individuals at all career levels\, in the following three categories: \n\nUndergraduate students\nGraduate students & Postdocs\nField experts\n\nMore information about the award details\, submission deadlines\, and winner announcements here! \nThe event will take place in April 2025!
URL:https://snetp.eu/event/international-nuclear-innovation-award/
LOCATION:King Fahd University of Petroleum & Minerals (KFUPM)\, Saudi Arabia
CATEGORIES:Conferences,Workshops, webinars & courses
END:VEVENT
BEGIN:VEVENT
DTSTART;VALUE=DATE:20250401
DTEND;VALUE=DATE:20250404
DTSTAMP:20260419T235414
CREATED:20250210T112011Z
LAST-MODIFIED:20250226T104955Z
UID:9231-1743465600-1743724799@snetp.eu
SUMMARY:EARTO Annual Conference 2025
DESCRIPTION:The EARTO Annual Conference will be hosted by EARTO Member Redit and will take place on 2-3 April 2025 in Valencia\, Spain. The conference’s programme will focus on “No EU Tech\, No EU Competitiveness” and feature high-level speakers from the European Commission\, as well as members of EARTO and high-level representatives of RTOs from all over the globe.
URL:https://snetp.eu/event/earto-annual-conference-2025/
LOCATION:Valencia\, Spain
CATEGORIES:Conferences
END:VEVENT
BEGIN:VEVENT
DTSTART;VALUE=DATE:20250406
DTEND;VALUE=DATE:20250411
DTSTAMP:20260419T235414
CREATED:20241108T091024Z
LAST-MODIFIED:20241108T091241Z
UID:8943-1743897600-1744329599@snetp.eu
SUMMARY:European Research Reactor Conference (RRFM)
DESCRIPTION:RRFM\, the European Research Reactor Conference\, is the annual gathering of the research reactor community in Europe. In 2025 we invite you to join us in Aix-en-Provence\, France.   \nThe conference programme will revolve around a series of Plenary Sessions dedicated to the latest global developments with regards to research reactor technology and management. \nStay tuned. As the event approaches we will provide you with more information through our mailing list\, on LinkedIn or Twitter.
URL:https://snetp.eu/event/european-research-reactor-conference-rrfm/
LOCATION:Aix-en-Provence\, France
CATEGORIES:Conferences
END:VEVENT
BEGIN:VEVENT
DTSTART;VALUE=DATE:20250410
DTEND;VALUE=DATE:20250411
DTSTAMP:20260419T235414
CREATED:20250319T140933Z
LAST-MODIFIED:20250319T140933Z
UID:9520-1744243200-1744329599@snetp.eu
SUMMARY:CONNECT-NM Brokerage Event
DESCRIPTION:The CONNECT-NM Brokerage Event will take place on 10 April 2025 — a hybrid event designed to present the Project Ideas submitted during the first phase of the partnership’s Open Call for Projects (OCP). In addition\, Euratom stakeholders interested in topics relevant to CONNECT-NM are invited to showcase their capacities\, fostering new collaborations and synergies within the partnership.  \nIt is important to note that all Project Ideas must be presented during the brokerage event. \n\n\n\n\nWhat to expect  \nDuring the meeting\, participants will have the opportunity to present: \n\nProject ideas: The (potential) coordinator or an interested party will present the project idea on behalf of the (potential) consortia.\nCapacities: Each interested participant will give a short description of its main capacities and expected contribution to the project ideas.\n\nRegistration options  \nFor the Brokerage Event on 10 April\, please kindly make sure to indicate whether you are registering as: \n\nPresenting Participant for Project Ideas\nPresenting Participant for Organisation’s Capacities\nAttending Participant\n\nRegister here.
URL:https://snetp.eu/event/connect-nm-brokerage-event/
LOCATION:Brussels and Online
CATEGORIES:Project events,SNETP events,Workshops, webinars & courses
END:VEVENT
BEGIN:VEVENT
DTSTART;TZID=Europe/Paris:20250417T130000
DTEND;TZID=Europe/Paris:20250417T140000
DTSTAMP:20260419T235414
CREATED:20250325T112316Z
LAST-MODIFIED:20250325T112316Z
UID:9525-1744894800-1744898400@snetp.eu
SUMMARY:4th SNETP PROJECT PORTFOLIO WEBINAR – Magic-RR\, GO-VIKING & FIND
DESCRIPTION:Join us for the fourth webinar in the SNETP 2025 Project Portfolio Series on 17 April\, 13:00 – 14:00\, where we will provide updates on three important Euratom-funded projects of our SNETP Portfolio focused on safety and long-term operation. Learn more about: \n\nMagic-RR brings together 11 expert partners from around the world to tackle the challenges of aging reactors\, ensuring their continued safe operation through innovation\, collaboration\, and advanced research.\nGO-VIKING focuses on enhancing the understanding of Flow-Induced Vibrations (FIV) in nuclear fuel assemblies and steam generators\, ultimately improving the safety\, reliability\, and efficiency of nuclear power plants.\nFIND is developing intelligent detection systems for nuclear facilities to enhance operational safety\, reduce maintenance costs\, and minimize worker exposure to radiation. This contributes to the safety of nuclear power plants and other nuclear facilities\, in the context of their long-term operation.\n\nThroughout the webinar\, you’ll have the chance to ask questions and engage with the SNETP community\, exchanging ideas and insights on the future of nuclear energy.
URL:https://snetp.eu/event/4th-snetp-project-portfolio-webinar-magic-rr-go-viking-find/
LOCATION:Online
CATEGORIES:SNETP events,Workshops, webinars & courses
ATTACH;FMTTYPE=image/png:https://snetp.eu/wp-content/uploads/2025/03/SNETP-Project-Portfolio-Webinar-4.png
END:VEVENT
BEGIN:VEVENT
DTSTART;TZID=Europe/Paris:20250428T090000
DTEND;TZID=Europe/Paris:20250428T133000
DTSTAMP:20260419T235414
CREATED:20250326T085639Z
LAST-MODIFIED:20250326T085734Z
UID:9530-1745830800-1745847000@snetp.eu
SUMMARY:Powering the Future: Policy & Siting Strategies for New Nuclear
DESCRIPTION:The European Union is committed to providing secure and affordable energy for its competitive industry and all citizens. Nuclear energy\, accounting for almost one quarter of the electricity produced in the EU and representing 50% of the low-carbon electricity\, plays a crucial role in responding to these urgent needs. \nIn recent months\, numerous initiatives have emerged to underscore the pivotal role of nuclear energy in the EU’s decarbonisation efforts. The Nuclear Alliance of the EU Member States has recognised that nuclear could provide up to 150 GW of electricity capacity by 2050 in the EU compared to the approximately 100 GW of today. This will entail significant investments in new-built nuclear reactors. \nWithin this context\, Poland has decided to embark in a significant nuclear investment program in order to operate a paradigm shift and power the country\, its industry and households with a low carbon technology. In order to complete all the necessary steps to build its first nuclear power plant\, including large reactors and SMR and Advanced Modular Reactors\, many issues need to be taken into account. \nThis workshop wishes to focus on the key elements for development and deployment of nuclear\, namely policies and siting. \nThe purpose of the workshop is to engage with all stakeholders that can advance in nuclear development\, including policymakers\, developers\, end users and regions\, communities and municipalities. The first panel will focus on policy measures to support investments in the next generation of nuclear reactors. The second panel will focus on the issue of the siting of new nuclear plants\, covering topics such as the localisation of nuclear plants\, protecting human health and the environment in a community-driven way\, while balancing risk-based economic opportunities. \n  \nAn event co-organised by Nucleareurope in partnership with the Permanent Representation of the Republic of Poland to the EU and the Polish Ministry of Industry.
URL:https://snetp.eu/event/powering-the-future-policy-siting-strategies-for-new-nuclear/
LOCATION:Brussels\, Belgium
CATEGORIES:Workshops, webinars & courses
END:VEVENT
BEGIN:VEVENT
DTSTART;TZID=Europe/Paris:20250429T093000
DTEND;TZID=Europe/Paris:20250429T133000
DTSTAMP:20260419T235414
CREATED:20250409T095756Z
LAST-MODIFIED:20250409T095756Z
UID:9555-1745919000-1745933400@snetp.eu
SUMMARY:HARPERS : Introductory Training Session on RWM and decommissioning – Cross Border Waste Facilities and Services
DESCRIPTION:Target Audience: MSc and PhD students\, postdocs\, early-career researchers in the field of decommissioning and radioactive waste management (RWM)\, as well as professionals from regulatory authorities\, waste producers\, and waste processors. \nAgenda \n\n09:30 – 10:00 Introduction to HARPERS WP 3 – “Cross Border Waste Facilities/Services” – David Oxberry (STUDSVIK)\n10:00 – 11:00 Problematic Waste Management Challenges and Relevant Aspects for Cross Border Cooperation in Europe – Tomas Hrncir (JAVYS)\n11:00 – 11:15 Break\n11:15 – 12:15 Approaches for management of hazardous waste in different European Member States – Crina Bucur (RATEN ICN)\n12:15 – 13:15 Stakeholder interaction related to treatment and management of radioactive waste – basic principles and focal points – Meritxell Martell (Merience)\, Arne Larsson (CYCLIFE)\n\nQ&A sessions after each lecture will allow audience members to ask questions and receive answers from specialist speakers.
URL:https://snetp.eu/event/harpers-introductory-training-session-on-rwm-and-decommissioning-cross-border-waste-facilities-and-services/
LOCATION:Online
CATEGORIES:Project events,Workshops, webinars & courses
END:VEVENT
END:VCALENDAR