BEGIN:VCALENDAR
VERSION:2.0
PRODID:-//SNETP - ECPv6.15.12.1//NONSGML v1.0//EN
CALSCALE:GREGORIAN
METHOD:PUBLISH
X-ORIGINAL-URL:https://snetp.eu
X-WR-CALDESC:Events for SNETP
REFRESH-INTERVAL;VALUE=DURATION:PT1H
X-Robots-Tag:noindex
X-PUBLISHED-TTL:PT1H
BEGIN:VTIMEZONE
TZID:Europe/Paris
BEGIN:DAYLIGHT
TZOFFSETFROM:+0100
TZOFFSETTO:+0200
TZNAME:CEST
DTSTART:20240331T010000
END:DAYLIGHT
BEGIN:STANDARD
TZOFFSETFROM:+0200
TZOFFSETTO:+0100
TZNAME:CET
DTSTART:20241027T010000
END:STANDARD
BEGIN:DAYLIGHT
TZOFFSETFROM:+0100
TZOFFSETTO:+0200
TZNAME:CEST
DTSTART:20250330T010000
END:DAYLIGHT
BEGIN:STANDARD
TZOFFSETFROM:+0200
TZOFFSETTO:+0100
TZNAME:CET
DTSTART:20251026T010000
END:STANDARD
BEGIN:DAYLIGHT
TZOFFSETFROM:+0100
TZOFFSETTO:+0200
TZNAME:CEST
DTSTART:20260329T010000
END:DAYLIGHT
BEGIN:STANDARD
TZOFFSETFROM:+0200
TZOFFSETTO:+0100
TZNAME:CET
DTSTART:20261025T010000
END:STANDARD
END:VTIMEZONE
BEGIN:VEVENT
DTSTART;TZID=Europe/Paris:20250314T130000
DTEND;TZID=Europe/Paris:20250314T140000
DTSTAMP:20260420T013436
CREATED:20250218T134138Z
LAST-MODIFIED:20250218T134348Z
UID:9268-1741957200-1741960800@snetp.eu
SUMMARY:3rd SNETP PROJECT PORTFOLIO WEBINAR – LESTO & ESFR-SIMPLE & TREASURE
DESCRIPTION:Join us for the third webinar in the SNETP 2025 Project Portfolio Series on 14 March\, 13:00 – 14:00\, where we will provide updates on three important Euratom-funded projects of our SNETP Portfolio focused GEN IV reactors. Learn more about: \n\nLESTO is a project dedicated to advancing Lead Fast Reactor (LFR) technology\, driving its development along the established roadmap while demonstrating its safety\, efficiency\, and key capabilities in order to support both hydrogen energy production and the future of nuclear power solutions.\nESFR-SIMPLE is a project that aims at challenging the Generation IV ESFR (European Sodium Fast Reactor) designed in the EURATOM ESFR-SMART project\, to improve its safety and economics thanks to innovative technologies.\nTREASURE is a project designed to connect European developers of the ALLEGRO Gas-Cooled Fast Reactor (GFR) demonstrator with leading expert organizations specializing in GFR and High-Temperature Reactor (HTR) research. By leveraging their unique expertise and insights\, these organizations will contribute innovative ideas and fresh perspectives to advance GFR development.\n\nThroughout the webinar\, you’ll have the chance to ask questions and engage with the SNETP community\, exchanging ideas and insights on the future of nuclear energy. \nRegister now here to secure your spot and be part of the discussion!
URL:https://snetp.eu/event/3rd-snetp-project-portfolio-webinar-lesto-esfr-simple-treasure/
CATEGORIES:SNETP events,Workshops, webinars & courses
ATTACH;FMTTYPE=image/png:https://snetp.eu/wp-content/uploads/2025/02/SNETP-Project-Portfolio-Webinar-3.png
END:VEVENT
BEGIN:VEVENT
DTSTART;TZID=Europe/Paris:20250318T123000
DTEND;TZID=Europe/Paris:20250318T143000
DTSTAMP:20260420T013436
CREATED:20250317T143315Z
LAST-MODIFIED:20250317T143315Z
UID:9502-1742301000-1742308200@snetp.eu
SUMMARY:Working Lunch on Enhancing EU Energy Security with Small Modular Reactors (SMRs)
DESCRIPTION:A working lunch organised by the European Parliament under the Polish presidency of the Council of the European Union of the EU together with European Enterprise Alliance ZPP Brussles\, focused on the pivotal role of Small Modular Reactors (SMRs) in strengthening energy security across Europe. Our President\, Bernard SALHA and our General secretary\, Abderrahim Al Mazouzi\, will be joining the event! \nAs energy security is vital for both national and EU stability\, the event will explore how SMRs can provide a stable\, sustainable\, and secure energy supply for Europe. Industry experts\, government officials\, and researchers will discuss how SMRs contribute to enhancing Europe’s energy independence\, affordability\, and decarbonisation goals. The event will also showcase European industrial projects related to SMRs. \n📅 Join us for a dynamic panel discussion\, featuring our Governing Board member and Chair of NC2I pillar\, Jozef Sobolewski\, PhD MBA and other experts from industry\, government\, and research.
URL:https://snetp.eu/event/working-lunch-on-enhancing-eu-energy-security-with-small-modular-reactors-smrs/
LOCATION:Online
CATEGORIES:Workshops, webinars & courses
END:VEVENT
BEGIN:VEVENT
DTSTART;TZID=Europe/Paris:20250318T140000
DTEND;TZID=Europe/Paris:20250318T163000
DTSTAMP:20260420T013436
CREATED:20250224T091853Z
LAST-MODIFIED:20250224T092357Z
UID:9285-1742306400-1742315400@snetp.eu
SUMMARY:5th HARMONISE Workshop
DESCRIPTION:Moderated discussion aiming at briefly informing stakeholders on the HARMONISE progress\, get input and feedback from the stakeholders\, and define the program of the 6th final and in person Workshop. \nAgenda to be distributed about a week before the workshop (March 10\, 2025).
URL:https://snetp.eu/event/5th-harmonise-workshop/
CATEGORIES:Project events,Workshops, webinars & courses
END:VEVENT
BEGIN:VEVENT
DTSTART;TZID=Europe/Paris:20250319T090000
DTEND;TZID=Europe/Paris:20250319T170000
DTSTAMP:20260420T013436
CREATED:20250317T143523Z
LAST-MODIFIED:20250317T143539Z
UID:9504-1742374800-1742403600@snetp.eu
SUMMARY:ETIPs FORUM - Advancing the SET Plan for a Sustainable Energy Future
DESCRIPTION:SNETP is joining the ETIPs FORUM this week\, where energy innovation drives the path toward a sustainable future. Organized by the ETIPs FORUM and the SET Plan Secretariat\, this event will focus on advancing the Sustainable Energy Technology Plan (SETPlan). Key topics include critical energy technologies\, industrial decarbonization\, resilience in global trade\, and securing Europe’s energy independence. \nSNETP will be featured in a session on “Enhancing Resilience & Strategic Autonomy – Securing Global Trade\, Supply Chains\, and Innovation”. \nThis session will explore how different energy sectors contribute to strengthening Europe’s energy security and independence. Our SNETP General Secretary Abderrahim Al Mazouzi will be joined by the following panellists: Nuno de Souza e Silva (ETIP SNET WG1 co-chair)\, Rutger Schlatmann (Chair of ETIP PV) and Patrik Klintbom (Chair ETIP Bioenergy). The discussion will be moderated by Alessandro Provaggi.
URL:https://snetp.eu/event/etips-forum-advancing-the-set-plan-for-a-sustainable-energy-future/
LOCATION:Brussels and Online
CATEGORIES:Conferences,SNETP events
END:VEVENT
BEGIN:VEVENT
DTSTART;VALUE=DATE:20250325
DTEND;VALUE=DATE:20250328
DTSTAMP:20260420T013436
CREATED:20250124T165154Z
LAST-MODIFIED:20250124T165154Z
UID:9179-1742860800-1743119999@snetp.eu
SUMMARY:ENIQ 2025 spring meetings
DESCRIPTION:You are kindly invited to the ENIQ 2025 spring meetings\, which are kindly hosted and organised by Laborelec-ENGIE Lab and Tractebel-ENGIE from 25th – 27th March 2025 at Laborelec-ENGIE Lab\, Rodestraat 125\, 1630 Linkebeek (south of Brussels)\, Belgium. The exact meeting schedule is as follows: \n\n68th SC meeting: Tuesday\, 25th March\, 14:00 – 17:30 (SC members only);\n68th SAQ meeting and 45th SAE meeting (in parallel): Wednesday\, 26th March\, 9:30 – 17:30;\n15th joint SAQ – SAE meeting (TA8 meeting): Thursday\, 27th March\, 9:30 – 12:30;\nVERLIFE Review meeting: Thursday\, 27th March\, 13:30 – 16:00 (ENIQ members from countries with VVER reactors)\n\nThe meetings are organised as in-person meetings\, but participation per video conference will be arranged for those that cannot travel. \nAccommodation \nMeeting participants are advised to stay at a hotel in Brussels centre in close proximity to major train stations (Brussels-Centraal\, Brussels-Midi). \n  \nTraveling to Laborelec – ENGIE Lab from Brussels  \nMeeting participants are advised to use a local train from Brussels-Centraal or Brussels-Midi to station Rhode-St-Genesius (departure from Brussels-Centraal at 18 and 52 minutes past the hour; travel time: 24 minutes from Brussels-Centraal; check www.belgiantrain.be for latest train info). Bus transportation between station Rhode-St-Genesius and Laborelec – ENGIE Lab premises will be arranged by the host organisations. \nCatering and social dinner \nLunch and coffee & refreshments will be provided on all three meeting days. A social dinner for all meeting participants will be organised in the evening of the 26th March in Brussels. \nPlease let me know about your participation by return email (oliver.martin@ec.europa.eu) by Monday 10th March the latest.
URL:https://snetp.eu/event/eniq-2025-spring-meetings/
LOCATION:Brussels\, Belgium
CATEGORIES:SNETP events
END:VEVENT
BEGIN:VEVENT
DTSTART;TZID=Europe/Paris:20250326T103000
DTEND;TZID=Europe/Paris:20250326T170000
DTSTAMP:20260420T013436
CREATED:20250124T163439Z
LAST-MODIFIED:20250124T163537Z
UID:9168-1742985000-1743008400@snetp.eu
SUMMARY:TANDEM Stakeholder Engagement Workshop
DESCRIPTION:Join us for our Stakeholder Engagement Workshop on 26 March 2025 in Brussels. This workshop aims to share the best practices and lessons learnt from TANDEM and other EU related initiatives as well as develop a set of practical recommendations for improving stakeholder engagement processes to harness even stronger collaboration among networks. \nThe workshop will: \n\nFacilitate peer-to-peer learning and exchange of best practices among participants on stakeholder engagement strategies.\nIdentify key challenges and opportunities for effective stakeholder engagement in the context of nuclear research and SMRs.\nDevelop actionable policy recommendations for enhancing stakeholder engagement processes at different levels (EU\, national\, regional\, local).\n\nRegister now! \n\n\n\nTiming \nTopic \nSpeaker \n\n\n10:30 \nWelcome & Introduction \nCEA \n\n\n10:45 \nShort overview of the TANDEM EU Project \nCEA \n\n\n11:00 \nFeedback of the actions stakeholder engagement actions undertaken by TANDEM \nVTT \n\n\n11:30 \nRountable 1: Experience sharing  \nParticipants to share their own experience in terms of stakeholder engagement\, including challenges faced \nAll participants \n\n\n12:30 \nLunch break \n \n\n\n13:30 \nRountable 2: Brainstorming   \nWhich stakeholders should be engaged in the debate and at which level (EU\, national\, regional\, local)  \nIdentification of different ways of building and maintaining trust  \nEngagement with specific audiences (e.g. women\, immigrants)  \nIdentification of useful tools \nAll participants \n\n\n14:30 \nCoffee break \n \n\n\n14:45 \nRountable 2 continues \nAll participants \n\n\n15:45 \nPolicy recommendations (discussion) \nAll participants \n\n\n16:15 \nConcluding remarks and next steps \nVTT \n\n\n\n 
URL:https://snetp.eu/event/tandem-stakeholder-engagement-workshop/
LOCATION:Brussels\, Belgium
CATEGORIES:Project events
END:VEVENT
BEGIN:VEVENT
DTSTART;VALUE=DATE:20250331
DTEND;VALUE=DATE:20250404
DTSTAMP:20260420T013436
CREATED:20250124T164735Z
LAST-MODIFIED:20250124T164735Z
UID:9175-1743379200-1743724799@snetp.eu
SUMMARY:GO-VIKING: Lecture Series “Fluid-Structure Interaction for Nuclear Applications”
DESCRIPTION:Fluid-structure interaction (FSI) is essential in many industrial applications and is actively studied in the nuclear sector. Knowledge and understanding of FSI and Fluid-Induced Vibration (FIV) are critical to estimating the lifetime of the different components (pipelines\, heat exchangers\, turbines\, etc.) concerning fatigue\, cracking\, possible failure modes\, and mechanical wear. Recently\, the use of numerical tools to simulate FIV has received large interest due to the availability of more computational resources and the necessity to analyze complex configurations with more details. This Lecture Series aims to provide a detailed background to welcome novices in the field and a comprehensive overview of recent developments of computational FSI in various industrial applications. \n  \nOver the course of four days\, several well-known experts from around the world\, most of them involved in the EU-funded GO-VIKING project\, will explore important topics related to FSI in order to understand and study FIV in different applications. Additionally\, an interactive panel discussion will offer insight into the perspectives of industry leaders on the challenges and solutions related to FIV in nuclear applications. \n  \nThis Lecture Series has been organized in the context of the GO-VIKING project\, which has received funding from the European Union’s Euratom research and innovation programme under grant agreement No 101059603. \n  \nAgenda: VKI Lecture Series\n31 March-03 April 2025\nDay 1 – Monday\, 31/03/25 \n08:30-09:00 Registration \n09:00-09:15 Welcome Address\nVKI Director The von Karman Institute for Fluid Dynamics (VKI)\, Belgium \n09:15-10:45 Introduction to Fluid-Structure Interaction (FSI)/Flow-Induced Vibration (FIV)\nProf. Joris Degroote\, University of Ghent\, Belgium \n10:45-11:15 Break \n11:15-12:45 FIV in Nuclear Reactor Components / Facilities Dr Pascal Veber Vattenfall\, Sweden \n12:45-14:00 Lunch \n14:00-15:30 The Importance of Understanding FIV in Nuclear Reactor Components Dr Daniele Vivaldi Institut de Radioprotection et de Sûreté Nucléaire (IRSN)\, France \n15:30-16:00 Break \n16:00-17:30 The View of Industries on FIV in Nuclear Applications\nPaulus Smeekes (TVO\, Finland) Dr Hidajet Hadzic (Framatome GmbH\, Germany) Dr Pascal Veber (Vattenfall\, Sweden) Pierre Moussou (EDF\, France) \n17:30 – 19:00 Reception\, break of the ice \n  \nDay 2 – Tuesday\, 01/04/25 \n09:00-10:30 Analytical Methods for the Evaluation of FIV\nDr Angel Papukchiev Gesellschaft Fuer Anlagen-Und Reaktorsicherheit (GRS)\, Germany \n10:30-11:00 Break \n11:00-12:30 Measurement techniques for FSI/FIV in single-phase flows\nDr Mostafa Nabawy\nUniversity of Manchester\, UK \n12:30-14:00 Lunch \n14:00-15:30 Best practices to investigate single-phase FIV in bundle geometries through laboratory experiments Philippe Planquart The von Karman Institute for Fluid Dynamics (VKI)\, Belgium \n15:30-16:00 Break \n16:00-17:30 Visit of the GOKSTAD experimental facility \n  \nDay 3 – Wednesday\, 02/04/25 \n09:00-10:30 Computational Methods for single-phase FSI/FIV Dr Sofiane Benhamadouche Électricité de France (EdF)\, France \n10:30-11:00 Break \n11:00-12:30 Best practices to investigate single-phase FIV in bundle geometries by CFD Dr Salim Elbouzidi Canadian Nuclear Lab\, Canada \n12:30-14:00 Lunch \n14:00-15:30 Reduced-order Models for FSI/FIV Ir. Kevin Zwijsen Nuclear Research and Consultancy Group (NRG)\, The Netherlands \n15:30-16:00 Break \n16:00-17:30 Uncertainty Quantification of FIV in bundle-type flows for fast turnover Dr Matilde Fiore The von Karman Institute for Fluid Dynamics (VKI)\, Belgium \n  \nDay 4 – Thursday\, 03/04/25 \n09:00-10:30 Numerical Analysis of two-phase flows relevant to FIV Dr Edo Frederix Nuclear Research and Consultancy Group (NRG)\, The Netherlands \n10:30-11:00 Break \n11:00-12:30 Simulation strategies to analyze FIV in multiphase flows Dr William Benguigui Électricité de France (EdF)\, France \n12:30-14:00 Lunch \n14:00-15:30 Experimental techniques to characterize FIV in multiphase flows Dr Vincent Fichet Framatome\, France \n15:30-16:00 Break \n16:00-17:30 Best practices for experimental characterization of FIV in multiphase flows in bundle geometries Prof. Marwan Hassan University of Guelph\, Canada
URL:https://snetp.eu/event/go-viking-lecture-series-fluid-structure-interaction-for-nuclear-applications/
LOCATION:Sint-Genesius-Rode\, Belgium
CATEGORIES:Project events
END:VEVENT
END:VCALENDAR