BEGIN:VCALENDAR
VERSION:2.0
PRODID:-//SNETP - ECPv6.15.12.1//NONSGML v1.0//EN
CALSCALE:GREGORIAN
METHOD:PUBLISH
X-ORIGINAL-URL:https://snetp.eu
X-WR-CALDESC:Events for SNETP
REFRESH-INTERVAL;VALUE=DURATION:PT1H
X-Robots-Tag:noindex
X-PUBLISHED-TTL:PT1H
BEGIN:VTIMEZONE
TZID:Europe/Paris
BEGIN:DAYLIGHT
TZOFFSETFROM:+0100
TZOFFSETTO:+0200
TZNAME:CEST
DTSTART:20240331T010000
END:DAYLIGHT
BEGIN:STANDARD
TZOFFSETFROM:+0200
TZOFFSETTO:+0100
TZNAME:CET
DTSTART:20241027T010000
END:STANDARD
BEGIN:DAYLIGHT
TZOFFSETFROM:+0100
TZOFFSETTO:+0200
TZNAME:CEST
DTSTART:20250330T010000
END:DAYLIGHT
BEGIN:STANDARD
TZOFFSETFROM:+0200
TZOFFSETTO:+0100
TZNAME:CET
DTSTART:20251026T010000
END:STANDARD
BEGIN:DAYLIGHT
TZOFFSETFROM:+0100
TZOFFSETTO:+0200
TZNAME:CEST
DTSTART:20260329T010000
END:DAYLIGHT
BEGIN:STANDARD
TZOFFSETFROM:+0200
TZOFFSETTO:+0100
TZNAME:CET
DTSTART:20261025T010000
END:STANDARD
END:VTIMEZONE
BEGIN:VEVENT
DTSTART;TZID=Europe/Paris:20250110T130000
DTEND;TZID=Europe/Paris:20250110T143000
DTSTAMP:20260420T044400
CREATED:20241209T102403Z
LAST-MODIFIED:20241209T102523Z
UID:9024-1736514000-1736519400@snetp.eu
SUMMARY:1st SNETP PROJECT PORTFOLIO WEBINAR
DESCRIPTION:The SNETP platform is launching an open campaign in 2025 to showcase new projects and share updates on the progress of ongoing initiatives within its portfolio. \n  \nThe first webinar is scheduled on 10 January 2025 from 13:00 – 14:30. The webinar will introduce the achievements facilitated  through the SNETPFORWARD and OFFERR projects – European User Facility Network. Register to the event here! \n  \nWe will briefly introduce activities related to promoting access to nuclear science infrastructures across Europe\, driving innovation through the SME Booster\, and developing topical studies with our network of experts. \n  \nThe full calendar and program for the monthly webinars in 2025 will be shared soon.
URL:https://snetp.eu/event/snetp-project-portfolio-webinars/
CATEGORIES:SNETP events,Workshops, webinars & courses
ATTACH;FMTTYPE=image/png:https://snetp.eu/wp-content/uploads/2024/12/6749d16c38938cbf92e194fc.png
END:VEVENT
BEGIN:VEVENT
DTSTART;VALUE=DATE:20250122
DTEND;VALUE=DATE:20250124
DTSTAMP:20260420T044400
CREATED:20241209T102132Z
LAST-MODIFIED:20241209T102132Z
UID:9022-1737504000-1737676799@snetp.eu
SUMMARY:World Nuclear SMR & Advanced Reactor Congress 2025
DESCRIPTION:After 16+ years of exceptional success and a stellar reputation\, our Nuclear Industry Congress Global Series (AtomToday-NIC) has firmly established its footprint across Europe\, Middle East & North Africa\, Asia\, America and more. \n\nIt’s my greatest pleasure\, on behalf of the Organizing Committee\, to welcome you to attend World Nuclear SMR & Advanced Reactor Congress 2025 (WNIC-SMR 2025)\, the FIRST nuclear SMRs & Advanced Reactor PREMIER event covered the whole worldwide market including Europe\, North America\, South America\, Middle East and Asia\, which will take place during Jan 22-23\, 2025 in London\, UK. \n\nAmidst the backdrop of decarbonization objectives and the imperative for energy security\, collaboration is essential from the highest levels of leadership to the operational frontlines all over the world. No government\, organization\, or business can fully capitalize on this opportunity in isolation. World Nuclear SMR & Advanced Reactor Congress 2025 will bring together over 200 nuclear industry influencers including utilities\, financiers\, reactor developers\, technology providers\, and regulators all over the world such as UK\, France\, Poland\, Romania\, Estonia\, Norway\, Sweden\, USA\, Canada\, Argentina\, China\, Korea and etc to unlock the potential of this multi-billion-dollar sector. \n\nAcross two days\, we will dismantle barriers\, offer strategic insights\, and provide practical knowledge to navigate challenges related to the supply chain\, resource allocation\, financing\, regulatory compliance\, and licensing requirements. Together\, we aim to jumpstart the deployment of SMR & Advanced Reactor technologies\, foster collaborative efforts\, and facilitate the transition of new nuclear projects from planning stages to full-scale implementation. Our collective goal is crystal clear: to finalize agreements\, secure market share\, and transform SMRs from conceptual ideas in meeting rooms into tangible business opportunities and groundbreaking advancements. \n\nThis congress is a “must-attend” for anyone who wants to stay current and on top of industry trends and developments. Meanwhile\, for those who are keen to find new investment opportunities or strengthen their presence in this market\, our two-day event will also provide a cozy platform to meet your future partners.
URL:https://snetp.eu/event/world-nuclear-smr-advanced-reactor-congress-2025/
LOCATION:London\, UK
CATEGORIES:Conferences
END:VEVENT
END:VCALENDAR