BEGIN:VCALENDAR
VERSION:2.0
PRODID:-//SNETP - ECPv6.15.12.1//NONSGML v1.0//EN
CALSCALE:GREGORIAN
METHOD:PUBLISH
X-ORIGINAL-URL:https://snetp.eu
X-WR-CALDESC:Events for SNETP
REFRESH-INTERVAL;VALUE=DURATION:PT1H
X-Robots-Tag:noindex
X-PUBLISHED-TTL:PT1H
BEGIN:VTIMEZONE
TZID:Europe/Paris
BEGIN:DAYLIGHT
TZOFFSETFROM:+0100
TZOFFSETTO:+0200
TZNAME:CEST
DTSTART:20230326T010000
END:DAYLIGHT
BEGIN:STANDARD
TZOFFSETFROM:+0200
TZOFFSETTO:+0100
TZNAME:CET
DTSTART:20231029T010000
END:STANDARD
BEGIN:DAYLIGHT
TZOFFSETFROM:+0100
TZOFFSETTO:+0200
TZNAME:CEST
DTSTART:20240331T010000
END:DAYLIGHT
BEGIN:STANDARD
TZOFFSETFROM:+0200
TZOFFSETTO:+0100
TZNAME:CET
DTSTART:20241027T010000
END:STANDARD
BEGIN:DAYLIGHT
TZOFFSETFROM:+0100
TZOFFSETTO:+0200
TZNAME:CEST
DTSTART:20250330T010000
END:DAYLIGHT
BEGIN:STANDARD
TZOFFSETFROM:+0200
TZOFFSETTO:+0100
TZNAME:CET
DTSTART:20251026T010000
END:STANDARD
END:VTIMEZONE
BEGIN:VEVENT
DTSTART;VALUE=DATE:20241206
DTEND;VALUE=DATE:20241207
DTSTAMP:20260420T062453
CREATED:20241125T081638Z
LAST-MODIFIED:20241125T081638Z
UID:8999-1733443200-1733529599@snetp.eu
SUMMARY:ETHC Lunchinar
DESCRIPTION:Join the Passive Safety Lunchinar: expert insights into nuclear reactor safety! On 6th December 2024\, from 12:00 – 13:30 CET\, the European Thermal Hydraulics Community (ETHC) is hosting its very first lunchinar on passive safety in nuclear reactor applications! This online event will give you the chance to explore the latest developments in passive safety systems\, directly from industry leaders\, all during your lunch break. \nTopics will include:\n🔹Frank David (EDF/NUWARD) – Passive safety focus for reactor application\n🔹Roberta Ferri (SIET) – Experiments on passive safety systems\n🔹Andreas Wielenberg (GRS) – Modeling of passive safety systems\n🔹Q&A session \nWhat is ETHC? The European Thermal Hydraulics Community (ETHC) is the first topical community established under the umbrella of SNETP. ETHC focuses on advancing thermal hydraulics research\, ensuring the safety\, innovation\, and continued progress of nuclear technology in Europe. \nMark your calendars and stay tuned for more information which will be shared soon. We look forward to welcoming you to this exciting and informative session!
URL:https://snetp.eu/event/ethc-lunchinar/
CATEGORIES:Workshops, webinars & courses
END:VEVENT
END:VCALENDAR