BEGIN:VCALENDAR
VERSION:2.0
PRODID:-//SNETP - ECPv6.15.12.1//NONSGML v1.0//EN
CALSCALE:GREGORIAN
METHOD:PUBLISH
X-ORIGINAL-URL:https://snetp.eu
X-WR-CALDESC:Events for SNETP
REFRESH-INTERVAL;VALUE=DURATION:PT1H
X-Robots-Tag:noindex
X-PUBLISHED-TTL:PT1H
BEGIN:VTIMEZONE
TZID:Europe/Paris
BEGIN:DAYLIGHT
TZOFFSETFROM:+0100
TZOFFSETTO:+0200
TZNAME:CEST
DTSTART:20230326T010000
END:DAYLIGHT
BEGIN:STANDARD
TZOFFSETFROM:+0200
TZOFFSETTO:+0100
TZNAME:CET
DTSTART:20231029T010000
END:STANDARD
BEGIN:DAYLIGHT
TZOFFSETFROM:+0100
TZOFFSETTO:+0200
TZNAME:CEST
DTSTART:20240331T010000
END:DAYLIGHT
BEGIN:STANDARD
TZOFFSETFROM:+0200
TZOFFSETTO:+0100
TZNAME:CET
DTSTART:20241027T010000
END:STANDARD
BEGIN:DAYLIGHT
TZOFFSETFROM:+0100
TZOFFSETTO:+0200
TZNAME:CEST
DTSTART:20250330T010000
END:DAYLIGHT
BEGIN:STANDARD
TZOFFSETFROM:+0200
TZOFFSETTO:+0100
TZNAME:CET
DTSTART:20251026T010000
END:STANDARD
END:VTIMEZONE
BEGIN:VEVENT
DTSTART;VALUE=DATE:20241030
DTEND;VALUE=DATE:20241102
DTSTAMP:20260420T075835
CREATED:20240730T154042Z
LAST-MODIFIED:20240730T154042Z
UID:8753-1730246400-1730505599@snetp.eu
SUMMARY:23rd INPRO Dialogue Forum on Nuclear Energy Innovations to Support Net-Zero Transition
DESCRIPTION:The INPRO Dialogue Forum is primarily open to participants from the INPRO Member States. The forum is also open to other interested IAEA Member States and international organizations. \nThe purpose of the event is to provide a platform for Member States and other stakeholders to share ideas\, concepts and information related to current and/or emerging topics regarding nuclear energy system development and sustainability. \nThe International Project on Innovative Nuclear Reactors and Fuel Cycles (INPRO)\, launched in 2000\, aims to ensure sustainable nuclear energy development in the 21st century. INPRO\, endorsed by the IAEA General Conference resolution GC (44)/RES/21\, integrates all aspects crucial for nuclear energy sustainability. Its membership includes 43 IAEA Member States (MSs) and the European Commission. The 32nd INPRO Steering Committee Meeting in 2023 endorsed the organization of an INPRO Dialogue Forum in 2024 on various applications of nuclear energy as a sustainable energy source to mitigate the global climate change. To achieve the net-zero goal by 2050\, nuclear energy\, particularly from small modular reactors (SMRs)\, plays a crucial role beyond electricity generation. Nuclear energy can support hydrogen production\, district heating\, desalination\, and cogeneration. These non-electric applications are vital in reducing emissions from industries\, heating\, and transportation by providing clean alternatives to fossil fuels. This integrated approach is essential for comprehensive decarbonization efforts. The 23rd Dialogue Forum covers topics related to nuclear energy innovations needed to accelerate the transition to net-zero\, with. a focus on SMRs. This Dialogue Forum will include keynote addresses\, presentations by invited speakers\, and discussion sessions involving all participants.
URL:https://snetp.eu/event/23rd-inpro-dialogue-forum-on-nuclear-energy-innovations-to-support-net-zero-transition/
LOCATION:Vienna\, Austria\, Vienna\, Austria
CATEGORIES:Conferences
END:VEVENT
BEGIN:VEVENT
DTSTART;VALUE=DATE:20241103
DTEND;VALUE=DATE:20241108
DTSTAMP:20260420T075835
CREATED:20240416T213015Z
LAST-MODIFIED:20240416T213015Z
UID:8443-1730592000-1731023999@snetp.eu
SUMMARY:NUCLEAR INTER JURA 2024
DESCRIPTION:The next International Nuclear Law Association (INLA) Congress will take place in Warsaw\, Poland from Sunday 03rd to Thursday 07th November 2024 at Hotel Crowne Plaza Warsaw – The HUB. The event will be held under the theme: “Nuclear New Build Renaissance: In Search for New Approaches to Legal Challenges and Regulatory Effectiveness”. \nThe 2024 Nuclear Inter Jura Congress will be organized jointly and in cooperation with the Lower Silesian Institute for Energy Studies (DISE Energy). This will be the 25th Congress in a series of INLA conferences that have become the leading international event that brings together representatives of government\, regulatory authorities\, nuclear specialists\, legal professionals\, academics and others involved in nuclear law. The purpose of the Congress is to promote the study of legal issues associated with the peaceful uses of nuclear energy and to encourage the exchange of information in this field. The Congress will be a great opportunity to exchange knowledge and ideas on the performance of those functions at all stages of the nuclear facility life cycle. During the event\, we will explore new solutions to contemporary challenges and share experiences. It will also be an excellent opportunity to discuss legal and regulatory aspects as regards to new technologies\, planned investments\, suppliers\, local contents\, while highlighting the scope of INLA Working Groups’ interests. \nMore information on https://dise.org.pl/en/inter-jura-2024/
URL:https://snetp.eu/event/nuclear-inter-jura-2024/
LOCATION:Warsaw\, Poland\, Poland
CATEGORIES:Conferences
END:VEVENT
BEGIN:VEVENT
DTSTART;VALUE=DATE:20241105
DTEND;VALUE=DATE:20241108
DTSTAMP:20260420T075835
CREATED:20241023T214155Z
LAST-MODIFIED:20241023T214347Z
UID:8886-1730764800-1731023999@snetp.eu
SUMMARY:EPRI Advanced Nuclear Technology (ANT) European Workshop - November 2024
DESCRIPTION:The workshop will provide a forum for attendees to learn about the work EPRI is doing on new reactors of all designs. The week will include updates on research projects\, discussion of needs from European stakeholders\, and general industry updates on the status of technology and reactor deployment. \n\n\n\n\n\n\nSNETP will be represented during the event. Additionally\, the European Industrial Alliance on SMRs will be highlighted.
URL:https://snetp.eu/event/epri-advanced-nuclear-technology-ant-european-workshop-november-2024/
LOCATION:Vienna\, Austria\, Vienna\, Austria
CATEGORIES:Workshops, webinars & courses
END:VEVENT
BEGIN:VEVENT
DTSTART;TZID=Europe/Paris:20241112T090000
DTEND;TZID=Europe/Paris:20241115T130000
DTSTAMP:20260420T075835
CREATED:20240416T212544Z
LAST-MODIFIED:20240416T212544Z
UID:8440-1731402000-1731675600@snetp.eu
SUMMARY:DigiDECOM 2024
DESCRIPTION:DigiDECOM continues to be organized under IFE’s designation as an IAEA Collaborating Centre and is co-organized with the OECD NEA Halden HTO project and the Norwegian Nuclear Research Centre. All our previous other partners Amphos 21\, IAEA\, OECD NEA\, VTT\, FinNuclear\, EPRI etc. expressed their intention to join us for the 2024 edition. \nThe DigiDECOM 2024 conference will be organized in Norway\, November 2024. More information will be provided by February 4 (2024) \n📅The DigiDECOM Scientific Committee is pleased to announce that the Call for Abstract submission for DigiDECOM24 is now open and welcomes submissions of abstracts for presentations under the theme of decommissioning\, commissioning\, maintenance and lifecycle management in the nuclear sector with a specific focus on application of AI\, data and robotics for ensuring safety and increasing efficiency. Topics of interest include: \n\n\n□ Role of AI\, data and robotics in safety compliance \n□ New initiatives and emerging technologies \n□ Sustainability and circular economy \n□ Risks\, safety and security management \n□ Application of AI\, data and robotics in other safety-critical industries
URL:https://snetp.eu/event/digidecom-2024/
LOCATION:Halden\, Norway\, Norway
CATEGORIES:Conferences
END:VEVENT
BEGIN:VEVENT
DTSTART;VALUE=DATE:20241113
DTEND;VALUE=DATE:20241115
DTSTAMP:20260420T075835
CREATED:20240730T153617Z
LAST-MODIFIED:20240730T153617Z
UID:8751-1731456000-1731628799@snetp.eu
SUMMARY:Europe Nuclear Energy & SMR Conference - ENES 2024
DESCRIPTION:Amidst European phased target of achieving zero emissions by 2035 and energy independence\, nuclear power industry is playing a vital role in achieving a sustainable and resilient energy future for the continent. Despite facing challenges\, opportunities for new nuclear power plant construction are arising in recent years\, notably with advanced designs like Small Modular Reactors (SMRs). Many aging nuclear plants present chances for life extension and upgrades. Advancements in fuel cycle & waste management also offer potential for reducing the volume and radiotoxicity of nuclear waste. Thus\, on behalf of the Organizing Committee\, I am delighted to extend this invitation to you for the Europe Nuclear Energy & SMR Conference 2024 on Nov. 13-14th\, 2024 in Prague\, Czech Republic with the theme of “Elevating Europe’s Energy Landscape with Nuclear Power: Secure\, Sustainable\, and Innovative”.
URL:https://snetp.eu/event/europe-nuclear-energy-smr-conference-enes-2024/
LOCATION:Prague\, Czech Republic
CATEGORIES:Conferences
END:VEVENT
BEGIN:VEVENT
DTSTART;VALUE=DATE:20241114
DTEND;VALUE=DATE:20241116
DTSTAMP:20260420T075835
CREATED:20240910T090928Z
LAST-MODIFIED:20240910T091050Z
UID:8816-1731542400-1731715199@snetp.eu
SUMMARY:SET Plan Conference 2024
DESCRIPTION:Strategic Energy Technology Plan Conference : Scaling up Research\, Innovation and Competitiveness in Clean Energy Technologies  \nThe 18th SET Plan Conference is a high-level conference organised under the patronage of the Hungarian Presidency of the Council of the EU in cooperation with the Commission. \nThe event will provide a platform for policymakers\, researchers and industry stakeholders in energy sector to establish connections and expand collaborations aimed at developing and demonstrating innovative cleantech energy solutions\, while accelerating their deployment. \nThis year’s theme\, Scaling up Research\, Innovation and Competitiveness in Clean Energy Technologies\, highlights the need to reinforce the research and innovation landscape\, to enhance competitiveness and sovereignty of clean energy technology value chains within the EU. \nThe agenda includes several thematic parallel sessions and high-level panels in the following areas: the commercialisation of innovative technologies\, industrial decarbonisations\, geothermal energy\, energy storage\, hydrogen and skills. We are expecting high-level speakers from the Commission and the Hungarian Ministry of Energy to open the conference. The main goals of the conference are: \n\nenhancing cooperation and synergies between national and European policies\nfacilitating collaboration within energy R&I\ngathering the most promising results of energy R&I\n\nOn the afternoon of 13 November\, a day before the SET Plan conference\, 2 side events will take place \n\nA workshop with the Secretariats of Implementation Working Groups (IWGs) and European Technology and Innovation Platforms (ETIPs) funded under Horizon Europe (by invitation only). The workshop aims to facilitate awareness and understanding of each other’s activities among all ETIPs and IWGs in the area covered by 5 task forces mentioned in the Communication on the revised SET Plan. It also seeks to establish a continuous cooperation between different ETIPs and IWGs and develop a specific action plan for future collaboration\, aligned with the overarching aim of the clean energy transition\nA CETPartnership event on how to work together on crosscutting areas between the CETPartnership and the SET Plan with a focus on the 5 task forces and funding opportunities\, especially in the context of the Horizon Europe\n\nThe draft agenda is available here
URL:https://snetp.eu/event/set-plan-conference-2024/
LOCATION:Budapest\, Hungary
CATEGORIES:Conferences
END:VEVENT
BEGIN:VEVENT
DTSTART;TZID=Europe/Paris:20241118T080000
DTEND;TZID=Europe/Paris:20241118T170000
DTSTAMP:20260420T075835
CREATED:20241118T092038Z
LAST-MODIFIED:20241118T092038Z
UID:8996-1731916800-1731949200@snetp.eu
SUMMARY:GFNI - Global Forum for Nuclear Innovation
DESCRIPTION:Save the date for the 2025 edition of the Global Forum for Nuclear Innovation to be held from 24th to 27th June 2025 in Paris\, France! More information to come!
URL:https://snetp.eu/event/gfni-global-forum-for-nuclear-innovation/
LOCATION:Paris\, France
CATEGORIES:Conferences
END:VEVENT
END:VCALENDAR