BEGIN:VCALENDAR
VERSION:2.0
PRODID:-//SNETP - ECPv6.15.12.1//NONSGML v1.0//EN
CALSCALE:GREGORIAN
METHOD:PUBLISH
X-WR-CALNAME:SNETP
X-ORIGINAL-URL:https://snetp.eu
X-WR-CALDESC:Events for SNETP
REFRESH-INTERVAL;VALUE=DURATION:PT1H
X-Robots-Tag:noindex
X-PUBLISHED-TTL:PT1H
BEGIN:VTIMEZONE
TZID:Europe/Paris
BEGIN:DAYLIGHT
TZOFFSETFROM:+0100
TZOFFSETTO:+0200
TZNAME:CEST
DTSTART:20230326T010000
END:DAYLIGHT
BEGIN:STANDARD
TZOFFSETFROM:+0200
TZOFFSETTO:+0100
TZNAME:CET
DTSTART:20231029T010000
END:STANDARD
BEGIN:DAYLIGHT
TZOFFSETFROM:+0100
TZOFFSETTO:+0200
TZNAME:CEST
DTSTART:20240331T010000
END:DAYLIGHT
BEGIN:STANDARD
TZOFFSETFROM:+0200
TZOFFSETTO:+0100
TZNAME:CET
DTSTART:20241027T010000
END:STANDARD
BEGIN:DAYLIGHT
TZOFFSETFROM:+0100
TZOFFSETTO:+0200
TZNAME:CEST
DTSTART:20250330T010000
END:DAYLIGHT
BEGIN:STANDARD
TZOFFSETFROM:+0200
TZOFFSETTO:+0100
TZNAME:CET
DTSTART:20251026T010000
END:STANDARD
END:VTIMEZONE
BEGIN:VEVENT
DTSTART;VALUE=DATE:20240909
DTEND;VALUE=DATE:20240913
DTSTAMP:20260420T105346
CREATED:20240305T081728Z
LAST-MODIFIED:20240305T081728Z
UID:8294-1725840000-1726185599@snetp.eu
SUMMARY:NENE Event 2024
DESCRIPTION:Join the 33rd international conference Nuclear Energy for New Europe\, where you can connect with experts and innovators from the nuclear field. The Nuclear Society of Slovenia hosts this exciting event that showcases the latest developments and opportunities in fission and fusion energy research. \nRegister now! 
URL:https://snetp.eu/event/nene-event-2024/
LOCATION:Portorož\, Slovenia
CATEGORIES:Workshops, webinars & courses
END:VEVENT
BEGIN:VEVENT
DTSTART;TZID=Europe/Paris:20240917T080000
DTEND;TZID=Europe/Paris:20240917T170000
DTSTAMP:20260420T105346
CREATED:20240917T122310Z
LAST-MODIFIED:20240917T122412Z
UID:8822-1726560000-1726592400@snetp.eu
SUMMARY:NDE in Nuclear 2025
DESCRIPTION:Conference information: NDE in Nuclear: June 24-26th \nThe Call for Abstracts is now open to all participants and abstracts can be sent to NDEinNuclear2025@epri.com using the abstract template on the Conference website. \nRegistration for the event will be open in the upcoming weeks. Should you need an Invitation Letter\, please email NDEinNuclear2025@epri.com to let the organizing team know.
URL:https://snetp.eu/event/nde-in-nuclear-2025/
LOCATION:Los Angeles\, California
CATEGORIES:Conferences
END:VEVENT
BEGIN:VEVENT
DTSTART;VALUE=DATE:20240924
DTEND;VALUE=DATE:20240927
DTSTAMP:20260420T105346
CREATED:20240307T154737Z
LAST-MODIFIED:20240307T154737Z
UID:8308-1727136000-1727395199@snetp.eu
SUMMARY:GEMINI4.0 Summer School
DESCRIPTION:Are you a young professional or a university student from the nuclear science and engineering field? Are you keen to learn more about the latest developments within HTGR technologies? \nThen do not miss the opportunity to participate in the GEMINI 4.0 Summer School\, hosted by our partner\, the National Centre for Nuclear Research (NCBJ) in Poland. \nDate: 24th – 26th of September 2024 \nWhere: Świerk Research Centre in Otwock\, Poland. \nHow: Read more and register here \nMake sure that you visit our website and follow us on LinkedIn to learn how to register and receive the latest updates about the GEMINI 4.0 Summer School. \nWe look forward to seeing you there!
URL:https://snetp.eu/event/gemini4-0-summer-school/
LOCATION:Otwock\, Poland
END:VEVENT
END:VCALENDAR