BEGIN:VCALENDAR
VERSION:2.0
PRODID:-//SNETP - ECPv6.15.12.1//NONSGML v1.0//EN
CALSCALE:GREGORIAN
METHOD:PUBLISH
X-ORIGINAL-URL:https://snetp.eu
X-WR-CALDESC:Events for SNETP
REFRESH-INTERVAL;VALUE=DURATION:PT1H
X-Robots-Tag:noindex
X-PUBLISHED-TTL:PT1H
BEGIN:VTIMEZONE
TZID:Europe/Paris
BEGIN:DAYLIGHT
TZOFFSETFROM:+0100
TZOFFSETTO:+0200
TZNAME:CEST
DTSTART:20230326T010000
END:DAYLIGHT
BEGIN:STANDARD
TZOFFSETFROM:+0200
TZOFFSETTO:+0100
TZNAME:CET
DTSTART:20231029T010000
END:STANDARD
BEGIN:DAYLIGHT
TZOFFSETFROM:+0100
TZOFFSETTO:+0200
TZNAME:CEST
DTSTART:20240331T010000
END:DAYLIGHT
BEGIN:STANDARD
TZOFFSETFROM:+0200
TZOFFSETTO:+0100
TZNAME:CET
DTSTART:20241027T010000
END:STANDARD
BEGIN:DAYLIGHT
TZOFFSETFROM:+0100
TZOFFSETTO:+0200
TZNAME:CEST
DTSTART:20250330T010000
END:DAYLIGHT
BEGIN:STANDARD
TZOFFSETFROM:+0200
TZOFFSETTO:+0100
TZNAME:CET
DTSTART:20251026T010000
END:STANDARD
END:VTIMEZONE
BEGIN:VEVENT
DTSTART;VALUE=DATE:20240825
DTEND;VALUE=DATE:20240829
DTSTAMP:20260422T114942
CREATED:20231006T132152Z
LAST-MODIFIED:20231006T132152Z
UID:7927-1724544000-1724889599@snetp.eu
SUMMARY:NUTHOS-14
DESCRIPTION:Join the 14th International Topical Meeting on Nuclear Reactor Thermal-Hydraulics\, Operation\, and Safety (NUTHOS-14)\, taking place in Vancouver\, Canada from August 25-28\, 2024. Explore diverse technical areas within the nuclear industry\, including Thermal Hydraulics\, Advanced Modelling\, Plant Operations\, and more. Submit your abstract by the deadline for a chance to share your insights with industry experts. Visit our website for details. \nMore information and registration link here!
URL:https://snetp.eu/event/nuthos-14/
LOCATION:Vancouver\, Canada
CATEGORIES:Workshops, webinars & courses
END:VEVENT
BEGIN:VEVENT
DTSTART;VALUE=DATE:20240826
DTEND;VALUE=DATE:20240831
DTSTAMP:20260422T114942
CREATED:20240528T095848Z
LAST-MODIFIED:20240528T095848Z
UID:8632-1724630400-1725062399@snetp.eu
SUMMARY:POST- IRRADIATION EXAMINATION Workshop - ECC Smart
DESCRIPTION:The workshop (26-30 August 2024) will consist of theoretical courses and practical performances of PIE techniques. In addition\, lab tours and visits to relevant infrastructure\, including the research reactor\, will be provided. The 5day official program will be accompanied by social activities and a tour around the Prague city center. \nTheoretical courses will introduce the behaviour of materials under neutron and proton irradiation\, methods used for PIE and an interesting view into the real application such as the surveillance program\, LTO and fuel inspection. Lectures will be given by invited nuclear experts.The practical part will include work performed in hot cells with a special focus on new opportunities and challenges. \nYoung researchers and students interested in enhancing their research skills are invited to register for the upcoming event. The number of places is limited. The 5day official program will be accompanied by social activities and a tour around the Prague city center. \nSign up now!
URL:https://snetp.eu/event/post-irradiation-examination-workshop-ecc-smart/
LOCATION:Prague\, Czech Republic
CATEGORIES:Workshops, webinars & courses
END:VEVENT
END:VCALENDAR