BEGIN:VCALENDAR
VERSION:2.0
PRODID:-//SNETP - ECPv6.15.12.1//NONSGML v1.0//EN
CALSCALE:GREGORIAN
METHOD:PUBLISH
X-ORIGINAL-URL:https://snetp.eu
X-WR-CALDESC:Events for SNETP
REFRESH-INTERVAL;VALUE=DURATION:PT1H
X-Robots-Tag:noindex
X-PUBLISHED-TTL:PT1H
BEGIN:VTIMEZONE
TZID:Europe/Paris
BEGIN:DAYLIGHT
TZOFFSETFROM:+0100
TZOFFSETTO:+0200
TZNAME:CEST
DTSTART:20230326T010000
END:DAYLIGHT
BEGIN:STANDARD
TZOFFSETFROM:+0200
TZOFFSETTO:+0100
TZNAME:CET
DTSTART:20231029T010000
END:STANDARD
BEGIN:DAYLIGHT
TZOFFSETFROM:+0100
TZOFFSETTO:+0200
TZNAME:CEST
DTSTART:20240331T010000
END:DAYLIGHT
BEGIN:STANDARD
TZOFFSETFROM:+0200
TZOFFSETTO:+0100
TZNAME:CET
DTSTART:20241027T010000
END:STANDARD
BEGIN:DAYLIGHT
TZOFFSETFROM:+0100
TZOFFSETTO:+0200
TZNAME:CEST
DTSTART:20250330T010000
END:DAYLIGHT
BEGIN:STANDARD
TZOFFSETFROM:+0200
TZOFFSETTO:+0100
TZNAME:CET
DTSTART:20251026T010000
END:STANDARD
END:VTIMEZONE
BEGIN:VEVENT
DTSTART;VALUE=DATE:20240708
DTEND;VALUE=DATE:20240713
DTSTAMP:20260422T105405
CREATED:20240206T114536Z
LAST-MODIFIED:20240206T114536Z
UID:8116-1720396800-1720828799@snetp.eu
SUMMARY:MIMOSA Summer School on MSR
DESCRIPTION:The Summer School on MSR is organised by TU Delft as part of the EU-funded MIMOSA project‘s training activities. \nIt is directed at PhD students\, post-docs\, young scientists and professionals seeking to acquire basic knowledge on the main aspects of the molten salt reactor technology and associated waste management. The programme will cover both scientific and technical aspects\, such as neutronics\, thermal hydraulics\, multi-physics\, thermochemistry of the fuel salt\, structural materials and corrosion\, and reprocessing of the fuel salt. \nFEES & REGISTRATION \n\nRegistration is free for participants affiliated to MIMOSA partner organizations (up to a limit of 40 participants).\nExternal participants will need to pay a fee of 160 EUR to cover coffee\, lunch and the dinner that is included in the programme.\nAll participants will need to cover travel to Delft\, accommodation and meals not included in the programme.\nTo register\, please fill in and send the dedicated form. TU Delft will review the request and confirm registration by e-mail. Instructions for payment of the registration fees (160 EUR) by bank transfer will be provided with the e-mail confirmation to external participants.\n\nContact: mimosasummerschool2024@tudelft.nl
URL:https://snetp.eu/event/mimosa-summer-school-on-msr/
LOCATION:Delft\, Netherlands
END:VEVENT
END:VCALENDAR