BEGIN:VCALENDAR
VERSION:2.0
PRODID:-//SNETP - ECPv6.15.12.1//NONSGML v1.0//EN
CALSCALE:GREGORIAN
METHOD:PUBLISH
X-WR-CALNAME:SNETP
X-ORIGINAL-URL:https://snetp.eu
X-WR-CALDESC:Events for SNETP
REFRESH-INTERVAL;VALUE=DURATION:PT1H
X-Robots-Tag:noindex
X-PUBLISHED-TTL:PT1H
BEGIN:VTIMEZONE
TZID:Europe/Paris
BEGIN:DAYLIGHT
TZOFFSETFROM:+0100
TZOFFSETTO:+0200
TZNAME:CEST
DTSTART:20230326T010000
END:DAYLIGHT
BEGIN:STANDARD
TZOFFSETFROM:+0200
TZOFFSETTO:+0100
TZNAME:CET
DTSTART:20231029T010000
END:STANDARD
BEGIN:DAYLIGHT
TZOFFSETFROM:+0100
TZOFFSETTO:+0200
TZNAME:CEST
DTSTART:20240331T010000
END:DAYLIGHT
BEGIN:STANDARD
TZOFFSETFROM:+0200
TZOFFSETTO:+0100
TZNAME:CET
DTSTART:20241027T010000
END:STANDARD
BEGIN:DAYLIGHT
TZOFFSETFROM:+0100
TZOFFSETTO:+0200
TZNAME:CEST
DTSTART:20250330T010000
END:DAYLIGHT
BEGIN:STANDARD
TZOFFSETFROM:+0200
TZOFFSETTO:+0100
TZNAME:CET
DTSTART:20251026T010000
END:STANDARD
END:VTIMEZONE
BEGIN:VEVENT
DTSTART;VALUE=DATE:20240513
DTEND;VALUE=DATE:20240517
DTSTAMP:20260422T075107
CREATED:20230317T082810Z
LAST-MODIFIED:20230427T144859Z
UID:7275-1715558400-1715903999@snetp.eu
SUMMARY:ERMSAR 2024
DESCRIPTION:The 11th ERMSAR Conference (European Review Meeting on Severe Accidents Research) is being organized as part of the Technical Area 2 of the NUclear GENeration II and III Association (NUGENIA) in collaboration with the International Atomic Energy Agency (IAEA) and the OECD Nuclear Energy Agency (NEA). The SEAKNOT European project has taken over the organization of ERMSAR 2024\, which is considered the only nuclear conference that is fully focused on Severe Accidents. The conference is seen as an effective way to promote education and facilitate meaningful exchanges on the topic of Severe Accidents. \nThe event will take place from 13-16 May 2024 in Stockholm\, Sweden. Submit your abstracts by 31 August 2023! \nStay tuned for more information and visit the conference website at https://www.ermsar2024.conf.kth.se/ \n 
URL:https://snetp.eu/event/ermsar-2024-2/
LOCATION:Stockholm\, Sweden
CATEGORIES:Workshops, webinars & courses
END:VEVENT
BEGIN:VEVENT
DTSTART;VALUE=DATE:20240514
DTEND;VALUE=DATE:20240516
DTSTAMP:20260422T075107
CREATED:20240206T132752Z
LAST-MODIFIED:20240206T132752Z
UID:8119-1715644800-1715817599@snetp.eu
SUMMARY:APAL - Towards the definition on best-practice for advanced PTS analysis for integrity assessment of RPVs
DESCRIPTION:Join the APAL End-user workshop “Towards Best Practices for Advanced PTS Analysis of RPV Integrity” organized by the APAL project. \nHeld online and onsite at Warsaw University of Technology\, Poland\, on May 14th-15th\, 2024. This workshop aims to develop best-practice guidance for RPV integrity assessment\, benefiting nuclear power plant stakeholders. Visit the APAL End-user workshop website to check the event agenda and register.
URL:https://snetp.eu/event/apal-towards-the-definition-on-best-practice-for-advanced-pts-analysis-for-integrity-assessment-of-rpvs/
LOCATION:Warsaw University of Technology\, Poland
CATEGORIES:Workshops, webinars & courses
END:VEVENT
BEGIN:VEVENT
DTSTART;VALUE=DATE:20240523
DTEND;VALUE=DATE:20240525
DTSTAMP:20260422T075107
CREATED:20240326T165624Z
LAST-MODIFIED:20240326T165624Z
UID:8378-1716422400-1716595199@snetp.eu
SUMMARY:PASTEL Final symposium
DESCRIPTION:The H2020 PASTELS project will be hosting its Final Symposium on May 23rd-24th\, 2024 at EDF Lab Paris-Saclay\, France. The PASTELS Final Symposium\, as the final event of the project\, seeks to present the results of the project and its perspectives after 4 years of work.  \nPASTELS aims to significantly increase the knowledge in Europe on innovative passive systems\, particularly the Safety Condenser and the Containment Wall Condenser. The studies on these systems are carried out experimentally and numerically with different test facilities and computational tools from several European partners. In this context\, systems and CFD computational codes are tested to assess their ability to accurately model key phenomena such as natural circulation loops and condensation. Registrations are mandatory and available through this form up to April 8th\, 2024. Agenda and confirmation of attendance with logistic information will be available at a later stage. Questions and further assistance at pastels-arttic@eurtd.com.  \nDetails:  \nWebsite of the project: https://www.pastels-h2020.eu/  \nVenue: Paris-Saclay\, France 
URL:https://snetp.eu/event/pastel-final-symposium/
LOCATION:Paris-Saclay\, France
CATEGORIES:Workshops, webinars & courses
END:VEVENT
BEGIN:VEVENT
DTSTART;VALUE=DATE:20240529
DTEND;VALUE=DATE:20240531
DTSTAMP:20260422T075107
CREATED:20240505T112429Z
LAST-MODIFIED:20240505T112503Z
UID:8536-1716940800-1717113599@snetp.eu
SUMMARY:1st General Assembly of the European Industrial Alliance on SMRs
DESCRIPTION:Following the early February 2024 launch of the European Industrial Alliance on SMRs\, the inaugural General Assembly is organised in Brussels on May 29-30\, 2024. As the proposed dates are not fully confirmed yet participants are advised not to arrange their travel accommodations. Please follow this page for updates and confirmation of the dates. \nAt this event\, the Secretariat of the Alliance will reveal the outcomes of the Membership Call\, including the types of the members\, the sectors represented\, and the geographical distribution. Additionally\, the structure of the Alliance will be detailed\, encompassing the Governing Board\, the Technical Working Groups\, and the Project-Based Working Groups. Alongside the endorsement of the Governing Board\, the proposal for the creation of Technical Working Groups and the topics to be covered will be introduced. The consolidated eligibility criteria for evaluating SMR projects potentially supported by the Alliance will also be presented and discussed. On the second day\, the objective\, activities and expected outcomes of each proposed Technical Working Group will be presented\, offering members the chance to select their preferred working group(s) for participation. \nFinally\, during the event\, high-level industry\, EU Member States\, and the European Commission representatives will share their perspectives on the current challenges and latest news associated with SMRs\, providing insights from both public and private viewpoints. \nThe event program will be detailed in due course and made available here. \nAttendance at the General Assembly is reserved exclusively for the members of the Alliance\, as specified in the Terms of Reference. Members will have the option to attend this event in person or participate remotely. \nAll participants must register here\, using the password provided by e-mail.
URL:https://snetp.eu/event/1st-general-assembly-of-the-european-industrial-alliance-on-smrs/
LOCATION:Brussels\, Belgium
CATEGORIES:Conferences,SNETP meetings
END:VEVENT
END:VCALENDAR