BEGIN:VCALENDAR
VERSION:2.0
PRODID:-//SNETP - ECPv6.15.12.1//NONSGML v1.0//EN
CALSCALE:GREGORIAN
METHOD:PUBLISH
X-ORIGINAL-URL:https://snetp.eu
X-WR-CALDESC:Events for SNETP
REFRESH-INTERVAL;VALUE=DURATION:PT1H
X-Robots-Tag:noindex
X-PUBLISHED-TTL:PT1H
BEGIN:VTIMEZONE
TZID:Europe/Paris
BEGIN:DAYLIGHT
TZOFFSETFROM:+0100
TZOFFSETTO:+0200
TZNAME:CEST
DTSTART:20230326T010000
END:DAYLIGHT
BEGIN:STANDARD
TZOFFSETFROM:+0200
TZOFFSETTO:+0100
TZNAME:CET
DTSTART:20231029T010000
END:STANDARD
BEGIN:DAYLIGHT
TZOFFSETFROM:+0100
TZOFFSETTO:+0200
TZNAME:CEST
DTSTART:20240331T010000
END:DAYLIGHT
BEGIN:STANDARD
TZOFFSETFROM:+0200
TZOFFSETTO:+0100
TZNAME:CET
DTSTART:20241027T010000
END:STANDARD
BEGIN:DAYLIGHT
TZOFFSETFROM:+0100
TZOFFSETTO:+0200
TZNAME:CEST
DTSTART:20250330T010000
END:DAYLIGHT
BEGIN:STANDARD
TZOFFSETFROM:+0200
TZOFFSETTO:+0100
TZNAME:CET
DTSTART:20251026T010000
END:STANDARD
END:VTIMEZONE
BEGIN:VEVENT
DTSTART;VALUE=DATE:20240417
DTEND;VALUE=DATE:20240420
DTSTAMP:20260422T062409
CREATED:20231205T131445Z
LAST-MODIFIED:20240104T110354Z
UID:7982-1713312000-1713571199@snetp.eu
SUMMARY:SNETP Forum 2024
DESCRIPTION:The 2024 SNETP Forum will take place from 17 to 19 April 2024! \nStay tuned\, more information to come!
URL:https://snetp.eu/event/snetp-forum-2024/
CATEGORIES:SNETP events
END:VEVENT
BEGIN:VEVENT
DTSTART;VALUE=DATE:20240424
DTEND;VALUE=DATE:20240427
DTSTAMP:20260422T062409
CREATED:20240305T081214Z
LAST-MODIFIED:20240305T081214Z
UID:8290-1713916800-1714175999@snetp.eu
SUMMARY:The 9th Central & Eastern Europe Nuclear Industry Congress 2024
DESCRIPTION:The 9th Central & Eastern Europe Nuclear Industry Congress 2024 aims to bring together companies across the nuclear power plant life cycle\, offering insights into the CEE nuclear market\, new build projects\, life extension\, and decommissioning initiatives in the region. Through the exchange of best practices and showcasing innovative technologies\, the congress serves as a vital platform for industry professionals to stay abreast of trends and advancements. Attendees can anticipate gaining valuable industry insights\, exploring investment opportunities\, and fostering potential partnerships during the two-day event. \nRegister now here!
URL:https://snetp.eu/event/the-9th-central-eastern-europe-nuclear-industry-congress-2024-2/
LOCATION:Prague\, Czech Republic
CATEGORIES:Workshops, webinars & courses
END:VEVENT
END:VCALENDAR