BEGIN:VCALENDAR
VERSION:2.0
PRODID:-//SNETP - ECPv6.15.12.1//NONSGML v1.0//EN
CALSCALE:GREGORIAN
METHOD:PUBLISH
X-ORIGINAL-URL:https://snetp.eu
X-WR-CALDESC:Events for SNETP
REFRESH-INTERVAL;VALUE=DURATION:PT1H
X-Robots-Tag:noindex
X-PUBLISHED-TTL:PT1H
BEGIN:VTIMEZONE
TZID:Europe/Paris
BEGIN:DAYLIGHT
TZOFFSETFROM:+0100
TZOFFSETTO:+0200
TZNAME:CEST
DTSTART:20230326T010000
END:DAYLIGHT
BEGIN:STANDARD
TZOFFSETFROM:+0200
TZOFFSETTO:+0100
TZNAME:CET
DTSTART:20231029T010000
END:STANDARD
BEGIN:DAYLIGHT
TZOFFSETFROM:+0100
TZOFFSETTO:+0200
TZNAME:CEST
DTSTART:20240331T010000
END:DAYLIGHT
BEGIN:STANDARD
TZOFFSETFROM:+0200
TZOFFSETTO:+0100
TZNAME:CET
DTSTART:20241027T010000
END:STANDARD
BEGIN:DAYLIGHT
TZOFFSETFROM:+0100
TZOFFSETTO:+0200
TZNAME:CEST
DTSTART:20250330T010000
END:DAYLIGHT
BEGIN:STANDARD
TZOFFSETFROM:+0200
TZOFFSETTO:+0100
TZNAME:CET
DTSTART:20251026T010000
END:STANDARD
END:VTIMEZONE
BEGIN:VEVENT
DTSTART;TZID=Europe/Paris:20240206T080000
DTEND;TZID=Europe/Paris:20240206T170000
DTSTAMP:20260422T031617
CREATED:20240206T145234Z
LAST-MODIFIED:20240206T145234Z
UID:8130-1707206400-1707238800@snetp.eu
SUMMARY:The 9th Central & Eastern Europe Nuclear Industry Congress 2024
DESCRIPTION:The 9th Central & Eastern Europe Nuclear Industry Congress 24-26 April 2024 in Prague\, Czech Republic\, brings together key players across the nuclear power plant life cycle. With a focus on the CEE nuclear market\, the congress highlights new build projects\, life extension initiatives\, and decommissioning projects. Attendees will share best practices and explore innovative technologies fostering business collaboration in the CEE market. \nRegister now!
URL:https://snetp.eu/event/the-9th-central-eastern-europe-nuclear-industry-congress-2024/
LOCATION:Prague\, Czech Republic
CATEGORIES:Workshops, webinars & courses
END:VEVENT
BEGIN:VEVENT
DTSTART;TZID=Europe/Paris:20240206T080000
DTEND;TZID=Europe/Paris:20240206T170000
DTSTAMP:20260422T031617
CREATED:20240206T145535Z
LAST-MODIFIED:20240206T145535Z
UID:8132-1707206400-1707238800@snetp.eu
SUMMARY:18-th International Exhibition «UZENERGYEXPO 2024»
DESCRIPTION:The 18-th International Exhibition «UZENERGYEXPO 2024 is a current event taking place from 29 to 31 October 2024 that allows all participants in the energy marketexchange experience with foreign partners\, get the opportunityestablish and expand business contacts\, and also take part in the futuredevelopment of this industry in the Republic of Uzbekistan.
URL:https://snetp.eu/event/18-th-international-exhibition-uzenergyexpo-2024/
LOCATION:Tashkent\, Uzbekistan
CATEGORIES:Workshops, webinars & courses
END:VEVENT
BEGIN:VEVENT
DTSTART;VALUE=DATE:20240208
DTEND;VALUE=DATE:20240209
DTSTAMP:20260422T031617
CREATED:20240109T104439Z
LAST-MODIFIED:20240109T104439Z
UID:8013-1707350400-1707436799@snetp.eu
SUMMARY:ENLIT Impact Circle
DESCRIPTION:Taking place on February 8th in Milan\, Italy\, the ENLIT Impact Circle brings together a group of esteemed energy specialists. This collective is dedicated to envisioning and charting an exciting Enlit Europe program. During this in-person meeting\, members will collaboratively identify essential trends\, explore captivating topics\, select dynamic speakers\, and define engaging formats for both the Summit and the Hub Sessions.
URL:https://snetp.eu/event/enlit-impact-circle/
LOCATION:Milan\, Italy
CATEGORIES:Workshops, webinars & courses
END:VEVENT
BEGIN:VEVENT
DTSTART;VALUE=DATE:20240222
DTEND;VALUE=DATE:20240223
DTSTAMP:20260422T031617
CREATED:20240305T080225Z
LAST-MODIFIED:20240305T080225Z
UID:8284-1708560000-1708646399@snetp.eu
SUMMARY:SET Plan Steering Group meeting
DESCRIPTION:This event aims to present the achievements of the Nuclear safety working group at the upcoming SET Plan Steering Group meeting
URL:https://snetp.eu/event/set-plan-steering-group-meeting/
LOCATION:Online
CATEGORIES:Workshops, webinars & courses
END:VEVENT
BEGIN:VEVENT
DTSTART;VALUE=DATE:20240229
DTEND;VALUE=DATE:20240302
DTSTAMP:20260422T031617
CREATED:20240305T080440Z
LAST-MODIFIED:20240305T080440Z
UID:8286-1709164800-1709337599@snetp.eu
SUMMARY:ENEN - Nuclear Skills in Europe
DESCRIPTION:Nuclear Skills in Europe – the impact of E&T // 2024 ENEN’s Special Event and General Assembly. These events will take place on February 29th and on March 1st . On February 29th\, The Special Event will start at 09.00 at ENEN’s premises\, at Fondation Universitaire. We choose to dedicate this event to nuclear skills and more specifically the thematic will be “Nuclear Skills in Europe – the impact of E&T
URL:https://snetp.eu/event/enen-nuclear-skills-in-europe/
LOCATION:Brussels\, Belgium
END:VEVENT
BEGIN:VEVENT
DTSTART;TZID=Europe/Paris:20240229T140000
DTEND;TZID=Europe/Paris:20240229T173000
DTSTAMP:20260422T031617
CREATED:20240206T142429Z
LAST-MODIFIED:20240206T142429Z
UID:8122-1709215200-1709227800@snetp.eu
SUMMARY:Nuketech events - Nuclear robotics
DESCRIPTION:Join the seminar on nuclear robotics\, presented as part of the Brussels Institute for Advanced Studies’ program. This event will feature presentations from three startups\, highlighting their innovative work in the field of nuclear robotics. The seminar aims to foster a deeply technical discussion\, where participants can openly share achievements and challenges. Attendance is available both in person and online. Registration and information are available now!
URL:https://snetp.eu/event/nuketech-events-nuclear-robotics/
CATEGORIES:Workshops, webinars & courses
END:VEVENT
END:VCALENDAR