BEGIN:VCALENDAR
VERSION:2.0
PRODID:-//SNETP - ECPv6.15.12.1//NONSGML v1.0//EN
CALSCALE:GREGORIAN
METHOD:PUBLISH
X-WR-CALNAME:SNETP
X-ORIGINAL-URL:https://snetp.eu
X-WR-CALDESC:Events for SNETP
REFRESH-INTERVAL;VALUE=DURATION:PT1H
X-Robots-Tag:noindex
X-PUBLISHED-TTL:PT1H
BEGIN:VTIMEZONE
TZID:Europe/Paris
BEGIN:DAYLIGHT
TZOFFSETFROM:+0100
TZOFFSETTO:+0200
TZNAME:CEST
DTSTART:20230326T010000
END:DAYLIGHT
BEGIN:STANDARD
TZOFFSETFROM:+0200
TZOFFSETTO:+0100
TZNAME:CET
DTSTART:20231029T010000
END:STANDARD
BEGIN:DAYLIGHT
TZOFFSETFROM:+0100
TZOFFSETTO:+0200
TZNAME:CEST
DTSTART:20240331T010000
END:DAYLIGHT
BEGIN:STANDARD
TZOFFSETFROM:+0200
TZOFFSETTO:+0100
TZNAME:CET
DTSTART:20241027T010000
END:STANDARD
BEGIN:DAYLIGHT
TZOFFSETFROM:+0100
TZOFFSETTO:+0200
TZNAME:CEST
DTSTART:20250330T010000
END:DAYLIGHT
BEGIN:STANDARD
TZOFFSETFROM:+0200
TZOFFSETTO:+0100
TZNAME:CET
DTSTART:20251026T010000
END:STANDARD
END:VTIMEZONE
BEGIN:VEVENT
DTSTART;VALUE=DATE:20240125
DTEND;VALUE=DATE:20240126
DTSTAMP:20260422T014258
CREATED:20240102T100108Z
LAST-MODIFIED:20240102T100136Z
UID:7999-1706140800-1706227199@snetp.eu
SUMMARY:Workshop on National Nuclear  Workforce Assessments
DESCRIPTION:The JRC/EHRO-N is organising\, in collaboration with Nucleareurope and European Nuclear Society\, a workshop on approaches for performing Nuclear Workforce Assessments (NWA). The European Human Resources Observatory in the Nuclear field (EHRO-N)\, is driven by organisations representing major stakeholders in the European Civil Nuclear Sector and managed by the European Commission’s Joint Research Centre (JRC). It is active in the field of Knowledge Management of competences and human resources in the nuclear sector. \nThe workshop aims to facilitate the exchange of experiences and knowledge concerning national approaches for assessing and monitoring that a sufficient pool of human resources and skills are available within the nuclear domain. The focus will be on the process of establishing a NWA\, rather than specific outcomes. This event will take place in Brussels on 25 January 2024\, exclusively in person. \nDiscover the EHRO-N Flyer! \nMore information here!
URL:https://snetp.eu/event/workshop-on-national-nuclear-workforce-assessments-2/
LOCATION:Brussels\, Belgium
CATEGORIES:Workshops, webinars & courses
END:VEVENT
BEGIN:VEVENT
DTSTART;VALUE=DATE:20240125
DTEND;VALUE=DATE:20240126
DTSTAMP:20260422T014258
CREATED:20240109T103821Z
LAST-MODIFIED:20240109T103821Z
UID:8011-1706140800-1706227199@snetp.eu
SUMMARY:JRC/EHRO-N Workshop on approaches for performing Nuclear Workforce Assessments (NWA)
DESCRIPTION:JRC/EHRO-N is organising\, in collaboration with Nucleareurope and European Nuclear Society\, a workshop on approaches for performing Nuclear Workforce Assessments (NWA). 
URL:https://snetp.eu/event/jrc-ehro-n-workshop-on-approaches-for-performing-nuclear-workforce-assessments-nwa/
LOCATION:Brussels\, Belgium
CATEGORIES:Workshops, webinars & courses
END:VEVENT
BEGIN:VEVENT
DTSTART;VALUE=DATE:20240125
DTEND;VALUE=DATE:20240126
DTSTAMP:20260422T014258
CREATED:20240109T105835Z
LAST-MODIFIED:20240109T105835Z
UID:8023-1706140800-1706227199@snetp.eu
SUMMARY:Workshop on National Nuclear Workforce Assessments
DESCRIPTION:Save the date for the Workshop on National Nuclear Workforce Assessments taking place on January 25\, 2024\, in Brussels.
URL:https://snetp.eu/event/workshop-on-national-nuclear-workforce-assessments-3/
LOCATION:Brussels\, Belgium
CATEGORIES:Workshops, webinars & courses
END:VEVENT
BEGIN:VEVENT
DTSTART;TZID=Europe/Paris:20240125T090000
DTEND;TZID=Europe/Paris:20240125T170000
DTSTAMP:20260422T014258
CREATED:20231219T130142Z
LAST-MODIFIED:20231219T130142Z
UID:7997-1706173200-1706202000@snetp.eu
SUMMARY:Workshop on National Nuclear Workforce Assessments
DESCRIPTION:Workshop on National Nuclear Workforce Assessments\nApproaches for managing human resources and competences in the nuclear sector \nSpecific objective:\nThe objectives of the workshop is to share experiences\, knowledge and national approaches in relation to building and/or maintaining sufficient human resources and competences in the nuclear field (full cycle of power generation\, research\, medical\, safety authorities\, defence\, fusion).\nThe focus of the workshop will be on the processes of establishing a Nuclear Workforce Assessment (NWA)\, rather than specific results. \nIssues to be addressed include:\n– Overview of NWA process\, stakeholders to be involved\,\n– Mapping of existing workforce\n– Predicting future workforce needs\n– Mapping of supply to workforce (education and training\, mobility\, up- and reskilling)\n– Gap analysis between workforce needs and supply\n– Development and implementation of Skills strategy / Action plan\n– Lessons learnt and recommendations \nTarget audience:\nThis WS is targeting anyone interested in action supporting a sustained nuclear workforce.\n– Government officials and authorities\,\n– HR practitioners and experts\,\n– Industry and supply chain\,\n– All stakeholders involved in and supporting the establishment of national NWA’s \nMeeting details:\nHost: JRC\, EHRO-N in collaboration with Nucleareurope and the European Nuclear Society\nDate and time: 25th January 2024 – 9:00 to 17:00\nVenue: Albert Borschette\, Rue Froissart 36. Brussels\nFormat: In presence (no online service) \nHow to register:\nRegistration is free and can be done by sending an e-mail to JRC-PTT-EHRON@ec.europa.eu providing the following information:\n– First name\n– Last name\n– Email address (you can be contacted on)\n– Company/organisation \nYou will then receive an e-mail with a link to complete the registrations process with your personal details. Please note that identification with an ID-card or passport is needed.\nThe deadline for registration is 10 January 2024
URL:https://snetp.eu/event/workshop-on-national-nuclear-workforce-assessments/
LOCATION:Brussels\, Belgium
END:VEVENT
END:VCALENDAR