BEGIN:VCALENDAR
VERSION:2.0
PRODID:-//SNETP - ECPv6.15.12.1//NONSGML v1.0//EN
CALSCALE:GREGORIAN
METHOD:PUBLISH
X-ORIGINAL-URL:https://snetp.eu
X-WR-CALDESC:Events for SNETP
REFRESH-INTERVAL;VALUE=DURATION:PT1H
X-Robots-Tag:noindex
X-PUBLISHED-TTL:PT1H
BEGIN:VTIMEZONE
TZID:Europe/Paris
BEGIN:DAYLIGHT
TZOFFSETFROM:+0100
TZOFFSETTO:+0200
TZNAME:CEST
DTSTART:20220327T010000
END:DAYLIGHT
BEGIN:STANDARD
TZOFFSETFROM:+0200
TZOFFSETTO:+0100
TZNAME:CET
DTSTART:20221030T010000
END:STANDARD
BEGIN:DAYLIGHT
TZOFFSETFROM:+0100
TZOFFSETTO:+0200
TZNAME:CEST
DTSTART:20230326T010000
END:DAYLIGHT
BEGIN:STANDARD
TZOFFSETFROM:+0200
TZOFFSETTO:+0100
TZNAME:CET
DTSTART:20231029T010000
END:STANDARD
BEGIN:DAYLIGHT
TZOFFSETFROM:+0100
TZOFFSETTO:+0200
TZNAME:CEST
DTSTART:20240331T010000
END:DAYLIGHT
BEGIN:STANDARD
TZOFFSETFROM:+0200
TZOFFSETTO:+0100
TZNAME:CET
DTSTART:20241027T010000
END:STANDARD
END:VTIMEZONE
BEGIN:VTIMEZONE
TZID:UTC
BEGIN:STANDARD
TZOFFSETFROM:+0000
TZOFFSETTO:+0000
TZNAME:UTC
DTSTART:20220101T000000
END:STANDARD
END:VTIMEZONE
BEGIN:VEVENT
DTSTART;VALUE=DATE:20230606
DTEND;VALUE=DATE:20230607
DTSTAMP:20260421T145423
CREATED:20230529T134809Z
LAST-MODIFIED:20230529T135020Z
UID:7498-1686009600-1686095999@snetp.eu
SUMMARY:Webinar Terra Water - Nucleareurope
DESCRIPTION:Discover TerraWater’s scenario for France’s Net Zero future in this webinar\, focusing on low-carbon electricity\, energy sovereignty\, and social equity through proven technologies. Register to explore a sustainable path to 2050!
URL:https://snetp.eu/event/webinar-terra-water-nucleareurope/
LOCATION:Online
CATEGORIES:Workshops, webinars & courses
END:VEVENT
BEGIN:VEVENT
DTSTART;VALUE=DATE:20230619
DTEND;VALUE=DATE:20230624
DTSTAMP:20260421T145423
CREATED:20221123T104439Z
LAST-MODIFIED:20221123T110438Z
UID:6598-1687132800-1687564799@snetp.eu
SUMMARY:SEAKNOT - Severe Accident Phenomenology short course - SAP 2023
DESCRIPTION:The 2023 edition of the Short Course on Severe Accident Phenomenology (SAP) will take place from 19-23 June 2023 at Escuela Técnica Superior de Ingenieros Industriales\, Universidad Politécnica de Madrid. \nThe SAP course will focus on the knowledge gained on Severe Accident in the last two decades to M.Sc.-Ph.D. students\, young engineers and researchers recently involved in severe accidents. \nStay tuned for more information on the matter!
URL:https://snetp.eu/event/seaknot-severe-accident-phenomenology-short-course-sap-2023/
LOCATION:Madrid\, Spain
CATEGORIES:SNETP events
END:VEVENT
BEGIN:VEVENT
DTSTART;VALUE=DATE:20230620
DTEND;VALUE=DATE:20230621
DTSTAMP:20260421T145423
CREATED:20230316T141253Z
LAST-MODIFIED:20230316T141253Z
UID:7273-1687219200-1687305599@snetp.eu
SUMMARY:ETIP SNET & BRIDGE Key results
DESCRIPTION:The European Technology & Innovation Platforms (ETIP) and BRIDGE Secretariat is pleased to invite you to its “Key results and steps forward” event that will take place on the 20 June 2023 in Brussels. \nThe event will begin at 18:00 and will showcase the key results achieved over the past three years and the upcoming steps forward of the two European Commission’s initiatives. This is an opportunity to meet with numerous stakeholders in the energy field. \nMore information on how to register here!
URL:https://snetp.eu/event/etip-snet-bridge-key-results/
CATEGORIES:Workshops, webinars & courses
END:VEVENT
BEGIN:VEVENT
DTSTART;VALUE=DATE:20230620
DTEND;VALUE=DATE:20230622
DTSTAMP:20260421T145423
CREATED:20230412T091635Z
LAST-MODIFIED:20230412T091635Z
UID:7313-1687219200-1687391999@snetp.eu
SUMMARY:NuclearEurope 2023
DESCRIPTION:The NuclearEurope2023 conference will focus on nuclear both as a strategic European industry and as an enabler for the larger low-carbon European industrial base. Topics to be covered include: \n\nEurope’s competitiveness\nEnergy sovereignty\nA strong European supply chain\nRole of nuclear in achieving the climate targets\nExtending the life of the existing nuclear fleet\nNuclear new build\nWorkforce and skills\n\nFor more information about the event and how to register\, head over to NuclearEurope’s event website!
URL:https://snetp.eu/event/nucleareurope-2023/
LOCATION:Lyon\, France
CATEGORIES:Conferences,Workshops, webinars & courses
END:VEVENT
BEGIN:VEVENT
DTSTART;VALUE=DATE:20230620
DTEND;VALUE=DATE:20230623
DTSTAMP:20260421T145423
CREATED:20230529T141213Z
LAST-MODIFIED:20230529T141213Z
UID:7500-1687219200-1687478399@snetp.eu
SUMMARY:European Sustainable Energy Week 2023
DESCRIPTION:The European Sustainable Energy Week 2023 will take place in Brussels and online on 20-22 June 2023. \nEUSEW 2023 offers a policy conference\, EUSEW Awards\, Energy Fair\, European Youth Energy Day\, and Sustainable Energy Days. It welcomes diverse participants and promotes clean energy and sustainability. Register now! 
URL:https://snetp.eu/event/european-sustainable-energy-week-2023/
LOCATION:Brussels\, Belgium
CATEGORIES:Workshops, webinars & courses
END:VEVENT
BEGIN:VEVENT
DTSTART;VALUE=DATE:20230620
DTEND;VALUE=DATE:20230622
DTSTAMP:20260421T145423
CREATED:20230608T102414Z
LAST-MODIFIED:20230608T102414Z
UID:7686-1687219200-1687391999@snetp.eu
SUMMARY:HARMONISE\, ECC-SMART\, McSafer\, ELSMOR - Workshop
DESCRIPTION:The HARMONISE\, ECC-SMART\, McSafer\, ELSMOR Workshop on the Safety of Small Modular\, Advanced and Fusion Reactors will take place fron 20-21 June 2023. \nThe two-day workshop will be devoted to the technical presentations by participants of projects HARMONISE\, ECC-SMART\, McSafer and ELSMOR\, which will be enriched with insight from guests active in international organizations dealing with nuclear and non-nuclear safety cases and regulations. The workshop will bring together the European and international efforts to promote\, sustain and increase the stakeholder’s awareness on the on-going efforts to develop strong safety cases for small modular\, advanced and fusion reactors. \nDiscover the full programme here! Register now!
URL:https://snetp.eu/event/harmonise-ecc-smart-mcsafer-elsmor-workshop/
LOCATION:Celje\, Slovenia
CATEGORIES:Workshops, webinars & courses
END:VEVENT
BEGIN:VEVENT
DTSTART;VALUE=DATE:20230627
DTEND;VALUE=DATE:20230630
DTSTAMP:20260421T145423
CREATED:20220714T052759Z
LAST-MODIFIED:20220714T052759Z
UID:6119-1687824000-1688083199@snetp.eu
SUMMARY:NDE in Nuclear 2023
DESCRIPTION:The Sustainable Nuclear Energy Technology Plaform (SNETP) is pleased to announce the second edition of the international conference Non-Destructive Examination (NDE) in Nuclear\, to be held at Cutlers Hall and the Nuclear Advanced Manufacturing Research Centre (NAMRC) in Sheffield\, UK from June 27-29\, 2023. \nNDE in Nuclear 2023 will build upon the success of the first conference of this new series of nuclear NDE conferences\, NDE in Nuclear 2019 (organized by EPRI)\, by providing an international conference for NDE professionals from nuclear utilities\, inspection vendors\, inspection equipment manufacturers\, qualification bodies\, research laboratories and other nuclear stakeholders to discuss latest advancements in R&D and application of NDE technologies for the commercial nuclear industry. \nDownload NDE Flyer here
URL:https://snetp.eu/event/nde-in-nuclear-2023/
LOCATION:Sheffield\, UK
CATEGORIES:Conferences
END:VEVENT
END:VCALENDAR