BEGIN:VCALENDAR
VERSION:2.0
PRODID:-//SNETP - ECPv6.15.12.1//NONSGML v1.0//EN
CALSCALE:GREGORIAN
METHOD:PUBLISH
X-ORIGINAL-URL:https://snetp.eu
X-WR-CALDESC:Events for SNETP
REFRESH-INTERVAL;VALUE=DURATION:PT1H
X-Robots-Tag:noindex
X-PUBLISHED-TTL:PT1H
BEGIN:VTIMEZONE
TZID:Europe/Paris
BEGIN:DAYLIGHT
TZOFFSETFROM:+0100
TZOFFSETTO:+0200
TZNAME:CEST
DTSTART:20220327T010000
END:DAYLIGHT
BEGIN:STANDARD
TZOFFSETFROM:+0200
TZOFFSETTO:+0100
TZNAME:CET
DTSTART:20221030T010000
END:STANDARD
BEGIN:DAYLIGHT
TZOFFSETFROM:+0100
TZOFFSETTO:+0200
TZNAME:CEST
DTSTART:20230326T010000
END:DAYLIGHT
BEGIN:STANDARD
TZOFFSETFROM:+0200
TZOFFSETTO:+0100
TZNAME:CET
DTSTART:20231029T010000
END:STANDARD
BEGIN:DAYLIGHT
TZOFFSETFROM:+0100
TZOFFSETTO:+0200
TZNAME:CEST
DTSTART:20240331T010000
END:DAYLIGHT
BEGIN:STANDARD
TZOFFSETFROM:+0200
TZOFFSETTO:+0100
TZNAME:CET
DTSTART:20241027T010000
END:STANDARD
END:VTIMEZONE
BEGIN:VTIMEZONE
TZID:UTC
BEGIN:STANDARD
TZOFFSETFROM:+0000
TZOFFSETTO:+0000
TZNAME:UTC
DTSTART:20220101T000000
END:STANDARD
END:VTIMEZONE
BEGIN:VEVENT
DTSTART;TZID=Europe/Paris:20230503T140000
DTEND;TZID=Europe/Paris:20230503T173000
DTSTAMP:20260421T132659
CREATED:20230417T144427Z
LAST-MODIFIED:20230417T145349Z
UID:7348-1683122400-1683135000@snetp.eu
SUMMARY:SNETPFORWARD SMEs Webinar
DESCRIPTION:As part of the ongoing EURATOM project (SNETPFORWARD)\, and in close collaboration with the European Commission representatives EURATOM- fission\, SNETP is very pleased to invite you to be an active participant in the SMEs Webinar. The webinar will take place on 3 May from 2:00pm to 5:30 pm (see agenda) and will be hosted on Teams. We invite you to register before April 26th and complete the questionnaire to help us better understand your specific needs for submitting a proposal. \nThis meeting is organized for all SMEs members for SNETP to understand their needs and maximize their participation in European collaborative projects. The different EU funding opportunities open for SMEs as well as good practices will be presented by EC representatives and the SNETP Secretariat. This will be an opportunity to discuss the main barriers for SMEs to participate in EU collaborative research and will allow us to co-build solutions to increase your impact. We encourage you to participate in the event as big companies will also be present. It will be a perfect time to share your thoughts and needs. \nSNETP expertise and services will be presented to members as support for future opportunities. Special attention will be given to the upcoming calls for projects of Euratom (2023 calls). \nThe Webinar is open only to SNETP SME/Start-ups members. Register now! 
URL:https://snetp.eu/event/snetpforward-smes-webinar/
LOCATION:Online
CATEGORIES:SNETP events,Workshops, webinars & courses
END:VEVENT
BEGIN:VEVENT
DTSTART;VALUE=DATE:20230510
DTEND;VALUE=DATE:20230512
DTSTAMP:20260421T132659
CREATED:20221123T164755Z
LAST-MODIFIED:20221123T164813Z
UID:6603-1683676800-1683849599@snetp.eu
SUMMARY:MUSA - FINAL OPEN WORKSHOP
DESCRIPTION:MUSA will have its Final Open Workshop on 10-11 May 2023 in Madrid\, Spain. Uncertainties Quantification (UQ) in the Severe Accident area will be discussed\, presentions of the latest advances\, followed by a Q&A. \nMore information will be delivered in the coming weeks. Don’t miss anything\, follow the MUSA project on LinkedIn and head over to their website for all the latest news!
URL:https://snetp.eu/event/musa-final-open-workshop/
LOCATION:Madrid\, Spain
CATEGORIES:Workshops, webinars & courses
END:VEVENT
BEGIN:VEVENT
DTSTART;VALUE=DATE:20230511
DTEND;VALUE=DATE:20230513
DTSTAMP:20260421T132659
CREATED:20230216T080913Z
LAST-MODIFIED:20230216T080913Z
UID:7111-1683763200-1683935999@snetp.eu
SUMMARY:APAL Advanced Workshop Procedures for integrity assessment of RPVs subjected to PTS loading
DESCRIPTION:The APAL project will hold an advanced workshop on “Procedures for integrity assessment of RPVs subjected to PTS loading” on 11 and 12 May 2023 both online and in person in Ljubljana\, Slovenia. \nAPAL’s main goal is to formulate a best-practice guidance for deterministic and probabilistic reactor pressure vessel (RPV) integrity assessment considering improved methodologies and also recommendations for the assessment of long-term operation (LTO) improvements\, in which advanced methods assessed in the project (both deterministic and probabilistic) are described. \nThe workshop is thus dedicated to advanced methods for weld residual stress (WRS)\, warm pre-stress (WPS)\, thermal-hydraulic (TH) analysis\, probabilistic analysis and LTO improvements on pressurized thermal shock (PTS). \nMore information here.
URL:https://snetp.eu/event/apal-advanced-workshop-procedures-for-integrity-assessment-of-rpvs-subjected-to-pts-loading/
LOCATION:Ljubljana\, Slovenia
CATEGORIES:Workshops, webinars & courses
END:VEVENT
BEGIN:VEVENT
DTSTART;VALUE=DATE:20230515
DTEND;VALUE=DATE:20230518
DTSTAMP:20260421T132659
CREATED:20230125T092000Z
LAST-MODIFIED:20230417T131030Z
UID:6950-1684108800-1684367999@snetp.eu
SUMMARY:SNETP Forum 2023
DESCRIPTION:The SNETP Forum 2023 will be held  at Chalmers University of Technology in Göteborg\, Sweden\, 15 – 17 May 2023. \nSNETP is an international association (AISBL) composed of around 110 members from 25 countries\, gathering nuclear power plant operators\, research centres\, nuclear industry and technical support organizations. The association has been supporting the creation and the implementation of R&D programmes since 2007. The SNETP Forum 2023\, aims at discussing and analysing recent technological innovations in the field of SMRs\, AMR and advanced nuclear\, safety\, waste management & recycling\, non-electricity applications\, LTO and improved NPP operation\, fuel elements and hybridisation\, to enable the nuclear sector to play its role in the mitigation of climate change and to contribute to climate neutrality. \nDiscover the full programme here! Stay up to date with all the latest Forum news and registration information on the event’s website!
URL:https://snetp.eu/event/snetp-forum-2023/
LOCATION:Göteborg\, Sweden
CATEGORIES:SNETP events
END:VEVENT
BEGIN:VEVENT
DTSTART;VALUE=DATE:20230521
DTEND;VALUE=DATE:20230527
DTSTAMP:20260421T132659
CREATED:20220921T082331Z
LAST-MODIFIED:20220921T082331Z
UID:6438-1684627200-1685145599@snetp.eu
SUMMARY:30th International Conference on Nuclear Engineering ICONE30
DESCRIPTION:The 30th International Conference on Nuclear Engineering ICONE30 will take place from 21-26 May 2023 in Kyoto\, Japan. It will be an oportunity for  professionals from companies\, governments\, academias and technical societies to focus on  the technical state-of-the-art and the current status of nuclear power around the world. \nFor more information about the event\, call for papers and registrations\, head over to the ICONE30 event page!
URL:https://snetp.eu/event/30th-international-conference-on-nuclear-engineering-icone30/
LOCATION:Kyoto\, Japan
CATEGORIES:Conferences
END:VEVENT
END:VCALENDAR