BEGIN:VCALENDAR
VERSION:2.0
PRODID:-//SNETP - ECPv6.15.12.1//NONSGML v1.0//EN
CALSCALE:GREGORIAN
METHOD:PUBLISH
X-WR-CALNAME:SNETP
X-ORIGINAL-URL:https://snetp.eu
X-WR-CALDESC:Events for SNETP
REFRESH-INTERVAL;VALUE=DURATION:PT1H
X-Robots-Tag:noindex
X-PUBLISHED-TTL:PT1H
BEGIN:VTIMEZONE
TZID:Europe/Paris
BEGIN:DAYLIGHT
TZOFFSETFROM:+0100
TZOFFSETTO:+0200
TZNAME:CEST
DTSTART:20220327T010000
END:DAYLIGHT
BEGIN:STANDARD
TZOFFSETFROM:+0200
TZOFFSETTO:+0100
TZNAME:CET
DTSTART:20221030T010000
END:STANDARD
BEGIN:DAYLIGHT
TZOFFSETFROM:+0100
TZOFFSETTO:+0200
TZNAME:CEST
DTSTART:20230326T010000
END:DAYLIGHT
BEGIN:STANDARD
TZOFFSETFROM:+0200
TZOFFSETTO:+0100
TZNAME:CET
DTSTART:20231029T010000
END:STANDARD
BEGIN:DAYLIGHT
TZOFFSETFROM:+0100
TZOFFSETTO:+0200
TZNAME:CEST
DTSTART:20240331T010000
END:DAYLIGHT
BEGIN:STANDARD
TZOFFSETFROM:+0200
TZOFFSETTO:+0100
TZNAME:CET
DTSTART:20241027T010000
END:STANDARD
END:VTIMEZONE
BEGIN:VTIMEZONE
TZID:UTC
BEGIN:STANDARD
TZOFFSETFROM:+0000
TZOFFSETTO:+0000
TZNAME:UTC
DTSTART:20220101T000000
END:STANDARD
END:VTIMEZONE
BEGIN:VEVENT
DTSTART;TZID=Europe/Paris:20230209T140000
DTEND;TZID=Europe/Paris:20230209T163000
DTSTAMP:20260421T145400
CREATED:20230207T080648Z
LAST-MODIFIED:20230207T080648Z
UID:7066-1675951200-1675960200@snetp.eu
SUMMARY:NUGENIA Technical Area 1 meeting on Plant Safety and Risk Assessment
DESCRIPTION:The NUGENIA Technical Area 1 meeting on Plant Safety and Risk Assessment will be held on 9 February from 2pm to 4.30pm – The meeting will be held remotely.
URL:https://snetp.eu/event/nugenia-technical-area-1-meeting-on-plant-safety-and-risk-assessment/
LOCATION:Online
CATEGORIES:SNETP meetings
END:VEVENT
BEGIN:VEVENT
DTSTART;VALUE=DATE:20230213
DTEND;VALUE=DATE:20230217
DTSTAMP:20260421T145400
CREATED:20221118T140615Z
LAST-MODIFIED:20221214T162448Z
UID:6577-1676246400-1676591999@snetp.eu
SUMMARY:NUGENIA Joint Meeting TA2.1 & TA2.2
DESCRIPTION:The next NUGENIA Technical Area 2 joint meeting of the TA2.1 (In-vessel Corium/Debris Coolability) and of the TA2.2 (Ex-vessel Corium Interactions and Coolability) will take place at the KIT Campus North at the Institute for Neutron Physics and Reactor Technology (INR\, Building 521) on February 13th-14th\, 2023. \nThe two days meeting will have the focus on sharing information on the on-going and planned research activities in your labs in these severe accident areas. Particular attention will be paid to active technical discussions and exchanges in the community. Technical contribution to the agenda is therefore more than welcome! \nAdditionally\, The next NUGENIA TA2 General Meeting will take place on February 15th at 9:00 and to end on February 16th at 12:00 (approximately). \nThe main goals of the meeting are to give an update of all the activities currently running in the frame of TA2 and to start discussions on potential projects for the next call (2023-2025) of EURATOM HORIZON EUROPE. \nPlease\, register to the meetings by using the following link! \n  \n 
URL:https://snetp.eu/event/nugenia-joint-meeting-ta2-1-ta2-2/
LOCATION:Germany
CATEGORIES:Workshops, webinars & courses
END:VEVENT
BEGIN:VEVENT
DTSTART;VALUE=DATE:20230215
DTEND;VALUE=DATE:20230217
DTSTAMP:20260421T145400
CREATED:20221214T161236Z
LAST-MODIFIED:20221214T161236Z
UID:6646-1676419200-1676591999@snetp.eu
SUMMARY:NUGENIA TA2 General Meeting
DESCRIPTION:The next NUGENIA TA2 General Meeting will take place on February 15th at 9:00 and to end on February 16th at 12:00 (approximately) at the KIT Campus North at the Institute for Neutron Physics and Reactor Technology (INR\, Building 521) in an hybrid format.. \nThe main goals of the meeting are to give an update of all the activities currently running in the frame of TA2 and to start discussions on potential projects for the next call (2023-2025) of EURATOM HORIZON EUROPE. \nPlease\, register to the meetings by using the following link!
URL:https://snetp.eu/event/nugenia-ta2-general-meeting/
LOCATION:Germany
CATEGORIES:SNETP events
END:VEVENT
BEGIN:VEVENT
DTSTART;VALUE=DATE:20230222
DTEND;VALUE=DATE:20230223
DTSTAMP:20260421T145400
CREATED:20230220T101837Z
LAST-MODIFIED:20230220T101901Z
UID:7152-1677024000-1677110399@snetp.eu
SUMMARY:HARPERS WP4 CIRCULAR ECONOMY WORKSHOP
DESCRIPTION:The HARPERS Work Package 4 workshop\, taking place on 22 February – 10.00-12.00 CET\, aims to establish a Circular Economy in radioactive waste management activities across Europe. The Circular Economy concept aims to minimize waste and make more efficient use of available resources through careful operations\, design considerations\, and recovering and regenerating products at the end of a facility’s lifecycle. The workshop will focus on identifying the most important conditions and opportunities for implementing Circular Economy principles in radioactive waste management. The outcome of the project will provide Member States\, the European Commission\, and other stakeholders with guidance on implementing Circular Economy principles and facilitating the safe reuse and recycling of materials. The workshop will prioritize needs and opportunities for Circular Economy considerations and define themes for deeper analysis in Phase 2. \nCheck the programme for details of each sessions here.
URL:https://snetp.eu/event/harpers-wp4-circular-economy-workshop/
LOCATION:Online
CATEGORIES:Workshops, webinars & courses
END:VEVENT
END:VCALENDAR