BEGIN:VCALENDAR
VERSION:2.0
PRODID:-//SNETP - ECPv6.15.12.1//NONSGML v1.0//EN
CALSCALE:GREGORIAN
METHOD:PUBLISH
X-WR-CALNAME:SNETP
X-ORIGINAL-URL:https://snetp.eu
X-WR-CALDESC:Events for SNETP
REFRESH-INTERVAL;VALUE=DURATION:PT1H
X-Robots-Tag:noindex
X-PUBLISHED-TTL:PT1H
BEGIN:VTIMEZONE
TZID:Europe/Paris
BEGIN:DAYLIGHT
TZOFFSETFROM:+0100
TZOFFSETTO:+0200
TZNAME:CEST
DTSTART:20220327T010000
END:DAYLIGHT
BEGIN:STANDARD
TZOFFSETFROM:+0200
TZOFFSETTO:+0100
TZNAME:CET
DTSTART:20221030T010000
END:STANDARD
BEGIN:DAYLIGHT
TZOFFSETFROM:+0100
TZOFFSETTO:+0200
TZNAME:CEST
DTSTART:20230326T010000
END:DAYLIGHT
BEGIN:STANDARD
TZOFFSETFROM:+0200
TZOFFSETTO:+0100
TZNAME:CET
DTSTART:20231029T010000
END:STANDARD
BEGIN:DAYLIGHT
TZOFFSETFROM:+0100
TZOFFSETTO:+0200
TZNAME:CEST
DTSTART:20240331T010000
END:DAYLIGHT
BEGIN:STANDARD
TZOFFSETFROM:+0200
TZOFFSETTO:+0100
TZNAME:CET
DTSTART:20241027T010000
END:STANDARD
END:VTIMEZONE
BEGIN:VEVENT
DTSTART;VALUE=DATE:20230109
DTEND;VALUE=DATE:20230114
DTSTAMP:20260421T161236
CREATED:20230106T082347Z
LAST-MODIFIED:20230106T091320Z
UID:6776-1673222400-1673654399@snetp.eu
SUMMARY:NEA Nuclear Safety Research Joint Projects Week - Workshop
DESCRIPTION:The NEA Nuclear Safety Research Joint Projects Week will take place from 9-13 January 2023 online.  \nThis event will bring together stakeholders from the nuclear energy sector to share views on research frameworks\, platforms and competences needed in order to maintain or develop future collective nuclear safety research in the nuclear energy sector. \nParticipants will also be able to share some recommendations for future collaborations. \nMore information on the event here. Register here!
URL:https://snetp.eu/event/nea-nuclear-safety-research-joint-projects-week-workshop/
LOCATION:Online
CATEGORIES:Workshops, webinars & courses
END:VEVENT
BEGIN:VEVENT
DTSTART;TZID=Europe/Paris:20230112T100000
DTEND;TZID=Europe/Paris:20230112T120000
DTSTAMP:20260421T161237
CREATED:20221215T155105Z
LAST-MODIFIED:20221215T155908Z
UID:6656-1673517600-1673524800@snetp.eu
SUMMARY:NUGENIA TA7 Meeting
DESCRIPTION:The next NUGENIA TA7 meeting “Fuel Elements” will take place on 12 January 2023 in a remote format. This meeting will start from 10:00am to 12:00am and will have as a main goal to share an update of TA7 activities and discuss next steps for the coming year in regards to the next EURATOM Horizon Europe Call (with a deadline in autumn 2023). \nIf you are interested in joining the meeting please get in touch with SNETP Secretariat secretariat@snetp.eu \n 
URL:https://snetp.eu/event/nugenia-ta7-meeting/
LOCATION:Online
CATEGORIES:SNETP events
END:VEVENT
BEGIN:VEVENT
DTSTART;TZID=Europe/Paris:20230120T100000
DTEND;TZID=Europe/Paris:20230120T120000
DTSTAMP:20260421T161237
CREATED:20230112T130932Z
LAST-MODIFIED:20230112T130932Z
UID:6851-1674208800-1674216000@snetp.eu
SUMMARY:NUGENIA TA6 Meeting
DESCRIPTION:The online TA6 meeting will take place on Friday 20 January from 10:00 – 12:00 (mid-European time) to discuss ideas for future project proposals. \nStay tuned\, more information to come!
URL:https://snetp.eu/event/nugenia-ta6-meeting/
LOCATION:Online
CATEGORIES:SNETP meetings
END:VEVENT
BEGIN:VEVENT
DTSTART;VALUE=DATE:20230123
DTEND;VALUE=DATE:20230125
DTSTAMP:20260421T161237
CREATED:20230104T134438Z
LAST-MODIFIED:20230104T152544Z
UID:6768-1674432000-1674604799@snetp.eu
SUMMARY:SAFIR2022 & KYT2022 joint final seminar
DESCRIPTION:The Finnish Research Programme on Nuclear Power Plant Safety 2019-2022 (SAFIR2022) and the Finnish Research Programme on Nuclear Waste Management (KYT2022) will be hosting a joint Final Seminar from 23 to 24 January 2023 in Dipoli (Otaniemi\, Espoo). \nMatters such as the safe use of nuclear power plants and authorities’ technical expertise will be discussed\, among other topics. \nThe full detailed programme is available here! Don’t forget to register! \n 
URL:https://snetp.eu/event/safir2022-kyt2022-joint-final-seminar/
LOCATION:Dipoli\, Espoo
END:VEVENT
END:VCALENDAR