BEGIN:VCALENDAR
VERSION:2.0
PRODID:-//SNETP - ECPv6.15.12.1//NONSGML v1.0//EN
CALSCALE:GREGORIAN
METHOD:PUBLISH
X-ORIGINAL-URL:https://snetp.eu
X-WR-CALDESC:Events for SNETP
REFRESH-INTERVAL;VALUE=DURATION:PT1H
X-Robots-Tag:noindex
X-PUBLISHED-TTL:PT1H
BEGIN:VTIMEZONE
TZID:Europe/Paris
BEGIN:DAYLIGHT
TZOFFSETFROM:+0100
TZOFFSETTO:+0200
TZNAME:CEST
DTSTART:20210328T010000
END:DAYLIGHT
BEGIN:STANDARD
TZOFFSETFROM:+0200
TZOFFSETTO:+0100
TZNAME:CET
DTSTART:20211031T010000
END:STANDARD
BEGIN:DAYLIGHT
TZOFFSETFROM:+0100
TZOFFSETTO:+0200
TZNAME:CEST
DTSTART:20220327T010000
END:DAYLIGHT
BEGIN:STANDARD
TZOFFSETFROM:+0200
TZOFFSETTO:+0100
TZNAME:CET
DTSTART:20221030T010000
END:STANDARD
BEGIN:DAYLIGHT
TZOFFSETFROM:+0100
TZOFFSETTO:+0200
TZNAME:CEST
DTSTART:20230326T010000
END:DAYLIGHT
BEGIN:STANDARD
TZOFFSETFROM:+0200
TZOFFSETTO:+0100
TZNAME:CET
DTSTART:20231029T010000
END:STANDARD
END:VTIMEZONE
BEGIN:VEVENT
DTSTART;VALUE=DATE:20220405
DTEND;VALUE=DATE:20220409
DTSTAMP:20260422T062344
CREATED:20220128T125027Z
LAST-MODIFIED:20220128T125027Z
UID:5657-1649116800-1649462399@snetp.eu
SUMMARY:ESFR-SMART Seminar on Sodium-Cooled Fast Reactor Severe Accidents
DESCRIPTION:The Seminar on Sodium Cooled Fast Reactor Severe Accidents is organized in the framework of the ESFR-SMART Project. \nAn overview of the past\, present and future SFR projects will be given during the meeting\, accompanied by short lectures on the fundamentals of SFR.\nMaster’s and doctoral students make up the main audience for this meeting\, but regulatory authorities\, scientific and technical personnel and young professionals are also welcome. \nThe severe accident seminar will be held in person near Cadarache. \nFor more information\, head over to the  ESFR-SMART website : https://esfr-smart.eu/events/
URL:https://snetp.eu/event/esfr-smart-seminar-on-sodium-cooled-fast-reactor-severe-accidents/
CATEGORIES:Workshops, webinars & courses
END:VEVENT
BEGIN:VEVENT
DTSTART;VALUE=DATE:20220425
DTEND;VALUE=DATE:20220429
DTSTAMP:20260422T062344
CREATED:20200827T064639Z
LAST-MODIFIED:20210318T153449Z
UID:4592-1650844800-1651190399@snetp.eu
SUMMARY:IAEA International Conference on Fast Reactors and Related Fuel Cycles
DESCRIPTION:The IAEA International Conference on Fast Reactors and Related Fuel Cycles: Sustainable Clean Energy for the Future (FR22) will take place from 25 to 28 April 2022 in Beijing\, China. The FR22 Conference\, hosted by the China Institute for Atomic Energy (CIAE)\, is a follow-up of previous IAEA Conferences: FR09 (Kyoto\, 2009)\, FR13 (Paris\, 2013) and FR17 (Yekaterinburg\, 2017).
URL:https://snetp.eu/event/iaea-international-conference-on-fast-reactors-and-related-fuel-cycles/
LOCATION:Beijing\, China
CATEGORIES:Conferences
END:VEVENT
END:VCALENDAR