BEGIN:VCALENDAR
VERSION:2.0
PRODID:-//SNETP - ECPv6.15.12.1//NONSGML v1.0//EN
CALSCALE:GREGORIAN
METHOD:PUBLISH
X-ORIGINAL-URL:https://snetp.eu
X-WR-CALDESC:Events for SNETP
REFRESH-INTERVAL;VALUE=DURATION:PT1H
X-Robots-Tag:noindex
X-PUBLISHED-TTL:PT1H
BEGIN:VTIMEZONE
TZID:Europe/Paris
BEGIN:DAYLIGHT
TZOFFSETFROM:+0100
TZOFFSETTO:+0200
TZNAME:CEST
DTSTART:20210328T010000
END:DAYLIGHT
BEGIN:STANDARD
TZOFFSETFROM:+0200
TZOFFSETTO:+0100
TZNAME:CET
DTSTART:20211031T010000
END:STANDARD
BEGIN:DAYLIGHT
TZOFFSETFROM:+0100
TZOFFSETTO:+0200
TZNAME:CEST
DTSTART:20220327T010000
END:DAYLIGHT
BEGIN:STANDARD
TZOFFSETFROM:+0200
TZOFFSETTO:+0100
TZNAME:CET
DTSTART:20221030T010000
END:STANDARD
BEGIN:DAYLIGHT
TZOFFSETFROM:+0100
TZOFFSETTO:+0200
TZNAME:CEST
DTSTART:20230326T010000
END:DAYLIGHT
BEGIN:STANDARD
TZOFFSETFROM:+0200
TZOFFSETTO:+0100
TZNAME:CET
DTSTART:20231029T010000
END:STANDARD
END:VTIMEZONE
BEGIN:VTIMEZONE
TZID:UTC
BEGIN:STANDARD
TZOFFSETFROM:+0000
TZOFFSETTO:+0000
TZNAME:UTC
DTSTART:20210101T000000
END:STANDARD
END:VTIMEZONE
BEGIN:VEVENT
DTSTART;VALUE=DATE:20220306
DTEND;VALUE=DATE:20220312
DTSTAMP:20260422T075128
CREATED:20201024T080117Z
LAST-MODIFIED:20210126T180509Z
UID:4755-1646524800-1647043199@snetp.eu
SUMMARY:19th International Topical Meeting on Nuclear Reactor Thermal Hydraulics (NURETH-19)
DESCRIPTION:The NURETH 19 Conference is one of the most important gatherings of experts in nuclear reactor thermal hydraulics and related topical areas. This event is held every two years in different locations in North America\, Europe and Asia.\n\nFor more information\, please visit the event website.
URL:https://snetp.eu/event/19th-international-topical-meeting-on-nuclear-reactor-thermal-hydraulics-nureth-19/
LOCATION:Brussels\, Belgium
CATEGORIES:Conferences
END:VEVENT
BEGIN:VEVENT
DTSTART;VALUE=DATE:20220308
DTEND;VALUE=DATE:20220311
DTSTAMP:20260422T075128
CREATED:20211127T110103Z
LAST-MODIFIED:20211127T110103Z
UID:5599-1646697600-1646956799@snetp.eu
SUMMARY:ENIQ Meeting
DESCRIPTION:Tuesday 8th March \n\nmorning: NDE in Nuclear 2023 Programme Committee meeting\nafternoon: ENIQ SC meeting\n\n\nWednesday 9th March: SAQ meeting and SAE meeting in parallel all day\nThursday 10th March\, morning: joined SAQ-SAE meeting
URL:https://snetp.eu/event/eniq-meeting/
LOCATION:Moiret-sur-Loing\, France
CATEGORIES:SNETP meetings
END:VEVENT
BEGIN:VEVENT
DTSTART;TZID=UTC:20220314T080000
DTEND;TZID=UTC:20220314T170000
DTSTAMP:20260422T075128
CREATED:20220412T061911Z
LAST-MODIFIED:20220412T061911Z
UID:5744-1647244800-1647277200@snetp.eu
SUMMARY:Post-SMiRT seminar
DESCRIPTION:The proposed Post-SMiRT seminar aims to take advantage of the safety experts brought together by the SMiRT-26 conference in Potsdam/Berlin to discuss more in detail subjects such as strategies for integrating deterministic and probabilistic safety analyses to obtain risk insights\, or the improvements and challenges in flooding / tsunami hazard.\n\nRegistration is open here.
URL:https://snetp.eu/event/post-smirt-seminar/
CATEGORIES:Workshops, webinars & courses
END:VEVENT
BEGIN:VEVENT
DTSTART;VALUE=DATE:20220316
DTEND;VALUE=DATE:20220318
DTSTAMP:20260422T075128
CREATED:20220412T061728Z
LAST-MODIFIED:20220412T061728Z
UID:5738-1647388800-1647561599@snetp.eu
SUMMARY:NEA Advanced Construction and Manufacturing Methodologies for New Nuclear Build Online Worshop
DESCRIPTION:This online workshop will focus on the development of construction and manufacturing techniques in terms of advances in nuclear construction but also giving indications for improvements in the long run. \nYou can register here!
URL:https://snetp.eu/event/nea-advanced-construction-and-manufacturing-methodologies-for-new-nuclear-build-online-worshop/
LOCATION:Virtual
CATEGORIES:Workshops, webinars & courses
END:VEVENT
BEGIN:VEVENT
DTSTART;VALUE=DATE:20220330
DTEND;VALUE=DATE:20220401
DTSTAMP:20260422T075128
CREATED:20211026T154521Z
LAST-MODIFIED:20220224T093306Z
UID:5571-1648598400-1648771199@snetp.eu
SUMMARY:APAL Workshop "Procedures currently applied to the integrity assessment of RPVs subjected to PTS loading"
DESCRIPTION:The APAL project will hold a workshop on “Procedures currently applied to the integrity assessment of RPVs subjected to PTS loading” on 30 and 31 March 2022 in Villigen\, Switzerland. \nIn this event experts will give an overview on the procedures currently applied to the integrity assessment of Reactor Pressure Vessels (RPVs) subjected to Pressurized Thermal Shock (PTS) loading. Current state-of-the-art for Long Term Operation (LTO) improvements will be presented (results from Work Package One (WP1) of Advanced PTS Analysis for LTO (APAL) project https://www.apal-project.eu/). The attendees will get familiar with ordinary software tools and methods (deterministic and probabilistic) used for thermal hydraulics and fracture mechanics calculations. The attendees will understand the different steps of PTS assessment and their technical background. The basics of probabilistic\, thermal hydraulics\, system behavior and fracture mechanics will be taught in comprehensive lessons. \nMore information here.
URL:https://snetp.eu/event/apal-workshop-procedures-currently-applied-to-the-integrity-assessment-of-rpvs-subjected-to-pts-loading/
LOCATION:Zurich\, Switzerland
CATEGORIES:Project events
END:VEVENT
END:VCALENDAR