BEGIN:VCALENDAR
VERSION:2.0
PRODID:-//SNETP - ECPv6.15.12.1//NONSGML v1.0//EN
CALSCALE:GREGORIAN
METHOD:PUBLISH
X-WR-CALNAME:SNETP
X-ORIGINAL-URL:https://snetp.eu
X-WR-CALDESC:Events for SNETP
REFRESH-INTERVAL;VALUE=DURATION:PT1H
X-Robots-Tag:noindex
X-PUBLISHED-TTL:PT1H
BEGIN:VTIMEZONE
TZID:Europe/Paris
BEGIN:DAYLIGHT
TZOFFSETFROM:+0100
TZOFFSETTO:+0200
TZNAME:CEST
DTSTART:20200329T010000
END:DAYLIGHT
BEGIN:STANDARD
TZOFFSETFROM:+0200
TZOFFSETTO:+0100
TZNAME:CET
DTSTART:20201025T010000
END:STANDARD
BEGIN:DAYLIGHT
TZOFFSETFROM:+0100
TZOFFSETTO:+0200
TZNAME:CEST
DTSTART:20210328T010000
END:DAYLIGHT
BEGIN:STANDARD
TZOFFSETFROM:+0200
TZOFFSETTO:+0100
TZNAME:CET
DTSTART:20211031T010000
END:STANDARD
BEGIN:DAYLIGHT
TZOFFSETFROM:+0100
TZOFFSETTO:+0200
TZNAME:CEST
DTSTART:20220327T010000
END:DAYLIGHT
BEGIN:STANDARD
TZOFFSETFROM:+0200
TZOFFSETTO:+0100
TZNAME:CET
DTSTART:20221030T010000
END:STANDARD
END:VTIMEZONE
BEGIN:VEVENT
DTSTART;VALUE=DATE:20210909
DTEND;VALUE=DATE:20211208
DTSTAMP:20260422T121636
CREATED:20210719T070721Z
LAST-MODIFIED:20210719T070721Z
UID:5477-1631145600-1638921599@snetp.eu
SUMMARY:SAMOSAFER Online School on Molten Salt Reactor
DESCRIPTION:The SAMOSAFER project is organising an online School on Molten Salt Reactor during the fall of 2021 on all the main areas of active research in MSR technology. \nThe school consists of 7 modules of 3h each\, which will be given in a distributed mode between September and December 2021. \nMore information: https://samosafer.eu/2021/05/27/samosafer-school-on-molten-salt-reactor/
URL:https://snetp.eu/event/samosafer-online-school-on-molten-salt-reactor/
LOCATION:Virtual
CATEGORIES:Workshops, webinars & courses
END:VEVENT
BEGIN:VEVENT
DTSTART;VALUE=DATE:20211130
DTEND;VALUE=DATE:20211203
DTSTAMP:20260422T121636
CREATED:20200630T094255Z
LAST-MODIFIED:20210126T181637Z
UID:4249-1638230400-1638489599@snetp.eu
SUMMARY:World Nuclear Exhibition (WNE)
DESCRIPTION:Connect to the world nuclear industry at WNE\, the leading marketplace dedicated to the global civil nuclear community! Become a privileged partner of the global nuclear industry life cycle\, meet with around 700 actors from all over the world covering the whole nuclear supply chain. Don’t miss specific inside events and source your future partners with pre-organized business meetings. \n\n==> More information HERE
URL:https://snetp.eu/event/world-nuclear-exhibition-wne/
LOCATION:Paris Nord Villepinte\, France
CATEGORIES:Conferences
END:VEVENT
BEGIN:VEVENT
DTSTART;VALUE=DATE:20211207
DTEND;VALUE=DATE:20211211
DTSTAMP:20260422T121636
CREATED:20211013T123103Z
LAST-MODIFIED:20211013T123103Z
UID:5557-1638835200-1639180799@snetp.eu
SUMMARY:19th INPRO Dialogue Forum on Enhancing Public Acceptance of Nuclear Energy through Institutional Innovations
DESCRIPTION:The 19th INPRO Dialogue Forum on Enhancing Public Acceptance of Nuclear Energy through Institutional Innovations will be held\, within the framework of the International Project on Innovation Nuclear Reactors and Fuel Cycles (INPRO)\, in a virtual format from 7 to 10 December 2021. The objective of this event is to provide a platform for experts and policy makers to exchange on issues related to institutional and technical innovations for the improvement of public acceptance of nuclear energy and to strengthen the capacity of Member States for the innovative research\, development\, deployment and sustainable operation of nuclear energy. \nClick here to download the note verbal\, the information sheet and the participation forms for further details of the event.
URL:https://snetp.eu/event/19th-inpro-dialogue-forum-on-enhancing-public-acceptance-of-nuclear-energy-through-institutional-innovations/
LOCATION:Virtual
CATEGORIES:Project events
END:VEVENT
END:VCALENDAR