BEGIN:VCALENDAR
VERSION:2.0
PRODID:-//SNETP - ECPv6.15.12.1//NONSGML v1.0//EN
CALSCALE:GREGORIAN
METHOD:PUBLISH
X-WR-CALNAME:SNETP
X-ORIGINAL-URL:https://snetp.eu
X-WR-CALDESC:Events for SNETP
REFRESH-INTERVAL;VALUE=DURATION:PT1H
X-Robots-Tag:noindex
X-PUBLISHED-TTL:PT1H
BEGIN:VTIMEZONE
TZID:Europe/Paris
BEGIN:DAYLIGHT
TZOFFSETFROM:+0100
TZOFFSETTO:+0200
TZNAME:CEST
DTSTART:20210328T010000
END:DAYLIGHT
BEGIN:STANDARD
TZOFFSETFROM:+0200
TZOFFSETTO:+0100
TZNAME:CET
DTSTART:20211031T010000
END:STANDARD
BEGIN:DAYLIGHT
TZOFFSETFROM:+0100
TZOFFSETTO:+0200
TZNAME:CEST
DTSTART:20220327T010000
END:DAYLIGHT
BEGIN:STANDARD
TZOFFSETFROM:+0200
TZOFFSETTO:+0100
TZNAME:CET
DTSTART:20221030T010000
END:STANDARD
BEGIN:DAYLIGHT
TZOFFSETFROM:+0100
TZOFFSETTO:+0200
TZNAME:CEST
DTSTART:20230326T010000
END:DAYLIGHT
BEGIN:STANDARD
TZOFFSETFROM:+0200
TZOFFSETTO:+0100
TZNAME:CET
DTSTART:20231029T010000
END:STANDARD
BEGIN:DAYLIGHT
TZOFFSETFROM:+0100
TZOFFSETTO:+0200
TZNAME:CEST
DTSTART:20240331T010000
END:DAYLIGHT
BEGIN:STANDARD
TZOFFSETFROM:+0200
TZOFFSETTO:+0100
TZNAME:CET
DTSTART:20241027T010000
END:STANDARD
END:VTIMEZONE
BEGIN:VTIMEZONE
TZID:UTC
BEGIN:STANDARD
TZOFFSETFROM:+0000
TZOFFSETTO:+0000
TZNAME:UTC
DTSTART:20210101T000000
END:STANDARD
END:VTIMEZONE
BEGIN:VEVENT
DTSTART;TZID=Europe/Paris:20230209T140000
DTEND;TZID=Europe/Paris:20230209T163000
DTSTAMP:20260420T094227
CREATED:20230207T080648Z
LAST-MODIFIED:20230207T080648Z
UID:7066-1675951200-1675960200@snetp.eu
SUMMARY:NUGENIA Technical Area 1 meeting on Plant Safety and Risk Assessment
DESCRIPTION:The NUGENIA Technical Area 1 meeting on Plant Safety and Risk Assessment will be held on 9 February from 2pm to 4.30pm – The meeting will be held remotely.
URL:https://snetp.eu/event/nugenia-technical-area-1-meeting-on-plant-safety-and-risk-assessment/
LOCATION:Online
CATEGORIES:SNETP meetings
END:VEVENT
BEGIN:VEVENT
DTSTART;VALUE=DATE:20230123
DTEND;VALUE=DATE:20230125
DTSTAMP:20260420T094227
CREATED:20230104T134438Z
LAST-MODIFIED:20230104T152544Z
UID:6768-1674432000-1674604799@snetp.eu
SUMMARY:SAFIR2022 & KYT2022 joint final seminar
DESCRIPTION:The Finnish Research Programme on Nuclear Power Plant Safety 2019-2022 (SAFIR2022) and the Finnish Research Programme on Nuclear Waste Management (KYT2022) will be hosting a joint Final Seminar from 23 to 24 January 2023 in Dipoli (Otaniemi\, Espoo). \nMatters such as the safe use of nuclear power plants and authorities’ technical expertise will be discussed\, among other topics. \nThe full detailed programme is available here! Don’t forget to register! \n 
URL:https://snetp.eu/event/safir2022-kyt2022-joint-final-seminar/
LOCATION:Dipoli\, Espoo
END:VEVENT
BEGIN:VEVENT
DTSTART;TZID=Europe/Paris:20230120T100000
DTEND;TZID=Europe/Paris:20230120T120000
DTSTAMP:20260420T094227
CREATED:20230112T130932Z
LAST-MODIFIED:20230112T130932Z
UID:6851-1674208800-1674216000@snetp.eu
SUMMARY:NUGENIA TA6 Meeting
DESCRIPTION:The online TA6 meeting will take place on Friday 20 January from 10:00 – 12:00 (mid-European time) to discuss ideas for future project proposals. \nStay tuned\, more information to come!
URL:https://snetp.eu/event/nugenia-ta6-meeting/
LOCATION:Online
CATEGORIES:SNETP meetings
END:VEVENT
BEGIN:VEVENT
DTSTART;TZID=Europe/Paris:20230112T100000
DTEND;TZID=Europe/Paris:20230112T120000
DTSTAMP:20260420T094227
CREATED:20221215T155105Z
LAST-MODIFIED:20221215T155908Z
UID:6656-1673517600-1673524800@snetp.eu
SUMMARY:NUGENIA TA7 Meeting
DESCRIPTION:The next NUGENIA TA7 meeting “Fuel Elements” will take place on 12 January 2023 in a remote format. This meeting will start from 10:00am to 12:00am and will have as a main goal to share an update of TA7 activities and discuss next steps for the coming year in regards to the next EURATOM Horizon Europe Call (with a deadline in autumn 2023). \nIf you are interested in joining the meeting please get in touch with SNETP Secretariat secretariat@snetp.eu \n 
URL:https://snetp.eu/event/nugenia-ta7-meeting/
LOCATION:Online
CATEGORIES:SNETP events
END:VEVENT
BEGIN:VEVENT
DTSTART;VALUE=DATE:20230109
DTEND;VALUE=DATE:20230114
DTSTAMP:20260420T094227
CREATED:20230106T082347Z
LAST-MODIFIED:20230106T091320Z
UID:6776-1673222400-1673654399@snetp.eu
SUMMARY:NEA Nuclear Safety Research Joint Projects Week - Workshop
DESCRIPTION:The NEA Nuclear Safety Research Joint Projects Week will take place from 9-13 January 2023 online.  \nThis event will bring together stakeholders from the nuclear energy sector to share views on research frameworks\, platforms and competences needed in order to maintain or develop future collective nuclear safety research in the nuclear energy sector. \nParticipants will also be able to share some recommendations for future collaborations. \nMore information on the event here. Register here!
URL:https://snetp.eu/event/nea-nuclear-safety-research-joint-projects-week-workshop/
LOCATION:Online
CATEGORIES:Workshops, webinars & courses
END:VEVENT
BEGIN:VEVENT
DTSTART;TZID=UTC:20221207T140000
DTEND;TZID=UTC:20221207T150000
DTSTAMP:20260420T094227
CREATED:20221205T151153Z
LAST-MODIFIED:20221205T151153Z
UID:6613-1670421600-1670425200@snetp.eu
SUMMARY:IAEA Webinar on Codes and Standards in nuclear – potential for more common approaches?
DESCRIPTION:IAEA Division of Nuclear Power is organising a series of webinars to cover current issues related to the nuclear supply chain one of which occurring on Wednesday\, 7 December 2022 from 2:00 PM – 3:30 PM CEST. \nAttend this webinar and: \n\nUnderstand what kind of C&S are commonly used in NPP quality\, management (system)\, design\, different engineering disciplines and equipment qualification\nLearn about key topics\, challenges\, common approaches and potential for harmonization\nObtain lessons learned and good practices from the speakers’ examples from the IAEA Member States.\n\nThere is still time to register\, do so now!
URL:https://snetp.eu/event/iaea-webinar-on-codes-and-standards-in-nuclear-potential-for-more-common-approaches/
CATEGORIES:Workshops, webinars & courses
END:VEVENT
BEGIN:VEVENT
DTSTART;VALUE=DATE:20221207
DTEND;VALUE=DATE:20221209
DTSTAMP:20260420T094227
CREATED:20221122T094246Z
LAST-MODIFIED:20221122T094246Z
UID:6581-1670371200-1670543999@snetp.eu
SUMMARY:USTDA Planning for the Future: Transatlantic Cooperation in SMRs Workshop
DESCRIPTION:From 7 to 8 December 2022\, attend the USTDA Planning for the Future: Transatlantic Cooperation in SMRs Workshop. \nThe workshop will facilitate discussions on the recent initiatives undertaken by U.S. government and international counterparts to promote the advancement of SMR technologies.The agenda will cover a variety of topics\, including EU SMR partnership\, Transatlantic SMR partnerships\, U.S SMR initiatives\, workforce development\, SMR regulatory initiatives\, and de-risking SMR projects\, as well as case studies on SMR project developments and deployment models\, and key takeaways from the workshop series. \nRegister here!
URL:https://snetp.eu/event/ustda-planning-for-the-future-transatlantic-cooperation-in-smrs-workshop/
LOCATION:Brussels\, Belgium
CATEGORIES:Workshops, webinars & courses
END:VEVENT
BEGIN:VEVENT
DTSTART;VALUE=DATE:20221206
DTEND;VALUE=DATE:20221208
DTSTAMP:20260420T094227
CREATED:20221123T091907Z
LAST-MODIFIED:20221123T091943Z
UID:6588-1670284800-1670457599@snetp.eu
SUMMARY:Joint ELSMOR-TANDEM workshop
DESCRIPTION:The joint workshop organised by the ELSMOR and TANDEM projects will be held from 6-7 December 2022. The aim of the event will be to bring forward the research done during the ELSMOR project and to pass the torch to the TANDEM project. The event will also be giving an overview of the status of Small Modular Reactor (SMR) development in Europe. \nTo register to the event\, and discover what will be discussed during the workshop\, click here!
URL:https://snetp.eu/event/joint-elsmor-tandem-workshop/
LOCATION:Brussels\, Belgium
CATEGORIES:Project events
END:VEVENT
BEGIN:VEVENT
DTSTART;VALUE=DATE:20221129
DTEND;VALUE=DATE:20221202
DTSTAMP:20260420T094227
CREATED:20221125T110446Z
LAST-MODIFIED:20221125T110446Z
UID:6606-1669680000-1669939199@snetp.eu
SUMMARY:ENLIT Europe 2022
DESCRIPTION:The ENLIT 2022 Summit will take place from 29 November to 1 December 2022 in Frankfurt\, Germany. The event\, in which SNETP will participate as a speaker in the pannel discussion is a festival focused on the topic of energy and new thinking across three stages: Evolve Stage\, Inspire Stage & Connect Studio. \nFor more ingormation about the event or about ENLIT\, head over to their website & discover the programme!
URL:https://snetp.eu/event/enlit-europe-2022/
LOCATION:Frankfurt\, Germany
CATEGORIES:Workshops, webinars & courses
END:VEVENT
BEGIN:VEVENT
DTSTART;VALUE=DATE:20221128
DTEND;VALUE=DATE:20221130
DTSTAMP:20260420T094227
CREATED:20221123T110903Z
LAST-MODIFIED:20221123T110903Z
UID:6601-1669593600-1669766399@snetp.eu
SUMMARY:7th WORLD NUCLEAR INDUSTRY CONGRESS 2022
DESCRIPTION:The 7th Edition of the World Nuclear Industry Congress will be held from 28-29 November 2022 in London\, UK. Among others\, topics such as  project updates\, strategy & regulation\, financing & risk management\, nuclear fuel cycle\, advanced nuclear technology & digital trend\, supply chain optimization and disposal of radioactive waste both in the UK\, France and abroad.  \nRegister now here!
URL:https://snetp.eu/event/7th-world-nuclear-industry-congress-2022/
LOCATION:London\, UK
CATEGORIES:Workshops, webinars & courses
END:VEVENT
BEGIN:VEVENT
DTSTART;VALUE=DATE:20221128
DTEND;VALUE=DATE:20221201
DTSTAMP:20260420T094227
CREATED:20221123T093436Z
LAST-MODIFIED:20221123T093455Z
UID:6591-1669593600-1669852799@snetp.eu
SUMMARY:Nuclear Valley 2022
DESCRIPTION:The 6th edition of Nuclear Valley will take place from 20-30 November 2022 both online and in person in Lyon\, France. The event\, to which SNETP will participate\, will be the occasion to discuss and find ways to tackle current and upcoming challenges such as civil and defence programmes\,  European funding\, EPR2\, SMR\, MMR and AMR. \nTo register and find out more about the event\, head over to the Nuclear Valley website!
URL:https://snetp.eu/event/nuclear-valley-2022/
LOCATION:Lyon\, France
CATEGORIES:SNETP events
END:VEVENT
BEGIN:VEVENT
DTSTART;VALUE=DATE:20221128
DTEND;VALUE=DATE:20221203
DTSTAMP:20260420T094227
CREATED:20220627T081945Z
LAST-MODIFIED:20220627T081945Z
UID:6084-1669593600-1670025599@snetp.eu
SUMMARY:PLiM2022 - Fifth International Conference on Nuclear Power Plant Life Management 2022
DESCRIPTION:The Fifth International Conference on Nuclear Power Plant Life Management\, #PLiM22\, organized by IAEA will take place in Vienna\, Austria from 28 November to 2 December 2022. \nThe event will focus on different topics such as approaches to plant life management\, economics of plant life management\, stakeholder engagement\, human factors and managerial aspects and much more. \nDiscover all topics\, objectives and ways to register here!
URL:https://snetp.eu/event/plim2022-fifth-international-conference-on-nuclear-power-plant-life-management-2022/
LOCATION:Vienna\, Austria\, Vienna\, Austria
END:VEVENT
BEGIN:VEVENT
DTSTART;VALUE=DATE:20221116
DTEND;VALUE=DATE:20221118
DTSTAMP:20260420T094227
CREATED:20221010T090539Z
LAST-MODIFIED:20221010T121222Z
UID:6502-1668556800-1668729599@snetp.eu
SUMMARY:International nuclear Manufacturing Summit 2022
DESCRIPTION:The International Nuclear Manufacturing Summit will take place 16–17 November 2022 in Magna\, Rotherham. \nThe event will focus on the UK supply chain in the global nuclear market as well as provide enhanced networking opportunities for manufacturers. \nFor the latest information on the event\, the agenda and registration head over to the event’s website!
URL:https://snetp.eu/event/international-nuclear-manufacturing-summit-2022/
LOCATION:Magna\, Rotherham
CATEGORIES:Conferences
END:VEVENT
BEGIN:VEVENT
DTSTART;VALUE=DATE:20221018
DTEND;VALUE=DATE:20221021
DTSTAMP:20260420T094227
CREATED:20220414T124557Z
LAST-MODIFIED:20220421T114821Z
UID:5641-1666051200-1666310399@snetp.eu
SUMMARY:DigiDecom 2022
DESCRIPTION:DigiDecom will focus on AI\, data and robotics powered transformation for a sustainable decommissioning in nuclear and other industries and will take place as a hybrid event on 18-20 October. This event will be the first large international workshop organized in collaboration with the DECOM Cluster\, IFE as well as the IAEA\, NEA\, Smart Innovation Norway\, the Halden HTO project\, Actimondo\, NND (Norwegian Nuclear Decommissioning)\, EPRI\, VTT\, the Norwegian Petroleum Society\, and the Net Zero Technology Centre. \nMore information here.
URL:https://snetp.eu/event/digidecom-2022/
LOCATION:Hybrid
CATEGORIES:Workshops, webinars & courses
END:VEVENT
BEGIN:VEVENT
DTSTART;VALUE=DATE:20221003
DTEND;VALUE=DATE:20221007
DTSTAMP:20260420T094227
CREATED:20220412T061538Z
LAST-MODIFIED:20220421T114604Z
UID:5770-1664755200-1665100799@snetp.eu
SUMMARY:ASME Conference on Environmental Remediation and Radioactive Waste Management
DESCRIPTION:The ASME International Conference on Environmental Remediation (Decommissioning\, Decontamination & Demolition) and Radioactive Waste Management (ICEM) will take place from 4-6 October 2022 in Stuttgart\, Germany. \nFocusing on a global exchange on technologies\, operations or even management approaches\, the conference is an opportunity for discussion among specialists\, whether they are managers\, scientists or technology developers. \nFor more information\, visit this website.
URL:https://snetp.eu/event/asme-conference-on-environmental-remediation-and-radioactive-waste-management/
LOCATION:Stuttgart\, Germany
CATEGORIES:Conferences
END:VEVENT
BEGIN:VEVENT
DTSTART;TZID=UTC:20220921T080000
DTEND;TZID=UTC:20220921T170000
DTSTAMP:20260420T094227
CREATED:20220921T150533Z
LAST-MODIFIED:20220921T150533Z
UID:6453-1663747200-1663779600@snetp.eu
SUMMARY:ICAPP - International Congress on Advances in Nuclear Power Plants
DESCRIPTION:The 2023 International Congress on Advances in Nuclear Power Plants (ICAPP) will take place 23-27 April in Gyeongju\, Korea. The event’s registration will open on 30 September 2022 and abstract submissions are due for 31 October 2022. \nMore information about the event\, here!
URL:https://snetp.eu/event/icapp-international-congress-on-advances-in-nuclear-power-plants/
LOCATION:Gyeongju\, Korea
CATEGORIES:Conferences
END:VEVENT
BEGIN:VEVENT
DTSTART;VALUE=DATE:20220921
DTEND;VALUE=DATE:20220924
DTSTAMP:20260420T094227
CREATED:20220720T073430Z
LAST-MODIFIED:20220720T075655Z
UID:6128-1663718400-1663977599@snetp.eu
SUMMARY:CET2022 - Converging Energy Technology
DESCRIPTION:The 2022 CET Conference will be held from 21-23 September\, at Oskarshamn\, Sweden. The event will present new energy technologies and their system aspects at national\, regional\, and local level. Our General Secretariat member Abderrahim Al Mazouzi will represent SNETP at the conference. \nIf you wish to register do so here\, you have until 26 August
URL:https://snetp.eu/event/cet2022-converging-energy-technology/
LOCATION:Oskarshamn\, Sweden
END:VEVENT
BEGIN:VEVENT
DTSTART;VALUE=DATE:20220912
DTEND;VALUE=DATE:20220916
DTSTAMP:20260420T094227
CREATED:20220613T153823Z
LAST-MODIFIED:20220613T153823Z
UID:6011-1662940800-1663286399@snetp.eu
SUMMARY:NENE2022 – 31st International Conference Nuclear Energy for New Europe
DESCRIPTION:The 31st International Conference Nuclear Energy for New Europe\, organized by the Nuclear Society of Slovenia in association with the Jožef Stefan Institute\, Nuclear Training Centre (ICJT) will take place on 12-15 September in Slovenia. \nThe main objective of the event is to allow for an exchange between professionals dealing with different aspects of nuclear energy from all around Europe and worldwide. \nMore information about the event here! \n 
URL:https://snetp.eu/event/nene2022-31st-international-conference-nuclear-energy-for-new-europe/
LOCATION:Portorož\, Slovenia
CATEGORIES:Workshops, webinars & courses
END:VEVENT
BEGIN:VEVENT
DTSTART;VALUE=DATE:20220907
DTEND;VALUE=DATE:20220910
DTSTAMP:20260420T094227
CREATED:20220613T152737Z
LAST-MODIFIED:20220613T152818Z
UID:6008-1662508800-1662767999@snetp.eu
SUMMARY:FORATOM-IAEA: Towards a sustainable nuclear supply chain Forum
DESCRIPTION:Join the 17th edition of the FORATOM-IAEA joint event on Management Systems! The event will take place in Helsinki from 7 to 9 September 2022 and will be discussing topics such as supply chain and management systems within the nuclear industry. \nRegister and find out more about the event here!
URL:https://snetp.eu/event/foratom-iaea-towards-a-sustainable-nuclear-supply-chain-forum/
LOCATION:Helsinki\, Finland
CATEGORIES:Conferences
END:VEVENT
BEGIN:VEVENT
DTSTART;VALUE=DATE:20220907
DTEND;VALUE=DATE:20220910
DTSTAMP:20260420T094227
CREATED:20220421T115151Z
LAST-MODIFIED:20220421T115151Z
UID:5828-1662508800-1662767999@snetp.eu
SUMMARY:World Nuclear Symposium 2022
DESCRIPTION:The World Nuclear Symposium will take place on 7-9 September 2022 in London\, UK. It will bring together nuclear industry leaders\, experts and executives to share ideas and information to make nuclear energy a key contributor to the transition towards a clean and sustainable world. \nFor more information\, please visit this website.
URL:https://snetp.eu/event/world-nuclear-symposium-2022/
LOCATION:London\, UK
CATEGORIES:Conferences
END:VEVENT
BEGIN:VEVENT
DTSTART;VALUE=DATE:20220906
DTEND;VALUE=DATE:20220908
DTSTAMP:20260420T094227
CREATED:20220718T072321Z
LAST-MODIFIED:20220719T095655Z
UID:6122-1662422400-1662595199@snetp.eu
SUMMARY:PUMMA Workshop on Fuel Behavior
DESCRIPTION:The PUMMA workshop on Fuel Behavior will be held on 6 & 7 September in Petten\, Netherlands. The workshop will focus on fuel behavior and fuel modeling for nominal and accidental conditions. Non-PUMMA consortium members are welcome to participate virtually. \nMore information about the event and registration here! \n 
URL:https://snetp.eu/event/pumma-workshop-on-fuel-behavior/
LOCATION:Petten\, Netherlands
CATEGORIES:Workshops, webinars & courses
END:VEVENT
BEGIN:VEVENT
DTSTART;VALUE=DATE:20220828
DTEND;VALUE=DATE:20220908
DTSTAMP:20260420T094227
CREATED:20220804T115935Z
LAST-MODIFIED:20220804T115935Z
UID:6165-1661644800-1662595199@snetp.eu
SUMMARY:Train the trainers
DESCRIPTION:The Slovak University of Technology in Bratislava\, the Budapest University of Technology and Economics\, and the Jožef Stefan Institute\, as members of the European Nuclear Experimental Educational Platform (ENEEP)\, are organising the training course „Train the trainers“ that will take place from 28 August to 7 September 2022 at three ENEEP partner institutions\, i.e. STU in Bratislava\, BME in Budapest and JSI in Ljubljana. \nThe aim of the course is to demonstrate the capabilities of the ENEEP platform to organize compact joint courses at several institutes as a showcase of the ENEEP platform for young trainers and university teachers\, who can bring their findings back to their home institutes and present them to their students who can attend the new courses and E&T activities in the future.  Therefore\, the course is aimed at trainers from industrial companies\, university lecturers and professors teaching nuclear engineering\, nuclear physics\, or numerical simulations. It is also suitable for teachers and lecturers of power engineering\, mechanical engineering\, and electrical engineering involved in education programmes including subjects related to nuclear engineering or nuclear power plants. \nSince the “Train the trainers” courses is still organized from the funds of the ENEEP project\, the selected participants from eligible countries can attend the course for free and will be given a support of 1950 EUR to cover the costs related to attending the three venues. Participants for non eligible countries will be charged a course fee of 4 500 EUR. \nFor more information about the courses\, please click here. \nThe application is now open using the following link.
URL:https://snetp.eu/event/train-the-trainers/
CATEGORIES:Workshops, webinars & courses
END:VEVENT
BEGIN:VEVENT
DTSTART;VALUE=DATE:20220815
DTEND;VALUE=DATE:20220820
DTSTAMP:20260420T094227
CREATED:20220412T062027Z
LAST-MODIFIED:20220412T062027Z
UID:5735-1660521600-1660953599@snetp.eu
SUMMARY:AMS I&C Maintenance Training Course
DESCRIPTION:For a week\, the AMS will hold a course in Knoxville\, Tennessee to discuss the state-of-the-art in maintenance\, troubleshooting\, and aging management techniques for the instrumentation and control (I&C) systems of nuclear facilities. \nYou can already register here!
URL:https://snetp.eu/event/ams-ic-maintenance-training-course/
LOCATION:Knoxville\, Tennessee
CATEGORIES:Workshops, webinars & courses
END:VEVENT
BEGIN:VEVENT
DTSTART;VALUE=DATE:20220720
DTEND;VALUE=DATE:20220721
DTSTAMP:20260420T094227
CREATED:20220613T145259Z
LAST-MODIFIED:20220613T145259Z
UID:6003-1658275200-1658361599@snetp.eu
SUMMARY:DECOM2022
DESCRIPTION:The DECOM2022 will take place on 20 July 2022 in Telford. The event will gather stakeholders from the decommissioning sector and will discuss ways to reduce nuclear liabilities. \n  \nFind out more about the event and register  here!
URL:https://snetp.eu/event/decom2022/
LOCATION:Telford
CATEGORIES:Workshops, webinars & courses
END:VEVENT
BEGIN:VEVENT
DTSTART;VALUE=DATE:20220718
DTEND;VALUE=DATE:20220721
DTSTAMP:20260420T094228
CREATED:20220412T061221Z
LAST-MODIFIED:20220412T061221Z
UID:5768-1658102400-1658361599@snetp.eu
SUMMARY:Post-SMiRT 26 Seminar
DESCRIPTION:The upcoming Post-SMiRT 26 Seminar in Zurich\, Switzerland will take place from 18 to 20 July 2022. \nThe seminar will address the safety of nuclear installations by exchanging knowledge gathered recently. \nFor more information\, please click here.
URL:https://snetp.eu/event/post-smirt-26-seminar/
LOCATION:Zurich\, Switzerland
CATEGORIES:Workshops, webinars & courses
END:VEVENT
BEGIN:VEVENT
DTSTART;VALUE=DATE:20220717
DTEND;VALUE=DATE:20220720
DTSTAMP:20260420T094228
CREATED:20220627T092553Z
LAST-MODIFIED:20220627T124740Z
UID:6087-1658016000-1658275199@snetp.eu
SUMMARY:Global Forum for Nuclear Innovation 2022 - London\, UK
DESCRIPTION:Led by NNL\, IAEA\, OECD-NEA\, EPRI and EDF\, the Global Forum for Nuclear Innovation 2022 will be held 17-19 July at the Institute of Engineering Technology in London\, UK. \nThe Global Forum for Nuclear Innovation 2022 is a sector-wide collective effort to accelerate the cultural and behavioural transformation that is necessary to drive innovation required by the nuclear industry to meet current challenges and enable it to play its critical part in tackling the global climate crisis. \nDiscover the event’s full summary and agenda here! \nYou can also register to the event by heading over to the event’s website or clicking directly here!
URL:https://snetp.eu/event/global-forum-for-nuclear-innovation-2022-london-uk/
LOCATION:London\, UK
END:VEVENT
BEGIN:VEVENT
DTSTART;VALUE=DATE:20220710
DTEND;VALUE=DATE:20220716
DTSTAMP:20260420T094228
CREATED:20200630T095258Z
LAST-MODIFIED:20201218T111244Z
UID:4257-1657411200-1657929599@snetp.eu
SUMMARY:26th International Conference on Structural Mechanics in Reactor Technology (SMiRT 26)
DESCRIPTION:The future of mankind depends on a progressive energy supply. Celebrating the 50th anniversary of our conference series\, SMiRT 26 is set to mark the beginning of a new era and will bring leaders\, managers and engineers from around the world together to drive innovation for safe\, reliable and efficient nuclear energy in the face of the global energy transition. \nMore information here.
URL:https://snetp.eu/event/26th-international-conference-on-structural-mechanics-in-reactor-technology-smirt-26/
LOCATION:Berlin\, Germany
CATEGORIES:Conferences
END:VEVENT
BEGIN:VEVENT
DTSTART;VALUE=DATE:20220628
DTEND;VALUE=DATE:20220701
DTSTAMP:20260420T094228
CREATED:20220412T060910Z
LAST-MODIFIED:20220607T125440Z
UID:5762-1656374400-1656633599@snetp.eu
SUMMARY:TeaM Cables Final Symposium and Training Workshop
DESCRIPTION:The TeaM Cables Final Symposium and Training Workshop will take place from 28-30 June 2022 in Paris\, France. The event will offer a final symposium on Cable Ageing Management applied to Nuclear Power Plants\, as well as a Training Workshop on the TeaM Cables Tool and Non Destructive Techniques. \nYou can register here
URL:https://snetp.eu/event/team-cables-final-symposium-and-training-workshop/
LOCATION:Paris\, France
CATEGORIES:Workshops, webinars & courses
END:VEVENT
BEGIN:VEVENT
DTSTART;VALUE=DATE:20220623
DTEND;VALUE=DATE:20220624
DTSTAMP:20260420T094228
CREATED:20220613T144042Z
LAST-MODIFIED:20220613T144042Z
UID:6000-1655942400-1656028799@snetp.eu
SUMMARY:New Nuclear in the UK and Europe Summit
DESCRIPTION:On June 23rd 2022 will be held the new Nuclear in the UK and Europe Summit in London. Organised by City & Financial Global\, the event will be chaired by r Tim Stone CBE\, Chair of the Nuclear Industry Association and of Nuclear Risk Insurers. \n  \nFind out more about the event here! \n 
URL:https://snetp.eu/event/new-nuclear-in-the-uk-and-europe-summit/
LOCATION:London\, UK
END:VEVENT
BEGIN:VEVENT
DTSTART;VALUE=DATE:20220621
DTEND;VALUE=DATE:20220623
DTSTAMP:20260420T094228
CREATED:20220412T061022Z
LAST-MODIFIED:20220412T061022Z
UID:5756-1655769600-1655942399@snetp.eu
SUMMARY:KERNTECHNIK 2022 Conference
DESCRIPTION:KERNTECHNIK (former AMNT Annual Meeting for Nuclear Technology) brings together operators\, manufacturers\, suppliers\, politics\, authorities and research experts to discuss the nuclear industry and offers exhibitions and workshops.  \nMore information here.
URL:https://snetp.eu/event/kerntechnik-2022-conference/
LOCATION:Leipzig\, Germany
CATEGORIES:Conferences
END:VEVENT
END:VCALENDAR