BEGIN:VCALENDAR
VERSION:2.0
PRODID:-//SNETP - ECPv6.15.12.1//NONSGML v1.0//EN
CALSCALE:GREGORIAN
METHOD:PUBLISH
X-WR-CALNAME:SNETP
X-ORIGINAL-URL:https://snetp.eu
X-WR-CALDESC:Events for SNETP
REFRESH-INTERVAL;VALUE=DURATION:PT1H
X-Robots-Tag:noindex
X-PUBLISHED-TTL:PT1H
BEGIN:VTIMEZONE
TZID:Europe/Paris
BEGIN:DAYLIGHT
TZOFFSETFROM:+0100
TZOFFSETTO:+0200
TZNAME:CEST
DTSTART:20250330T010000
END:DAYLIGHT
BEGIN:STANDARD
TZOFFSETFROM:+0200
TZOFFSETTO:+0100
TZNAME:CET
DTSTART:20251026T010000
END:STANDARD
BEGIN:DAYLIGHT
TZOFFSETFROM:+0100
TZOFFSETTO:+0200
TZNAME:CEST
DTSTART:20260329T010000
END:DAYLIGHT
BEGIN:STANDARD
TZOFFSETFROM:+0200
TZOFFSETTO:+0100
TZNAME:CET
DTSTART:20261025T010000
END:STANDARD
BEGIN:DAYLIGHT
TZOFFSETFROM:+0100
TZOFFSETTO:+0200
TZNAME:CEST
DTSTART:20270328T010000
END:DAYLIGHT
BEGIN:STANDARD
TZOFFSETFROM:+0200
TZOFFSETTO:+0100
TZNAME:CET
DTSTART:20271031T010000
END:STANDARD
END:VTIMEZONE
BEGIN:VEVENT
DTSTART;VALUE=DATE:20260325
DTEND;VALUE=DATE:20260328
DTSTAMP:20260420T080004
CREATED:20251215T111458Z
LAST-MODIFIED:20251215T111458Z
UID:10325-1774396800-1774655999@snetp.eu
SUMMARY:SNETP Forum 2026
DESCRIPTION:Join us at the SNETP Forum 2026 in Madrid\, where leading experts will explore the latest advancements in nuclear technologies! \nThe SNETP Forum 2026 will explore recent technological and scientific progress in advanced nuclear technologies\, including SMRs and AMRs\, safety\, non-electric applications\, long-term operation (LTO)\, and improved NPP performance. The objective is to assess how these innovations can enable the nuclear sector to strengthen its contribution to climate change mitigation and adaptation.  \nBased on results from recent collaborative projects\, the Forum will identify key topics of common interest for the European community\, helping to shape future R&D&I priorities and projects\, and promoting knowledge transfer and harmonisation of best practices across the EU and beyond.  \nThe programme will combine strategic plenary sessions with technical parallel sessions\, ensuring diversity and inclusion of transversal topics such as digitalisation\, integration with other energy sources\, and fuel cycle back-end. Young Generation involvement and collaboration with international networks will be encouraged.  \nLearn more here. \nRegister here.
URL:https://snetp.eu/event/snetp-forum-2026/
LOCATION:Madrid\, Spain
CATEGORIES:Conferences,SNETP events
ATTACH;FMTTYPE=image/png:https://snetp.eu/wp-content/uploads/2025/12/FORUM-2026-FINAL-1.png
END:VEVENT
BEGIN:VEVENT
DTSTART;VALUE=DATE:20260413
DTEND;VALUE=DATE:20260418
DTSTAMP:20260420T080004
CREATED:20260223T101928Z
LAST-MODIFIED:20260223T101949Z
UID:10612-1776038400-1776470399@snetp.eu
SUMMARY:ESARDA course on Nuclear Safeguards and Non-proliferation
DESCRIPTION:General objective \nThe ESARDA course on nuclear safeguards and non-proliferation was set up as a follow-up to the United Nations recommendations on disarmament and non-proliferation education of 2002 (United Nations\, 2002)\, to complement nuclear engineering studies by teaching the technical aspects of safeguards\, contribute to a two-fold scientific-technical and political-juridical education\, and stimulate interest in this multi-disciplinary field. \nThe ESARDA course is of major importance for technical knowledge retention and for enrolling the younger generation in the nuclear safeguards field\, since it deals specifically with technical aspects and application of safeguards and non-proliferation tools\, including examples of in-field implementation of the safeguards principles and methodology at the different nuclear facilities. \nA maximum of 34 participants is foreseen (possibility of ENEN2plus mobility grant is being investigated). All participants are requested to attend all sessions. \n\nMore info >
URL:https://snetp.eu/event/esarda-course-on-nuclear-safeguards-and-non-proliferation/
LOCATION:Geel\, Belgium\, EC-JRC Geel Retieseweg 111\, Belgium
CATEGORIES:Conferences,Workshops, webinars & courses
END:VEVENT
BEGIN:VEVENT
DTSTART;TZID=Europe/Paris:20260420T140000
DTEND;TZID=Europe/Paris:20260420T153000
DTSTAMP:20260420T080004
CREATED:20260414T124258Z
LAST-MODIFIED:20260414T124258Z
UID:10824-1776693600-1776699000@snetp.eu
SUMMARY:The LMNPP Network Webinar: Good Practices and Lessons learned from LTO of Nuclear Power Plants and PLiM-6 Conference
DESCRIPTION:20 avril 2026 14:00 – 15:30\n(UTC+02:00) Bruxelles\, Copenhague\, Madrid\, Paris\n\nRegistration >
URL:https://snetp.eu/event/the-lmnpp-network-webinar-good-practices-and-lessons-learned-from-lto-of-nuclear-power-plants-and-plim-6-conference/
LOCATION:Virtual
CATEGORIES:Workshops, webinars & courses
END:VEVENT
BEGIN:VEVENT
DTSTART;TZID=Europe/Paris:20260513T110000
DTEND;TZID=Europe/Paris:20260513T120000
DTSTAMP:20260420T080004
CREATED:20260413T090039Z
LAST-MODIFIED:20260413T090039Z
UID:10807-1778670000-1778673600@snetp.eu
SUMMARY:SNETP webinar : Navigating Euratom 2026-2027 and SNETP project labelling process
DESCRIPTION:[SNETP webinar series] From calls to projects: Navigating Euratom 2026-2027 and SNETP project labelling process \nJoin us on 13 May for our upcoming webinar dedicated to the Euratom Work Programme 2026-2027 and SNETP project labelling process! \nIn the first part\, Roger Garbil (EC\, DG RTD) will present the upcoming Euratom Work Programme 2026-2027\, highlighting key calls priorities and specific features. This will be a valuable opportunity to better understand funding orientations and position your future projects! \nThe second part will focus on SNETP as a facilitator for project creation. Abdou Al Mazouzi (EDF\, SNETP General Secretary) will present how SNETP supports the emergence of collaborative projects\, including the project creation process and labelling procedure\, designed to support the emergence of collaborative projects aligned with European strategic priorities. \nWe hope you can join! \n\nRegistration >
URL:https://snetp.eu/event/navigating-euratom-2026-2027-and-snetp-project-labelling-process/
LOCATION:Virtual
CATEGORIES:SNETP events,Workshops, webinars & courses
END:VEVENT
BEGIN:VEVENT
DTSTART;VALUE=DATE:20260518
DTEND;VALUE=DATE:20260523
DTSTAMP:20260420T080004
CREATED:20250522T080547Z
LAST-MODIFIED:20250522T080547Z
UID:9701-1779062400-1779494399@snetp.eu
SUMMARY:ERMSAR 2026 – 12th Conference on Severe Accidents Research
DESCRIPTION:We are pleased to announce the 12th edition of the European Review Meeting on Severe Accidents Research (ERMSAR 2026)\, taking place May 18–22\, 2026 in Madrid\, Spain\, at the Universidad Carlos III – Puerta de Toledo Campus. \nOrganized by CIEMAT under the SEAKNOT project and NUGENIA TA2\, ERMSAR remains the only international conference fully dedicated to severe accident research in nuclear energy. \nKey Topics Include: \n\nIn-vessel and ex-vessel corium behavior\nHydrogen explosion risks and containment issues\nSource term\, accident management\, and consequences\nSevere accidents in Gen I/III\, Gen IV\, SMRs\, fusion\, ATFs\, and more\n\nImportant Dates: \n\nAbstract submission deadline: August 31\, 2025\nFull paper deadline: November 30\, 2025\n\nPresentation Formats: \nOral and poster sessions. English is the official language. \nRegistration: \n\nEarly bird (before Jan 31\, 2026): €550 (delegates) / €375 (students)\nStandard (from Feb 1\, 2026): €700 / €525\nFees include lunches and refreshments.\n\n\n\nView event flyer
URL:https://snetp.eu/event/ermsar-2026-12th-conference-on-severe-accidents-research/
LOCATION:Madrid\, Spain
CATEGORIES:Conferences,Project events
END:VEVENT
BEGIN:VEVENT
DTSTART;VALUE=DATE:20260521
DTEND;VALUE=DATE:20260523
DTSTAMP:20260420T080004
CREATED:20260223T102130Z
LAST-MODIFIED:20260223T102130Z
UID:10615-1779321600-1779494399@snetp.eu
SUMMARY:ESARDA/INMM/INMMJ joint workshop on safeguards by design on SMRs and AMRs
DESCRIPTION:The ESARDA/INMM/INMMJ Joint Workshop on Safeguards by Design on SMRs and AMRs will also take place in the European Convention Centre\, Luxemburg\, from 21st to 22nd of May 2026. \n\nThis event will be organized in the margins of the ESARDA Annual Meeting and will be connected to it. For this event\, we will also value a hight level of participation from the industrial sector. \nParticipation is free of charge and will be limited to 200 people. \nMore info >
URL:https://snetp.eu/event/esarda-inmm-inmmj-joint-workshop-on-safeguards-by-design-on-smrs-and-amrs/
LOCATION:Luxembourg\, Luxembourg
CATEGORIES:Conferences,Workshops, webinars & courses
END:VEVENT
BEGIN:VEVENT
DTSTART;VALUE=DATE:20260526
DTEND;VALUE=DATE:20260530
DTSTAMP:20260420T080004
CREATED:20260203T084916Z
LAST-MODIFIED:20260203T084916Z
UID:10536-1779753600-1780099199@snetp.eu
SUMMARY:EUROMOST 2026
DESCRIPTION:1st European Conference on Molten Salt Reactor Technology (EUROMOST) will be hosted in the elegant and historic city of Baden-Baden\, Germany organised by the Joint Research Centre (JRC).\n\nRegistration\nThe event is free of charge\, but registration is mandatory and subject to approval due to limited seating capacity. \n\nMore info >
URL:https://snetp.eu/event/euromost-2026/
LOCATION:baden\, Germany
CATEGORIES:Conferences
END:VEVENT
BEGIN:VEVENT
DTSTART;VALUE=DATE:20260601
DTEND;VALUE=DATE:20260603
DTSTAMP:20260420T080004
CREATED:20260203T085153Z
LAST-MODIFIED:20260203T085153Z
UID:10539-1780272000-1780444799@snetp.eu
SUMMARY:Nuclear Europe 2026
DESCRIPTION:Powering a sovereign EU\nThis year’s event will focus on shoring up energy sovereignty in the EU with the aim of ensuring security of supply\, industrial competitiveness and achieving our climate goals. Topics to be tackled include  \n\nEU energy policy and 2040 framework\nElectrification\, Heat & hydrogen\nAI & Industry \nRole of SMRs/AMRs \nFinancing \nMedical applications \n\n\nMore info >
URL:https://snetp.eu/event/nuclear-europe-2026/
LOCATION:Brussels\, Belgium
CATEGORIES:Conferences
END:VEVENT
BEGIN:VEVENT
DTSTART;VALUE=DATE:20260707
DTEND;VALUE=DATE:20260711
DTSTAMP:20260420T080004
CREATED:20260223T102328Z
LAST-MODIFIED:20260223T102328Z
UID:10618-1783382400-1783727999@snetp.eu
SUMMARY:fiv2026 : Flow-Induced Vibration 2026
DESCRIPTION:Flow-induced vibration and noise and the physical parameters which control them are of significant importance to design engineers and operators of systems in a wide range of industries ranging from aerospace\, automotive and civil engineering to marine structures\, electricity generation and chemical processing. The potential of these phenomena to cause catastrophic failure to engineering systems and unacceptably high levels of environmental and occupational noise has required that significant effort be dedicated to understanding and mitigating against these challenges in the interests of human safety. \n\nMore info >
URL:https://snetp.eu/event/fiv2026-flow-induced-vibration-2026/
LOCATION:Paris\, France
CATEGORIES:Conferences
END:VEVENT
BEGIN:VEVENT
DTSTART;VALUE=DATE:20261207
DTEND;VALUE=DATE:20261212
DTSTAMP:20260420T080004
CREATED:20260414T124713Z
LAST-MODIFIED:20260414T124713Z
UID:10826-1796601600-1797033599@snetp.eu
SUMMARY:Sixth International Conference on Nuclear Power Plant Life Management (PLiM 6)
DESCRIPTION:The International Atomic Energy Agency’s (IAEA) latest high case projection for nuclear power capacity in 2050 sees a 150% increase from current levels to 992 gigawatts. This reflects decisions around the world supporting the long-term operation (LTO) of existing reactors\, new construction of large nuclear power plants (NPPs)\, and the development and deployment of small modular reactors (SMRs). \nAs of June 2025\, the average age of global operational nuclear power reactors is about 32 years\, with over 67% of the total operating units being more than 30 years old. Approximately 38% of operating units are over 40 years old\, and 9% are over 50 years old. To meet decarbonization and energy security goals\, LTO of nuclear power plants has become a top priority for many nuclear power fleets. \nIn recent years\, international organizations and countries have initiated various projects on LTO beyond 60 years to identify technical gaps and seek innovative solutions to support LTO. \nMore info and registration >
URL:https://snetp.eu/event/sixth-international-conference-on-nuclear-power-plant-life-management-plim-6/
LOCATION:Tokyo\, Japan
CATEGORIES:Conferences
END:VEVENT
END:VCALENDAR