BEGIN:VCALENDAR
VERSION:2.0
PRODID:-//SNETP - ECPv6.15.12.1//NONSGML v1.0//EN
CALSCALE:GREGORIAN
METHOD:PUBLISH
X-WR-CALNAME:SNETP
X-ORIGINAL-URL:https://snetp.eu
X-WR-CALDESC:Events for SNETP
REFRESH-INTERVAL;VALUE=DURATION:PT1H
X-Robots-Tag:noindex
X-PUBLISHED-TTL:PT1H
BEGIN:VTIMEZONE
TZID:Europe/Paris
BEGIN:DAYLIGHT
TZOFFSETFROM:+0100
TZOFFSETTO:+0200
TZNAME:CEST
DTSTART:20190331T010000
END:DAYLIGHT
BEGIN:STANDARD
TZOFFSETFROM:+0200
TZOFFSETTO:+0100
TZNAME:CET
DTSTART:20191027T010000
END:STANDARD
BEGIN:DAYLIGHT
TZOFFSETFROM:+0100
TZOFFSETTO:+0200
TZNAME:CEST
DTSTART:20200329T010000
END:DAYLIGHT
BEGIN:STANDARD
TZOFFSETFROM:+0200
TZOFFSETTO:+0100
TZNAME:CET
DTSTART:20201025T010000
END:STANDARD
BEGIN:DAYLIGHT
TZOFFSETFROM:+0100
TZOFFSETTO:+0200
TZNAME:CEST
DTSTART:20210328T010000
END:DAYLIGHT
BEGIN:STANDARD
TZOFFSETFROM:+0200
TZOFFSETTO:+0100
TZNAME:CET
DTSTART:20211031T010000
END:STANDARD
END:VTIMEZONE
BEGIN:VEVENT
DTSTART;VALUE=DATE:20201102
DTEND;VALUE=DATE:20201107
DTSTAMP:20260420T171213
CREATED:20200630T080836Z
LAST-MODIFIED:20200630T080836Z
UID:4229-1604275200-1604707199@snetp.eu
SUMMARY:International Nuclear Reactor Materials Reliability Conference
DESCRIPTION:The objective of the International Nuclear Reactor Materials Reliability Conference – November 2020 is to gather the leading domestic and international nuclear engineers\, materials scientists\, vendors and consultants in a forum for exploring\, discussing and reporting the latest research\, plant experiences\, analyses\, planning and solutions for increased materials reliability in nuclear power plants components for current and extended periods of operation. The conference will provide a venue for discussion and increased understanding of the latest EPRI research\, as well as the latest academic\, government and industry research and experience on materials issues that are relevant to the continued safety\, reliability and competitiveness of nuclear power plants both domestically and internationally. \n==> Call for abstracts HERE\n \n==> Call for exhibitors and sponsors HERE
URL:https://snetp.eu/event/international-nuclear-reactor-materials-reliability-conference/
LOCATION:New Orleans\, United States
CATEGORIES:Conferences
END:VEVENT
BEGIN:VEVENT
DTSTART;VALUE=DATE:20201021
DTEND;VALUE=DATE:20201024
DTSTAMP:20260420T171213
CREATED:20200630T095650Z
LAST-MODIFIED:20200630T095709Z
UID:4262-1603238400-1603497599@snetp.eu
SUMMARY:Environmentally assisted fatigue in metallic structures: INCEFA + Final seminar and workshop
DESCRIPTION:The seminar will provide insights on environmental fatigue phenomena\, the existing assessment methods\, and an overview of the INCEFA-PLUS project\, including its main findings and results. It will also provide discussion on the future of environmental fatigue assessments and the remaining gaps in the field. \nDue to the current situation related to COVID-19\, in case the Seminar cannot take place physically\, it will be developed virtually. \n==> More information HERE\n \n==> Registration link HERE
URL:https://snetp.eu/event/environmentally-assisted-fatigue-in-metallic-structures-incefa-final-seminar-and-workshop/
LOCATION:Virtual
CATEGORIES:Workshops, webinars & courses
END:VEVENT
BEGIN:VEVENT
DTSTART;VALUE=DATE:20201020
DTEND;VALUE=DATE:20201023
DTSTAMP:20260420T171213
CREATED:20200630T113152Z
LAST-MODIFIED:20200630T113152Z
UID:4278-1603152000-1603411199@snetp.eu
SUMMARY:NUGENIA TA8 – ENIQ Meetings
DESCRIPTION:
URL:https://snetp.eu/event/nugenia-ta8-eniq-meetings/
LOCATION:Ecuelles\, France
CATEGORIES:SNETP meetings
END:VEVENT
BEGIN:VEVENT
DTSTART;VALUE=DATE:20200923
DTEND;VALUE=DATE:20200924
DTSTAMP:20260420T171213
CREATED:20200630T113016Z
LAST-MODIFIED:20200630T113016Z
UID:4275-1600819200-1600905599@snetp.eu
SUMMARY:Additive Manufacturing in Nuclear Applications
DESCRIPTION:The target group for the seminar are people working with maintenance\, material research and plant development in the nuclear sector and people in the additive manufacturing industry that would like to meet with the nuclear industry. \nYou can take a look at the programme here.\nYou can register here.
URL:https://snetp.eu/event/additive-manufacturing-in-nuclear-applications/
LOCATION:Espoo\, Finland
CATEGORIES:Workshops, webinars & courses
END:VEVENT
BEGIN:VEVENT
DTSTART;VALUE=DATE:20200910
DTEND;VALUE=DATE:20200911
DTSTAMP:20260420T171213
CREATED:20200629T165113Z
LAST-MODIFIED:20200629T165113Z
UID:4215-1599696000-1599782399@snetp.eu
SUMMARY:Advanced Technical Ceramics: From research to standardization in Europe
DESCRIPTION:The scientific community will report on objectives and progress in their H2020 program activities and the potential impact on standards for advanced technical ceramics.\nThe standardisation bodies will highlight the essential elements for improving existing standards and drafting new standards based on results of these programs. \nFor more information click here.
URL:https://snetp.eu/event/advanced-technical-ceramics-from-research-to-standardization-in-europe/
LOCATION:La Plaine Saint-Denis\, France
CATEGORIES:Workshops, webinars & courses
END:VEVENT
BEGIN:VEVENT
DTSTART;VALUE=DATE:20200804
DTEND;VALUE=DATE:20200806
DTSTAMP:20260420T171213
CREATED:20200629T164309Z
LAST-MODIFIED:20200629T164439Z
UID:4210-1596499200-1596671999@snetp.eu
SUMMARY:ASME’s Nuclear Engineering Conference
DESCRIPTION:The International Conference on Nuclear Engineering (ICONE) hosted by ASME’s Nuclear Engineering division\, the Japanese Society of Mechanical Engineers\, and the Chinese Nuclear Society is the premier global conference on nuclear reactor technology. \nThis conference is a “must-attend” for anyone who wants to stay technologically current and on top of industry trends and developments. It features industry forums\, technical presentations\, keynote and plenaries\, and poster sessions\, plus workshops where international subject matter experts and future professionals present their views and expertise on current topics of importance to the world-wide nuclear community. \n==> More information HERE
URL:https://snetp.eu/event/asme-nuclear-engineering-conference/
LOCATION:Virtual
CATEGORIES:Conferences
END:VEVENT
BEGIN:VEVENT
DTSTART;VALUE=DATE:20200706
DTEND;VALUE=DATE:20200725
DTSTAMP:20260420T171213
CREATED:20200629T164013Z
LAST-MODIFIED:20200629T164013Z
UID:4208-1593993600-1595635199@snetp.eu
SUMMARY:Seminar on Uncertainty and Best Estimate Analysis Methods (SUNBEAM)
DESCRIPTION:The seminar course provides a transfer of experience and know-how from recognised experts from different organisations (industrial experts\, regulators\, researchers and university professors) in the fields of Best-Estimate Plus Uncertainty approach including uncertainty methodologies and application in licensing framework\, Scaling Analysis\, Validation Process of Evaluation Models\, development and applications of Multi-physics & Multi-scale tools. \nSUNBEAM will address the following subjects for a total of about 70 hours of lecturing: \n\nLicensing Framework and Best Estimate Plus Uncertainty\nBest Estimate System Thermal-Hydraulic Codes and V&V\nScaling Issue and Scaling Analysis\nSensitivity Analysis\nUncertainty Analysis\nProcedures for a Consistent Application of a BEPU Method in Licensing\nBEPU Applications in Safety Analysis and Licensing Framework\nReactor Physics and Fuel Performance Experiments and Uncertainty Analysis\nMulti-Physics Multi-Scale Simulations and BEPU\n\nFinally\, the seminar course contributes to maintaining and increasing technical competence and to ensuring the sustainable development of nuclear technology and is open to universities\, vendors\, national laboratories and regulatory bodies. At least two years’ experience in the field of deterministic safety analysis is needed to participate in the course. A certificate of attendance is released. \n==> More information HERE
URL:https://snetp.eu/event/seminar-on-uncertainty-and-best-estimate-analysis-methods-sunbeam/
CATEGORIES:Workshops, webinars & courses
END:VEVENT
END:VCALENDAR