BEGIN:VCALENDAR
VERSION:2.0
PRODID:-//SNETP - ECPv6.15.12.1//NONSGML v1.0//EN
CALSCALE:GREGORIAN
METHOD:PUBLISH
X-WR-CALNAME:SNETP
X-ORIGINAL-URL:https://snetp.eu
X-WR-CALDESC:Events for SNETP
REFRESH-INTERVAL;VALUE=DURATION:PT1H
X-Robots-Tag:noindex
X-PUBLISHED-TTL:PT1H
BEGIN:VTIMEZONE
TZID:Europe/Paris
BEGIN:DAYLIGHT
TZOFFSETFROM:+0100
TZOFFSETTO:+0200
TZNAME:CEST
DTSTART:20200329T010000
END:DAYLIGHT
BEGIN:STANDARD
TZOFFSETFROM:+0200
TZOFFSETTO:+0100
TZNAME:CET
DTSTART:20201025T010000
END:STANDARD
BEGIN:DAYLIGHT
TZOFFSETFROM:+0100
TZOFFSETTO:+0200
TZNAME:CEST
DTSTART:20210328T010000
END:DAYLIGHT
BEGIN:STANDARD
TZOFFSETFROM:+0200
TZOFFSETTO:+0100
TZNAME:CET
DTSTART:20211031T010000
END:STANDARD
BEGIN:DAYLIGHT
TZOFFSETFROM:+0100
TZOFFSETTO:+0200
TZNAME:CEST
DTSTART:20220327T010000
END:DAYLIGHT
BEGIN:STANDARD
TZOFFSETFROM:+0200
TZOFFSETTO:+0100
TZNAME:CET
DTSTART:20221030T010000
END:STANDARD
END:VTIMEZONE
BEGIN:VEVENT
DTSTART;TZID=Europe/Paris:20210706T150000
DTEND;TZID=Europe/Paris:20210706T173000
DTSTAMP:20260425T004237
CREATED:20210621T122554Z
LAST-MODIFIED:20210621T122554Z
UID:5441-1625583600-1625592600@snetp.eu
SUMMARY:Nuclear AMRC - Advanced Manufacturing for SMR Webinar
DESCRIPTION:The Nuclear AMRC and EPRI are holding a webinar on the latest advances in manufacturing for small modular reactor (SMR) pressure vessels on 6 July from 3:00 to 5:30 pm (CEST). \nThe webinar will disseminate results from a project to investigate disruptive technologies for producing vital assemblies of a 2/3-scale SMR pressure vessel. \nRegistration link here.
URL:https://snetp.eu/event/nuclear-amrc-advanced-manufacturing-for-smr-webinar/
LOCATION:Virtual
CATEGORIES:Workshops, webinars & courses
END:VEVENT
BEGIN:VEVENT
DTSTART;TZID=Europe/Paris:20210716T093000
DTEND;TZID=Europe/Paris:20210716T161500
DTSTAMP:20260425T004237
CREATED:20210708T073855Z
LAST-MODIFIED:20210708T073855Z
UID:5469-1626427800-1626452100@snetp.eu
SUMMARY:Info Day on Euratom Research & Training Programme 2021-2022
DESCRIPTION:The Euratom Information Day will take place virtually on 16 July from 9:30 to 12:30 (CEST) to present the novelties of the Euratom Research and Training Work Programme 2021-2022 and answer questions. You can download the detailed agenda here. The event is accessible without prior registration. \nFor more information\, visit the Horizon Europe Info Days website.
URL:https://snetp.eu/event/info-day-on-euratom-research-training-programme-2021-2022/
LOCATION:Virtual
CATEGORIES:Workshops, webinars & courses
END:VEVENT
END:VCALENDAR