BEGIN:VCALENDAR
VERSION:2.0
PRODID:-//SNETP - ECPv6.15.12.1//NONSGML v1.0//EN
CALSCALE:GREGORIAN
METHOD:PUBLISH
X-ORIGINAL-URL:https://snetp.eu
X-WR-CALDESC:Events for SNETP
REFRESH-INTERVAL;VALUE=DURATION:PT1H
X-Robots-Tag:noindex
X-PUBLISHED-TTL:PT1H
BEGIN:VTIMEZONE
TZID:Europe/Paris
BEGIN:DAYLIGHT
TZOFFSETFROM:+0100
TZOFFSETTO:+0200
TZNAME:CEST
DTSTART:20240331T010000
END:DAYLIGHT
BEGIN:STANDARD
TZOFFSETFROM:+0200
TZOFFSETTO:+0100
TZNAME:CET
DTSTART:20241027T010000
END:STANDARD
BEGIN:DAYLIGHT
TZOFFSETFROM:+0100
TZOFFSETTO:+0200
TZNAME:CEST
DTSTART:20250330T010000
END:DAYLIGHT
BEGIN:STANDARD
TZOFFSETFROM:+0200
TZOFFSETTO:+0100
TZNAME:CET
DTSTART:20251026T010000
END:STANDARD
BEGIN:DAYLIGHT
TZOFFSETFROM:+0100
TZOFFSETTO:+0200
TZNAME:CEST
DTSTART:20260329T010000
END:DAYLIGHT
BEGIN:STANDARD
TZOFFSETFROM:+0200
TZOFFSETTO:+0100
TZNAME:CET
DTSTART:20261025T010000
END:STANDARD
BEGIN:DAYLIGHT
TZOFFSETFROM:+0100
TZOFFSETTO:+0200
TZNAME:CEST
DTSTART:20270328T010000
END:DAYLIGHT
BEGIN:STANDARD
TZOFFSETFROM:+0200
TZOFFSETTO:+0100
TZNAME:CET
DTSTART:20271031T010000
END:STANDARD
END:VTIMEZONE
BEGIN:VEVENT
DTSTART;TZID=Europe/Paris:20251218T130000
DTEND;TZID=Europe/Paris:20251218T140000
DTSTAMP:20260421T205528
CREATED:20251201T132412Z
LAST-MODIFIED:20251201T132506Z
UID:10240-1766062800-1766066400@snetp.eu
SUMMARY:NUGENIA Webinar: Driving Innovation and Collaboration for Safe and Efficient Nuclear Systems
DESCRIPTION:Join us for a dedicated webinar introducing NUGENIA on 18 December\, one of the key pillars of the SNETP Association\, focused on advancing R&D for safe\, reliable and competitive nuclear fission technologies. \nThis session will provide a comprehensive overview of NUGENIA’s mission\, structure\, and activities\, highlighting how it supports collaboration across industry\, research\, and academia in the field of Generation II and III nuclear plants. \nThis will also be an opportunity to present the SNETP Deployment Strategy\, detailing how the initiative is evolving to reinforce SNETP’s global vision\, strengthen synergies within the nuclear community and align with European priorities for clean and sustainable energy. \nWhether you are an active member or a newcomer to SNETP\, this webinar will be an opportunity to: \n\nUnderstand how NUGENIA contributes to Europe’s nuclear innovation landscape\nLearn more about the SNETP Deployment Strategy\nExplore collaboration opportunities within the SNETP ecosystem\n\nThis webinar is for SNETP Members only.
URL:https://snetp.eu/event/nugenia-webinar-driving-innovation-and-collaboration-for-safe-and-efficient-nuclear-systems/
LOCATION:Online
CATEGORIES:SNETP events,Workshops, webinars & courses
ATTACH;FMTTYPE=image/png:https://snetp.eu/wp-content/uploads/2025/12/Webinar-NUGENIA.png
END:VEVENT
BEGIN:VEVENT
DTSTART;VALUE=DATE:20260325
DTEND;VALUE=DATE:20260328
DTSTAMP:20260421T205528
CREATED:20251215T111458Z
LAST-MODIFIED:20251215T111458Z
UID:10325-1774396800-1774655999@snetp.eu
SUMMARY:SNETP Forum 2026
DESCRIPTION:Join us at the SNETP Forum 2026 in Madrid\, where leading experts will explore the latest advancements in nuclear technologies! \nThe SNETP Forum 2026 will explore recent technological and scientific progress in advanced nuclear technologies\, including SMRs and AMRs\, safety\, non-electric applications\, long-term operation (LTO)\, and improved NPP performance. The objective is to assess how these innovations can enable the nuclear sector to strengthen its contribution to climate change mitigation and adaptation.  \nBased on results from recent collaborative projects\, the Forum will identify key topics of common interest for the European community\, helping to shape future R&D&I priorities and projects\, and promoting knowledge transfer and harmonisation of best practices across the EU and beyond.  \nThe programme will combine strategic plenary sessions with technical parallel sessions\, ensuring diversity and inclusion of transversal topics such as digitalisation\, integration with other energy sources\, and fuel cycle back-end. Young Generation involvement and collaboration with international networks will be encouraged.  \nLearn more here. \nRegister here.
URL:https://snetp.eu/event/snetp-forum-2026/
LOCATION:Madrid\, Spain
CATEGORIES:Conferences,SNETP events
ATTACH;FMTTYPE=image/png:https://snetp.eu/wp-content/uploads/2025/12/FORUM-2026-FINAL-1.png
END:VEVENT
BEGIN:VEVENT
DTSTART;TZID=Europe/Paris:20260513T110000
DTEND;TZID=Europe/Paris:20260513T120000
DTSTAMP:20260421T205528
CREATED:20260413T090039Z
LAST-MODIFIED:20260413T090039Z
UID:10807-1778670000-1778673600@snetp.eu
SUMMARY:SNETP webinar : Navigating Euratom 2026-2027 and SNETP project labelling process
DESCRIPTION:[SNETP webinar series] From calls to projects: Navigating Euratom 2026-2027 and SNETP project labelling process \nJoin us on 13 May for our upcoming webinar dedicated to the Euratom Work Programme 2026-2027 and SNETP project labelling process! \nIn the first part\, Roger Garbil (EC\, DG RTD) will present the upcoming Euratom Work Programme 2026-2027\, highlighting key calls priorities and specific features. This will be a valuable opportunity to better understand funding orientations and position your future projects! \nThe second part will focus on SNETP as a facilitator for project creation. Abdou Al Mazouzi (EDF\, SNETP General Secretary) will present how SNETP supports the emergence of collaborative projects\, including the project creation process and labelling procedure\, designed to support the emergence of collaborative projects aligned with European strategic priorities. \nWe hope you can join! \n\nRegistration >
URL:https://snetp.eu/event/navigating-euratom-2026-2027-and-snetp-project-labelling-process/
LOCATION:Virtual
CATEGORIES:SNETP events,Workshops, webinars & courses
END:VEVENT
END:VCALENDAR