BEGIN:VCALENDAR
VERSION:2.0
PRODID:-//SNETP - ECPv6.15.12.1//NONSGML v1.0//EN
CALSCALE:GREGORIAN
METHOD:PUBLISH
X-ORIGINAL-URL:https://snetp.eu
X-WR-CALDESC:Events for SNETP
REFRESH-INTERVAL;VALUE=DURATION:PT1H
X-Robots-Tag:noindex
X-PUBLISHED-TTL:PT1H
BEGIN:VTIMEZONE
TZID:Europe/Paris
BEGIN:DAYLIGHT
TZOFFSETFROM:+0100
TZOFFSETTO:+0200
TZNAME:CEST
DTSTART:20220327T010000
END:DAYLIGHT
BEGIN:STANDARD
TZOFFSETFROM:+0200
TZOFFSETTO:+0100
TZNAME:CET
DTSTART:20221030T010000
END:STANDARD
BEGIN:DAYLIGHT
TZOFFSETFROM:+0100
TZOFFSETTO:+0200
TZNAME:CEST
DTSTART:20230326T010000
END:DAYLIGHT
BEGIN:STANDARD
TZOFFSETFROM:+0200
TZOFFSETTO:+0100
TZNAME:CET
DTSTART:20231029T010000
END:STANDARD
BEGIN:DAYLIGHT
TZOFFSETFROM:+0100
TZOFFSETTO:+0200
TZNAME:CEST
DTSTART:20240331T010000
END:DAYLIGHT
BEGIN:STANDARD
TZOFFSETFROM:+0200
TZOFFSETTO:+0100
TZNAME:CET
DTSTART:20241027T010000
END:STANDARD
END:VTIMEZONE
BEGIN:VEVENT
DTSTART;TZID=Europe/Paris:20230421T093000
DTEND;TZID=Europe/Paris:20230421T120000
DTSTAMP:20260421T072127
CREATED:20230413T142208Z
LAST-MODIFIED:20230413T142725Z
UID:7321-1682069400-1682078400@snetp.eu
SUMMARY:OFFERR Webinar: How to prepare your call proposal
DESCRIPTION:OFFERR is a European project by SNETP\, funded by EURATOM with a budget of €7 million to facilitate international cooperation in nuclear research. Its goal is to provide access to state-of-the-art nuclear infrastructures for R&D experts and channel the financial support provided by EURATOM until 2026. To achieve this\, the project has established a European User Facility Network (EUFN) database and an OFFERR catalogue containing 190+ nuclear research institutions all over Europe for which R&D experts can apply. \nThe project’s first call for proposals was launched on April 3\, 2023\, and is open to project proposals in all research disciplines and topics that align with SNETP’s Strategic Research and Innovation Agenda (SRIA). Project proposals supported by other European associations and organizations acting within EURATOM framework will be also considered. More details on the call and application process can be found on the OFFERR website. \nIf you need further information or clarification for your proposal preparation\, please register for this OFFERR webinar on Friday 21 April\, 09:30 – 12:00 CEST.
URL:https://snetp.eu/event/offerr-webinar/
CATEGORIES:Project events,SNETP events,Workshops, webinars & courses
END:VEVENT
END:VCALENDAR