BEGIN:VCALENDAR
VERSION:2.0
PRODID:-//SNETP - ECPv6.15.12.1//NONSGML v1.0//EN
CALSCALE:GREGORIAN
METHOD:PUBLISH
X-ORIGINAL-URL:https://snetp.eu
X-WR-CALDESC:Events for SNETP
REFRESH-INTERVAL;VALUE=DURATION:PT1H
X-Robots-Tag:noindex
X-PUBLISHED-TTL:PT1H
BEGIN:VTIMEZONE
TZID:Europe/Paris
BEGIN:DAYLIGHT
TZOFFSETFROM:+0100
TZOFFSETTO:+0200
TZNAME:CEST
DTSTART:20220327T010000
END:DAYLIGHT
BEGIN:STANDARD
TZOFFSETFROM:+0200
TZOFFSETTO:+0100
TZNAME:CET
DTSTART:20221030T010000
END:STANDARD
BEGIN:DAYLIGHT
TZOFFSETFROM:+0100
TZOFFSETTO:+0200
TZNAME:CEST
DTSTART:20230326T010000
END:DAYLIGHT
BEGIN:STANDARD
TZOFFSETFROM:+0200
TZOFFSETTO:+0100
TZNAME:CET
DTSTART:20231029T010000
END:STANDARD
BEGIN:DAYLIGHT
TZOFFSETFROM:+0100
TZOFFSETTO:+0200
TZNAME:CEST
DTSTART:20240331T010000
END:DAYLIGHT
BEGIN:STANDARD
TZOFFSETFROM:+0200
TZOFFSETTO:+0100
TZNAME:CET
DTSTART:20241027T010000
END:STANDARD
END:VTIMEZONE
BEGIN:VEVENT
DTSTART;TZID=Europe/Paris:20230314T100000
DTEND;TZID=Europe/Paris:20230314T160000
DTSTAMP:20260421T090453
CREATED:20230220T170328Z
LAST-MODIFIED:20230220T170328Z
UID:7158-1678788000-1678809600@snetp.eu
SUMMARY:SNETPFORWARD Coordinators' Hub Day
DESCRIPTION:An opportunity to share and learn in the EURATOM community \nThe SNETPFORWARD project\, funded by EURATOM and supporting SNETP activities\, is happy to invite coordinators of EU-funded projects under EURATOM to participate in the upcoming Coordinators Hub Day on March 14th at La Maison in Brussels. This event is the chance for coordinators to exchange ideas\, share experiences and learn from one another\, all in close collaboration with representatives from the European Commission. \nBest practices & tools for EU-funded projects \nSNETP provides a project portfolio service that labels EU-funded projects based on their strategy and pillars. It supports them in particular in their communication and dissemination activities. This day-long gathering will therefore provide coordinators with the opportunity to discuss best practices for overcoming common difficulties in areas such as project management\, reporting\, financials\, and more. With the opportunity to learn from your peers\, this is your chance to stay ahead of the curve and on top of the latest developments in the EURATOM community. This event offers the opportunity to highlight projects\, but will also focus on: \n\nAccess to information and specific tools for education and training (E&T) actions\, as all EU-funded projects must allocate 5 to 10% of their budget for this purpose.\nFocus on communication\, dissemination and clustering activities in order to develop a network\, leverage diverse experiences and identify best practices for future implementation.\nUse national contact points\, networks\, associations to support or complement project proposal.\n\nYou can find the detailed agenda here. \nWe encourage all coordinators to register here as soon as possible as places are limited and will be allocated on a first come\, first served basis.
URL:https://snetp.eu/event/snetpforward-coordinators-hub-day/
LOCATION:Brussels\, Belgium
CATEGORIES:SNETP events,SNETP meetings
END:VEVENT
END:VCALENDAR