BEGIN:VCALENDAR
VERSION:2.0
PRODID:-//SNETP - ECPv6.15.12.1//NONSGML v1.0//EN
CALSCALE:GREGORIAN
METHOD:PUBLISH
X-WR-CALNAME:SNETP
X-ORIGINAL-URL:https://snetp.eu
X-WR-CALDESC:Events for SNETP
REFRESH-INTERVAL;VALUE=DURATION:PT1H
X-Robots-Tag:noindex
X-PUBLISHED-TTL:PT1H
BEGIN:VTIMEZONE
TZID:Europe/Paris
BEGIN:DAYLIGHT
TZOFFSETFROM:+0100
TZOFFSETTO:+0200
TZNAME:CEST
DTSTART:20240331T010000
END:DAYLIGHT
BEGIN:STANDARD
TZOFFSETFROM:+0200
TZOFFSETTO:+0100
TZNAME:CET
DTSTART:20241027T010000
END:STANDARD
BEGIN:DAYLIGHT
TZOFFSETFROM:+0100
TZOFFSETTO:+0200
TZNAME:CEST
DTSTART:20250330T010000
END:DAYLIGHT
BEGIN:STANDARD
TZOFFSETFROM:+0200
TZOFFSETTO:+0100
TZNAME:CET
DTSTART:20251026T010000
END:STANDARD
BEGIN:DAYLIGHT
TZOFFSETFROM:+0100
TZOFFSETTO:+0200
TZNAME:CEST
DTSTART:20260329T010000
END:DAYLIGHT
BEGIN:STANDARD
TZOFFSETFROM:+0200
TZOFFSETTO:+0100
TZNAME:CET
DTSTART:20261025T010000
END:STANDARD
BEGIN:DAYLIGHT
TZOFFSETFROM:+0100
TZOFFSETTO:+0200
TZNAME:CEST
DTSTART:20270328T010000
END:DAYLIGHT
BEGIN:STANDARD
TZOFFSETFROM:+0200
TZOFFSETTO:+0100
TZNAME:CET
DTSTART:20271031T010000
END:STANDARD
END:VTIMEZONE
BEGIN:VEVENT
DTSTART;TZID=Europe/Paris:20251128T130000
DTEND;TZID=Europe/Paris:20251128T140000
DTSTAMP:20260421T131357
CREATED:20251021T133254Z
LAST-MODIFIED:20251021T135042Z
UID:10107-1764334800-1764338400@snetp.eu
SUMMARY:9th SNETP PROJECT PORTFOLIO WEBINAR – GEMINI 4.0\, PIANOFORTE
DESCRIPTION:Join us for the 9th webinar in the SNETP 2025 Project Portfolio Series on 28 November\, from 13:00 – 14:00 CET\, where we will spotlight two key Euratom-funded projects. \n  \nThis session will provide updates on: \n\nGEMINI 4.0 (GEMINI For Zero Emission) aims to build a low-carbon future for industry based on the experience gained through the operation of HTR and knowledge of hydrogen production processes acquired in the previous H2020 project GEMINI+. The project aims to demonstrate that the GEMINI+ system can\, in addition to CO2 free process heat\, provide a global solution for the competitive and safe decarbonisation of industrial activities\, and confirm that this new form of poly-generation of various energy products does not negatively affect the safety of the combined plant.\nPIANOFORTE (Partnership for european research in radiation protection and detection of ionising radiation : towards a safer use and improved protection of the environment and human health) contributes to improving the protection of the public\, workers\, patients and the environment from environmental\, occupational and medical exposure to ionising radiation. By establishing a comprehensive pan-European scientific and technological foundation\, PIANOFORTE aims to support a robust radiological protection system and to develop consolidated\, science-based policy recommendations for decision-makers across diverse sectors that utilise ionising radiation\, both energy and non-energy related.\n\nThroughout the webinar\, you’ll have the opportunity to engage with the SNETP community\, ask questions\, and share insights on the future of nuclear in Europe.
URL:https://snetp.eu/event/9th-snetp-project-portfolio-webinar-gemini-4-0-pianoforte/
LOCATION:Online
CATEGORIES:Project events,SNETP events,Workshops, webinars & courses
ATTACH;FMTTYPE=image/png:https://snetp.eu/wp-content/uploads/2025/10/SNETP-Project-Portfolio-Webinar-8-1.png
END:VEVENT
BEGIN:VEVENT
DTSTART;VALUE=DATE:20251208
DTEND;VALUE=DATE:20251213
DTSTAMP:20260421T131357
CREATED:20250304T094928Z
LAST-MODIFIED:20250304T094928Z
UID:9333-1765152000-1765583999@snetp.eu
SUMMARY:Great Pioneer: Core Modelling for Core Design course
DESCRIPTION:Sign up for a course on “Core Modelling for Core Design” (3 ECTS). Registrations will open on September 8th\, 2025.  \nThis course aims to enable students to master the methods used for the neutron transport modelling at the core level in steady-state conditions using Monte Carlo and deterministic methods. \nThe pedagogical format of the course is based on a hybrid flipped classroom. In this format\, you need to complete some preparatory work (representing about 40 hours of work) before attending interactive classes organized during 5 consecutive days (representing about 40 hours of work). Those classes are given in a hybrid set-up\, with participants following the classes either onsite or remotely on the web. Research in engineering education demonstrated that such a teaching format leads to better learning outcomes and increases the interactions between the students and the teachers.  \nOnline self-paced learning phase taking place between November 7th\, 2025\, and December 5th\, 2025. Synchronous activities offered between December 8th\, 2025\, and December 12th\, 2025 (those activities can be attended online or onsite at Chalmers University of Technology\, Gothenburg\, Sweden).  \nInterested? Head over to the Great-Pioneer website to learn more.  
URL:https://snetp.eu/event/great-pioneer-core-modelling-for-core-design-course/
LOCATION:Göteborg\, Sweden
CATEGORIES:Project events,Workshops, webinars & courses
END:VEVENT
BEGIN:VEVENT
DTSTART;VALUE=DATE:20251216
DTEND;VALUE=DATE:20251219
DTSTAMP:20260421T131357
CREATED:20250611T100250Z
LAST-MODIFIED:20250611T100250Z
UID:9824-1765843200-1766102399@snetp.eu
SUMMARY:INTERNATIONAL WORKSHOP ON THERMAL-HYDRAULIC SCALING FOR SMR SAFETY DEMONSTRATION
DESCRIPTION:The “INTERNATIONAL WORKSHOP ON THERMAL-HYDRAULIC SCALING FOR SMR SAFETY DEMONSTRATION” Organized by ENEA in collaboration with EDF and UNIROMA1 as part of the European EASI-SMR project\, aims to foster the international exchange of methodologies and best practices related to thermal-hydraulic scaling in the context of Small Modular Reactor (SMR) safety demonstration. The workshop brings together experts from the EASI-SMR project and internationally recognized specialists to address key challenges in applying scaling methodologies to experimental thermal-hydraulic research for SMRs. Discussions will focus on the identification of relevant physical phenomena\, the critical analysis of scaling methodologies\, and the role of both integral and separate-effect tests in supporting safety demonstration. The outcomes will contribute to the characterization of new experimental facilities developed within the EASI-SMR project and provide a comprehensive overview of the current state-of-the-art in thermal-hydraulic scaling for SMRs.
URL:https://snetp.eu/event/international-workshop-on-thermal-hydraulic-scaling-for-smr-safety-demonstration/
LOCATION:Bologna\, Italy
CATEGORIES:Project events,Workshops, webinars & courses
END:VEVENT
BEGIN:VEVENT
DTSTART;VALUE=DATE:20260112
DTEND;VALUE=DATE:20260117
DTSTAMP:20260421T131357
CREATED:20250304T095053Z
LAST-MODIFIED:20250304T095053Z
UID:9335-1768176000-1768607999@snetp.eu
SUMMARY:Great Pioneer: Core modelling for transients’ course
DESCRIPTION:Sign up for a course on “Core modelling for transients” (3 ECTS). Registrations will open on October 13th\, 2025.  \nThis course deals with the modelling of nuclear reactors in transient conditions\, focusing on the modelling of neutron transport\, heat transfer\, fluid dynamics\, fuel thermos-mechanics\, and their interdependencies. \nThe pedagogical format of the course is based on a hybrid flipped classroom. In this format\, you need to complete some preparatory work (representing about 40 hours of work) before attending interactive classes organized during 5 consecutive days (representing about 40 hours of work). Those classes are given in a hybrid set-up\, with participants following the classes either onsite or remotely on the web. Research in engineering education demonstrated that such a teaching format leads to better learning outcomes and increases the interactions between the students and the teachers.  \nOnline self-paced learning phase taking place between December 12\, 2025\, and January 9th\, 2026. Synchronous activities offered between January 12th\, 2026\, and January 16th\, 2026 (those activities can be attended online or onsite at Chalmers University of Technology\, Gothenburg\, Sweden).  \nInterested? Head over to the Great-Pioneer website to learn more.  
URL:https://snetp.eu/event/great-pioneer-core-modelling-for-transients-course/
LOCATION:Göteborg\, Sweden
CATEGORIES:Project events,Workshops, webinars & courses
END:VEVENT
BEGIN:VEVENT
DTSTART;TZID=Europe/Paris:20260130T130000
DTEND;TZID=Europe/Paris:20260130T140000
DTSTAMP:20260421T131357
CREATED:20260114T135607Z
LAST-MODIFIED:20260114T142850Z
UID:10352-1769778000-1769781600@snetp.eu
SUMMARY:SNETP webinar series: Introducing ASNR's missions\, activities and European perspectives
DESCRIPTION:Join us on 30 January for a dedicated webinar introducing the ASNR! \nDuring the webinar\, the newly formed ASNR\, a merger from the regulatory body and the technical safety organisation in France since 2025\, will be presented. \nA focus will be presented about ASNR’s activities in SNETP since its inception in 2007. \nFurther\, we will address the main missions and duties of ASNR\, in relation with SNETP activities\, in the field of R&D and expertise for nuclear safety and radiation protection. \nWe will finally conclude with a short presentation of our main recent and future interests in EURATOM funded consortia with other organisms.
URL:https://snetp.eu/event/snetp-webinar-series-introducing-asnr-missions-activities-and-european-perspectives/
LOCATION:Online
CATEGORIES:Project events,Workshops, webinars & courses
ATTACH;FMTTYPE=image/png:https://snetp.eu/wp-content/uploads/2026/01/SNETP-Webinar-Series-_-ASNR.png
END:VEVENT
BEGIN:VEVENT
DTSTART;VALUE=DATE:20260223
DTEND;VALUE=DATE:20260228
DTSTAMP:20260421T131357
CREATED:20250304T095255Z
LAST-MODIFIED:20250304T095255Z
UID:9337-1771804800-1772236799@snetp.eu
SUMMARY:Great Pioneer: Reactor transients\, nuclear safety and uncertainty and sensitivity analysis course
DESCRIPTION:Sign up for a course on “Reactor transients\, nuclear safety and uncertainty and sensitivity analysis” (3 ECTS). Registrations will open on November 24th\, 2025.  \nThis course aims at giving the participants a full and comprehensive overview of:   \n\nThe principles of nuclear reactor safety and system behaviour from the point of view of nuclear safety.  \n\n\nThe principles of uncertainty and sensitivity analysis applied to nuclear reactor simulations and their importance in the evaluation of the simulations’ results.  \n\nThe pedagogical format of the course is based on a hybrid flipped classroom. In this format\, you need to complete some preparatory work (representing about 40 hours of work) before attending interactive classes organized during 5 consecutive days (representing about 40 hours of work). Those classes are given in a hybrid set-up\, with participants following the classes either onsite or remotely on the web. Research in engineering education demonstrated that such a teaching format leads to better learning outcomes and increases the interactions between the students and the teachers.  \nOnline self-paced learning phase taking place between January 23rd\, 2026\, and February 20th\, 2026. Synchronous activities offered between February 23rd\, 2026\, and February 27th\, 2026 (those activities can be attended online or onsite at Chalmers University of Technology\, Gothenburg\, Sweden). \nInterested? Head over to the Great-Pioneer website to learn more.  
URL:https://snetp.eu/event/great-pioneer-reactor-transients-nuclear-safety-and-uncertainty-and-sensitivity-analysis-course/
LOCATION:Göteborg\, Sweden
CATEGORIES:Project events,Workshops, webinars & courses
END:VEVENT
BEGIN:VEVENT
DTSTART;VALUE=DATE:20260518
DTEND;VALUE=DATE:20260523
DTSTAMP:20260421T131357
CREATED:20250522T080547Z
LAST-MODIFIED:20250522T080547Z
UID:9701-1779062400-1779494399@snetp.eu
SUMMARY:ERMSAR 2026 – 12th Conference on Severe Accidents Research
DESCRIPTION:We are pleased to announce the 12th edition of the European Review Meeting on Severe Accidents Research (ERMSAR 2026)\, taking place May 18–22\, 2026 in Madrid\, Spain\, at the Universidad Carlos III – Puerta de Toledo Campus. \nOrganized by CIEMAT under the SEAKNOT project and NUGENIA TA2\, ERMSAR remains the only international conference fully dedicated to severe accident research in nuclear energy. \nKey Topics Include: \n\nIn-vessel and ex-vessel corium behavior\nHydrogen explosion risks and containment issues\nSource term\, accident management\, and consequences\nSevere accidents in Gen I/III\, Gen IV\, SMRs\, fusion\, ATFs\, and more\n\nImportant Dates: \n\nAbstract submission deadline: August 31\, 2025\nFull paper deadline: November 30\, 2025\n\nPresentation Formats: \nOral and poster sessions. English is the official language. \nRegistration: \n\nEarly bird (before Jan 31\, 2026): €550 (delegates) / €375 (students)\nStandard (from Feb 1\, 2026): €700 / €525\nFees include lunches and refreshments.\n\n\n\nView event flyer
URL:https://snetp.eu/event/ermsar-2026-12th-conference-on-severe-accidents-research/
LOCATION:Madrid\, Spain
CATEGORIES:Conferences,Project events
END:VEVENT
END:VCALENDAR